Workbook

Sheet README
B1: DCT Laboratory — Vol I, Ch 2: Enterprise Systems and Transformation
B2: Seed 26102 · Companion to DCT_V1_Ch02_Lab.ipynb and AXIOM-02.
B4: Open enterprise system: x(k+1) = x(k) + dt·(a·(x_env − x(k)) + b·u(k)); feedback u = K·(x* − x).
B5: LEGEND — pale-gold cells on 'Parameters' are the editable inputs; everything else recalculates.
B6: Assumption: illustrative teaching calibration (book §2.5, Definition: Enterprise Feedback).

Sheet Parameters
A1: Name | B1: Value
A2: dt | B2: 0.083333333
A3: a (env pull) | B3: 0.8
A4: b (control gain) | B4: 0.5
A5: K (feedback) | B5: 1.6
A6: x0 | B6: 68
A7: x_env | B7: 60
A8: x_star | B8: 75
A10: Boundary panel
A11: Subsystem | B11: State | C11: Weight B1 | D11: Weight B2
A12: Industrial | B12: 72 | C12: 0.45 | D12: 0.4
A13: Digital | B13: 61 | C13: 0.3 | D13: 0.27
A14: Shared services | B14: 58 | C14: 0.25 | D14: 0.22
A15: Ventures | B15: 80 | C15: 0 | D15: 0.11

Sheet Simulation
A1: k | B1: t (yrs) | C1: x open loop | D1: u (feedback) | E1: x closed loop
A2: 0 | B2: =A2*Parameters!$B$2 -> 0 | C2: =Parameters!$B$6 -> 68 | D2: =Parameters!$B$5*(Parameters!$B$8-E2) -> 11.2 | E2: =Parameters!$B$6 -> 68
A3: 1 | B3: =A3*Parameters!$B$2 -> 0.083333333 | C3: =C2+Parameters!$B$2*Parameters!$B$3*(Parameters!$B$7-C2) -> 67.466667 | D3: =Parameters!$B$5*(Parameters!$B$8-E3) -> 11.306667 | E3: =E2+Parameters!$B$2*(Parameters!$B$3*(Parameters!$B$7-E2)+Parameters!$B$4*D2) -> 67.933333
A4: 2 | B4: =A4*Parameters!$B$2 -> 0.16666667 | C4: =C3+Parameters!$B$2*Parameters!$B$3*(Parameters!$B$7-C3) -> 66.968889 | D4: =Parameters!$B$5*(Parameters!$B$8-E4) -> 11.399111 | E4: =E3+Parameters!$B$2*(Parameters!$B$3*(Parameters!$B$7-E3)+Parameters!$B$4*D3) -> 67.875556
A5: 3 | B5: =A5*Parameters!$B$2 -> 0.25 | C5: =C4+Parameters!$B$2*Parameters!$B$3*(Parameters!$B$7-C4) -> 66.504296 | D5: =Parameters!$B$5*(Parameters!$B$8-E5) -> 11.47923 | E5: =E4+Parameters!$B$2*(Parameters!$B$3*(Parameters!$B$7-E4)+Parameters!$B$4*D4) -> 67.825481
A6: 4 | B6: =A6*Parameters!$B$2 -> 0.33333333 | C6: =C5+Parameters!$B$2*Parameters!$B$3*(Parameters!$B$7-C5) -> 66.070677 | D6: =Parameters!$B$5*(Parameters!$B$8-E6) -> 11.548666 | E6: =E5+Parameters!$B$2*(Parameters!$B$3*(Parameters!$B$7-E5)+Parameters!$B$4*D5) -> 67.782084
A7: 5 | B7: =A7*Parameters!$B$2 -> 0.41666667 | C7: =C6+Parameters!$B$2*Parameters!$B$3*(Parameters!$B$7-C6) -> 65.665965 | D7: =Parameters!$B$5*(Parameters!$B$8-E7) -> 11.608844 | E7: =E6+Parameters!$B$2*(Parameters!$B$3*(Parameters!$B$7-E6)+Parameters!$B$4*D6) -> 67.744473
A8: 6 | B8: =A8*Parameters!$B$2 -> 0.5 | C8: =C7+Parameters!$B$2*Parameters!$B$3*(Parameters!$B$7-C7) -> 65.288234 | D8: =Parameters!$B$5*(Parameters!$B$8-E8) -> 11.660998 | E8: =E7+Parameters!$B$2*(Parameters!$B$3*(Parameters!$B$7-E7)+Parameters!$B$4*D7) -> 67.711876
A9: 7 | B9: =A9*Parameters!$B$2 -> 0.58333333 | C9: =C8+Parameters!$B$2*Parameters!$B$3*(Parameters!$B$7-C8) -> 64.935685 | D9: =Parameters!$B$5*(Parameters!$B$8-E9) -> 11.706198 | E9: =E8+Parameters!$B$2*(Parameters!$B$3*(Parameters!$B$7-E8)+Parameters!$B$4*D8) -> 67.683626
A10: 8 | B10: =A10*Parameters!$B$2 -> 0.66666667 | C10: =C9+Parameters!$B$2*Parameters!$B$3*(Parameters!$B$7-C9) -> 64.606639 | D10: =Parameters!$B$5*(Parameters!$B$8-E10) -> 11.745372 | E10: =E9+Parameters!$B$2*(Parameters!$B$3*(Parameters!$B$7-E9)+Parameters!$B$4*D9) -> 67.659143
A11: 9 | B11: =A11*Parameters!$B$2 -> 0.75 | C11: =C10+Parameters!$B$2*Parameters!$B$3*(Parameters!$B$7-C10) -> 64.29953 | D11: =Parameters!$B$5*(Parameters!$B$8-E11) -> 11.779322 | E11: =E10+Parameters!$B$2*(Parameters!$B$3*(Parameters!$B$7-E10)+Parameters!$B$4*D10) -> 67.637924
A12: 10 | B12: =A12*Parameters!$B$2 -> 0.83333333 | C12: =C11+Parameters!$B$2*Parameters!$B$3*(Parameters!$B$7-C11) -> 64.012895 | D12: =Parameters!$B$5*(Parameters!$B$8-E12) -> 11.808746 | E12: =E11+Parameters!$B$2*(Parameters!$B$3*(Parameters!$B$7-E11)+Parameters!$B$4*D11) -> 67.619534
A13: 11 | B13: =A13*Parameters!$B$2 -> 0.91666667 | C13: =C12+Parameters!$B$2*Parameters!$B$3*(Parameters!$B$7-C12) -> 63.745368 | D13: =Parameters!$B$5*(Parameters!$B$8-E13) -> 11.834246 | E13: =E12+Parameters!$B$2*(Parameters!$B$3*(Parameters!$B$7-E12)+Parameters!$B$4*D12) -> 67.603596
A14: 12 | B14: =A14*Parameters!$B$2 -> 1 | C14: =C13+Parameters!$B$2*Parameters!$B$3*(Parameters!$B$7-C13) -> 63.495677 | D14: =Parameters!$B$5*(Parameters!$B$8-E14) -> 11.856347 | E14: =E13+Parameters!$B$2*(Parameters!$B$3*(Parameters!$B$7-E13)+Parameters!$B$4*D13) -> 67.589783
... A62: 60 | B62: =A62*Parameters!$B$2 -> 5 | C62: =C61+Parameters!$B$2*Parameters!$B$3*(Parameters!$B$7-C61) -> 60.127437 | D62: =Parameters!$B$5*(Parameters!$B$8-E62) -> 11.999851 | E62: =E61+Parameters!$B$2*(Parameters!$B$3*(Parameters!$B$7-E61)+Parameters!$B$4*D61) -> 67.500093

Sheet Reference_Values
A1: Checkpoint | B1: Engine value | C1: Meaning
A2: open_loop_t5.0 | B2: 60.1274 | C2: Drift to the environment, u=0
A3: closed_loop_t5.0 | B3: 67.5001 | C3: Feedback holds near target
A4: feedback_gap_t5.0 | B4: 7.3727 | C4: What the feedback law buys
A5: closed_loop_t1.0 | B5: 67.5898 | C5: Closed loop after one year
A6: aggregate_B1 | B6: 65.2 | C6: Weighted aggregate, Ventures outside
A7: aggregate_B2 | B7: 66.83 | C7: Ventures inside
A8: boundary_shift | B8: 1.63 | C8: Same enterprise, different boundary

Sheet Checks
A1: Checkpoint | B1: Workbook formula value | C1: Engine value | D1: |diff| | E1: Status
A2: open_loop_t5.0 | B2: =Simulation!C62 -> 60.127437 | C2: =Reference_Values!B2 -> 60.1274 | D2: =ABS(B2-C2) -> 3.7306691e-05 | E2: =IF(D2<0.0005,"PASS","FAIL") -> PASS
A3: closed_loop_t5.0 | B3: =Simulation!E62 -> 67.500093 | C3: =Reference_Values!B3 -> 67.5001 | D3: =ABS(B3-C3) -> 6.6540243e-06 | E3: =IF(D3<0.0005,"PASS","FAIL") -> PASS
A4: feedback_gap_t5.0 | B4: =Simulation!E62-Simulation!C62 -> 7.372656 | C4: =Reference_Values!B4 -> 7.3727 | D4: =ABS(B4-C4) -> 4.3960716e-05 | E4: =IF(D4<0.0005,"PASS","FAIL") -> PASS
A5: closed_loop_t1.0 | B5: =Simulation!E14 -> 67.589783 | C5: =Reference_Values!B5 -> 67.5898 | D5: =ABS(B5-C5) -> 1.6791082e-05 | E5: =IF(D5<0.0005,"PASS","FAIL") -> PASS
A6: aggregate_B1 | B6: =SUMPRODUCT(Parameters!B12:B15,Parameters!C12:C15) -> 65.2 | C6: =Reference_Values!B6 -> 65.2 | D6: =ABS(B6-C6) -> 0 | E6: =IF(D6<0.0005,"PASS","FAIL") -> PASS
A7: aggregate_B2 | B7: =SUMPRODUCT(Parameters!B12:B15,Parameters!D12:D15) -> 66.83 | C7: =Reference_Values!B7 -> 66.83 | D7: =ABS(B7-C7) -> 0 | E7: =IF(D7<0.0005,"PASS","FAIL") -> PASS
A8: boundary_shift | B8: =SUMPRODUCT(Parameters!B12:B15,Parameters!D12:D15)-SUMPRODUCT(Parameters!B12:B15,Parameters!C12:C15) -> 1.63 | C8: =Reference_Values!B8 -> 1.63 | D8: =ABS(B8-C8) -> 0 | E8: =IF(D8<0.0005,"PASS","FAIL") -> PASS
A10: All rows must read PASS.
