Workbook

Sheet README
B1: DCT Laboratory — Vol I, Ch 4: Enterprise Modeling Principles
B2: Seed 26104 · Companion to DCT_V1_Ch04_Lab.ipynb and AXIOM-04.
B4: Panel 1 (Data+Models): two polynomial models on a calibration window; RMSE in- and out-of-sample.
B5: Panel 2 (Aggregation): three subsystems vs. a naive coarse law — the Hierarchical Consistency Theorem.
B6: LEGEND — pale-gold cells are inputs (observations are frozen seed-26104 draws; coefficients are the fits).
B7: Assumption: illustrative teaching calibration; noise vector frozen from seed 26104 for reproducibility.

Sheet Data_Models
A1: t | B1: true | C1: obs | D1: pred simple | E1: pred rich | F1: sqerr simple | G1: sqerr rich
A2: 0 | B2: =50+30/(1+EXP(-0.5*(A2-8))) -> 50.539586 | C2: 52.096686 | D2: =$B$31*A2+$B$32 -> 47.562819 | E2: =$C$26*A2^6+$C$27*A2^5+$C$28*A2^4+$C$29*A2^3+$C$30*A2^2+$C$31*A2^1+$C$32*A2^0 -> 51.930132 | F2: =(C2-D2)^2 -> 20.555953 | G2: =(C2-E2)^2 -> 0.027740334
A3: 1 | B3: =50+30/(1+EXP(-0.5*(A3-8))) -> 50.879367 | C3: 50.420967 | D3: =$B$31*A3+$B$32 -> 49.788151 | E3: =$C$26*A3^6+$C$27*A3^5+$C$28*A3^4+$C$29*A3^3+$C$30*A3^2+$C$31*A3^1+$C$32*A3^0 -> 51.220409 | F3: =(C3-D3)^2 -> 0.40045599 | G3: =(C3-E3)^2 -> 0.63910764
A4: 2 | B4: =50+30/(1+EXP(-0.5*(A4-8))) -> 51.422776 | C4: 52.581276 | D4: =$B$31*A4+$B$32 -> 52.013483 | E4: =$C$26*A4^6+$C$27*A4^5+$C$28*A4^4+$C$29*A4^3+$C$30*A4^2+$C$31*A4^1+$C$32*A4^0 -> 51.521772 | F4: =(C4-D4)^2 -> 0.32238911 | G4: =(C4-E4)^2 -> 1.1225491
A5: 3 | B5: =50+30/(1+EXP(-0.5*(A5-8))) -> 52.275745 | C5: 53.117245 | D5: =$B$31*A5+$B$32 -> 54.238815 | E5: =$C$26*A5^6+$C$27*A5^5+$C$28*A5^4+$C$29*A5^3+$C$30*A5^2+$C$31*A5^1+$C$32*A5^0 -> 52.538439 | F5: =(C5-D5)^2 -> 1.2579184 | G5: =(C5-E5)^2 -> 0.33501685
A6: 4 | B6: =50+30/(1+EXP(-0.5*(A6-8))) -> 53.576088 | C6: 52.083688 | D6: =$B$31*A6+$B$32 -> 56.464147 | E6: =$C$26*A6^6+$C$27*A6^5+$C$28*A6^4+$C$29*A6^3+$C$30*A6^2+$C$31*A6^1+$C$32*A6^0 -> 54.171932 | F6: =(C6-D6)^2 -> 19.188424 | G6: =(C6-E6)^2 -> 4.3607644
A7: 5 | B7: =50+30/(1+EXP(-0.5*(A7-8))) -> 55.472766 | C7: 56.500266 | D7: =$B$31*A7+$B$32 -> 58.689479 | E7: =$C$26*A7^6+$C$27*A7^5+$C$28*A7^4+$C$29*A7^3+$C$30*A7^2+$C$31*A7^1+$C$32*A7^0 -> 56.373477 | F7: =(C7-D7)^2 -> 4.7926548 | G7: =(C7-E7)^2 -> 0.016075378
A8: 6 | B8: =50+30/(1+EXP(-0.5*(A8-8))) -> 58.068243 | C8: 61.094743 | D8: =$B$31*A8+$B$32 -> 60.914811 | E8: =$C$26*A8^6+$C$27*A8^5+$C$28*A8^4+$C$29*A8^3+$C$30*A8^2+$C$31*A8^1+$C$32*A8^0 -> 59.049684 | F8: =(C8-D8)^2 -> 0.032375395 | G8: =(C8-E8)^2 -> 4.1822648
A9: 7 | B9: =50+30/(1+EXP(-0.5*(A9-8))) -> 61.32622 | C9: 61.93322 | D9: =$B$31*A9+$B$32 -> 63.140143 | E9: =$C$26*A9^6+$C$27*A9^5+$C$28*A9^4+$C$29*A9^3+$C$30*A9^2+$C$31*A9^1+$C$32*A9^0 -> 62.021507 | F9: =(C9-D9)^2 -> 1.456663 | G9: =(C9-E9)^2 -> 0.0077945831
A10: 8 | B10: =50+30/(1+EXP(-0.5*(A10-8))) -> 65 | C10: 63.4019 | D10: =$B$31*A10+$B$32 -> 65.365475 | E10: =$C$26*A10^6+$C$27*A10^5+$C$28*A10^4+$C$29*A10^3+$C$30*A10^2+$C$31*A10^1+$C$32*A10^0 -> 65.036484 | F10: =(C10-D10)^2 -> 3.8556268 | G10: =(C10-E10)^2 -> 2.6718649
A11: 9 | B11: =50+30/(1+EXP(-0.5*(A11-8))) -> 68.67378 | C11: 68.01088 | D11: =$B$31*A11+$B$32 -> 67.590807 | E11: =$C$26*A11^6+$C$27*A11^5+$C$28*A11^4+$C$29*A11^3+$C$30*A11^2+$C$31*A11^1+$C$32*A11^0 -> 67.834257 | F11: =(C11-D11)^2 -> 0.17646127 | G11: =(C11-E11)^2 -> 0.031195662
A12: 10 | B12: =50+30/(1+EXP(-0.5*(A12-8))) -> 71.931757 | C12: 72.365457 | D12: =$B$31*A12+$B$32 -> 69.816139 | E12: =$C$26*A12^6+$C$27*A12^5+$C$28*A12^4+$C$29*A12^3+$C$30*A12^2+$C$31*A12^1+$C$32*A12^0 -> 70.265372 | F12: =(C12-D12)^2 -> 6.4990241 | G12: =(C12-E12)^2 -> 4.4103585
A13: 11 | B13: =50+30/(1+EXP(-0.5*(A13-8))) -> 74.527234 | C13: 71.909034 | D13: =$B$31*A13+$B$32 -> 72.041471 | E13: =$C$26*A13^6+$C$27*A13^5+$C$28*A13^4+$C$29*A13^3+$C$30*A13^2+$C$31*A13^1+$C$32*A13^0 -> 72.463359 | F13: =(C13-D13)^2 -> 0.017539483 | G13: =(C13-E13)^2 -> 0.30727589
... A22: 20 | B22: =50+30/(1+EXP(-0.5*(A22-8))) -> 79.925821 | C22: 80.605521 | D22: =$B$31*A22+$B$32 -> 92.069459 | E22: =$C$26*A22^6+$C$27*A22^5+$C$28*A22^4+$C$29*A22^3+$C$30*A22^2+$C$31*A22^1+$C$32*A22^0 -> 625.33081 | F22: =(C22-D22)^2 -> 131.42187 | G22: =(C22-E22)^2 -> 296725.64
A24: Coefficients (highest degree first)
A25: deg | B25: simple (lin) | C25: rich (deg 6)
A26: 6 | B26: 0 | C26: 7.4e-05
A27: 5 | B27: 0 | C27: -0.00234
A28: 4 | B28: 0 | C28: 0.026811
A29: 3 | B29: 0 | C29: -0.158323
A30: 2 | B30: 0 | C30: 0.825641
A31: 1 | B31: 2.225332 | C31: -1.401586
A32: 0 | B32: 47.562819 | C32: 51.930132

Sheet Aggregation
A1: k | B1: x1 | C1: x2 | D1: x3 | E1: fine sum | F1: coarse | G1: |gap| | I1: x1 | J1: x2 | K1: x3 | L1: fine sum | M1: coarse | N1: |gap|
A2: 0 | B2: 40 | C2: 35 | D2: 25 | E2: =B2+C2+D2 -> 100 | F2: =E2 -> 100 | G2: =ABS(E2-F2) -> 0 | I2: =B2 -> 40 | J2: =C2 -> 35 | K2: =D2 -> 25 | L2: =I2+J2+K2 -> 100 | M2: =L2 -> 100 | N2: =ABS(L2-M2) -> 0
A3: 1 | B3: =B2+$D$26*$A$26*B2 -> 41.2 | C3: =C2+$D$26*$B$26*C2 -> 35.175 | D3: =D2+$D$26*$C$26*D2 -> 24.75 | E3: =B3+C3+D3 -> 101.125 | F3: =F2+$D$26*(($A$26*$B$2+$B$26*$C$2+$C$26*$D$2)/($B$2+$C$2+$D$2))*F2 -> 101.125 | G3: =ABS(E3-F3) -> 0 | I3: =I2+$D$26*$J$26*I2 -> 40.6 | J3: =J2+$D$26*$J$26*J2 -> 35.525 | K3: =K2+$D$26*$J$26*K2 -> 25.375 | L3: =I3+J3+K3 -> 101.5 | M3: =M2+$D$26*$J$26*M2 -> 101.5 | N3: =ABS(L3-M3) -> 0
A4: 2 | B4: =B3+$D$26*$A$26*B3 -> 42.436 | C4: =C3+$D$26*$B$26*C3 -> 35.350875 | D4: =D3+$D$26*$C$26*D3 -> 24.5025 | E4: =B4+C4+D4 -> 102.28938 | F4: =F3+$D$26*(($A$26*$B$2+$B$26*$C$2+$C$26*$D$2)/($B$2+$C$2+$D$2))*F3 -> 102.26266 | G4: =ABS(E4-F4) -> 0.02671875 | I4: =I3+$D$26*$J$26*I3 -> 41.209 | J4: =J3+$D$26*$J$26*J3 -> 36.057875 | K4: =K3+$D$26*$J$26*K3 -> 25.755625 | L4: =I4+J4+K4 -> 103.0225 | M4: =M3+$D$26*$J$26*M3 -> 103.0225 | N4: =ABS(L4-M4) -> 0
A5: 3 | B5: =B4+$D$26*$A$26*B4 -> 43.70908 | C5: =C4+$D$26*$B$26*C4 -> 35.527629 | D5: =D4+$D$26*$C$26*D4 -> 24.257475 | E5: =B5+C5+D5 -> 103.49418 | F5: =F4+$D$26*(($A$26*$B$2+$B$26*$C$2+$C$26*$D$2)/($B$2+$C$2+$D$2))*F4 -> 103.41311 | G5: =ABS(E5-F5) -> 0.081073242 | I5: =I4+$D$26*$J$26*I4 -> 41.827135 | J5: =J4+$D$26*$J$26*J4 -> 36.598743 | K5: =K4+$D$26*$J$26*K4 -> 26.141959 | L5: =I5+J5+K5 -> 104.56784 | M5: =M4+$D$26*$J$26*M4 -> 104.56784 | N5: =ABS(L5-M5) -> 0
A6: 4 | B6: =B5+$D$26*$A$26*B5 -> 45.020352 | C6: =C5+$D$26*$B$26*C5 -> 35.705268 | D6: =D5+$D$26*$C$26*D5 -> 24.0149 | E6: =B6+C6+D6 -> 104.74052 | F6: =F5+$D$26*(($A$26*$B$2+$B$26*$C$2+$C$26*$D$2)/($B$2+$C$2+$D$2))*F5 -> 104.57651 | G6: =ABS(E6-F6) -> 0.16401154 | I6: =I5+$D$26*$J$26*I5 -> 42.454542 | J6: =J5+$D$26*$J$26*J5 -> 37.147724 | K6: =K5+$D$26*$J$26*K5 -> 26.534089 | L6: =I6+J6+K6 -> 106.13636 | M6: =M5+$D$26*$J$26*M5 -> 106.13636 | N6: =ABS(L6-M6) -> 0
A7: 5 | B7: =B6+$D$26*$A$26*B6 -> 46.370963 | C7: =C6+$D$26*$B$26*C6 -> 35.883794 | D7: =D6+$D$26*$C$26*D6 -> 23.774751 | E7: =B7+C7+D7 -> 106.02951 | F7: =F6+$D$26*(($A$26*$B$2+$B$26*$C$2+$C$26*$D$2)/($B$2+$C$2+$D$2))*F6 -> 105.75299 | G7: =ABS(E7-F7) -> 0.27651372 | I7: =I6+$D$26*$J$26*I6 -> 43.09136 | J7: =J6+$D$26*$J$26*J6 -> 37.70494 | K7: =K6+$D$26*$J$26*K6 -> 26.9321 | L7: =I7+J7+K7 -> 107.7284 | M7: =M6+$D$26*$J$26*M6 -> 107.7284 | N7: =ABS(L7-M7) -> 0
A8: 6 | B8: =B7+$D$26*$A$26*B7 -> 47.762092 | C8: =C7+$D$26*$B$26*C7 -> 36.063213 | D8: =D7+$D$26*$C$26*D7 -> 23.537004 | E8: =B8+C8+D8 -> 107.36231 | F8: =F7+$D$26*(($A$26*$B$2+$B$26*$C$2+$C$26*$D$2)/($B$2+$C$2+$D$2))*F7 -> 106.94272 | G8: =ABS(E8-F8) -> 0.41959288 | I8: =I7+$D$26*$J$26*I7 -> 43.737731 | J8: =J7+$D$26*$J$26*J7 -> 38.270514 | K8: =K7+$D$26*$J$26*K7 -> 27.336082 | L8: =I8+J8+K8 -> 109.34433 | M8: =M7+$D$26*$J$26*M7 -> 109.34433 | N8: =ABS(L8-M8) -> 0
A9: 7 | B9: =B8+$D$26*$A$26*B8 -> 49.194955 | C9: =C8+$D$26*$B$26*C8 -> 36.243529 | D9: =D8+$D$26*$C$26*D8 -> 23.301634 | E9: =B9+C9+D9 -> 108.74012 | F9: =F8+$D$26*(($A$26*$B$2+$B$26*$C$2+$C$26*$D$2)/($B$2+$C$2+$D$2))*F8 -> 108.14582 | G9: =ABS(E9-F9) -> 0.59429612 | I9: =I8+$D$26*$J$26*I8 -> 44.393797 | J9: =J8+$D$26*$J$26*J8 -> 38.844572 | K9: =K8+$D$26*$J$26*K8 -> 27.746123 | L9: =I9+J9+K9 -> 110.98449 | M9: =M8+$D$26*$J$26*M8 -> 110.98449 | N9: =ABS(L9-M9) -> 0
A10: 8 | B10: =B9+$D$26*$A$26*B9 -> 50.670803 | C10: =C9+$D$26*$B$26*C9 -> 36.424747 | D10: =D9+$D$26*$C$26*D9 -> 23.068617 | E10: =B10+C10+D10 -> 110.16417 | F10: =F9+$D$26*(($A$26*$B$2+$B$26*$C$2+$C$26*$D$2)/($B$2+$C$2+$D$2))*F9 -> 109.36246 | G10: =ABS(E10-F10) -> 0.80170557 | I10: =I9+$D$26*$J$26*I9 -> 45.059703 | J10: =J9+$D$26*$J$26*J9 -> 39.427241 | K10: =K9+$D$26*$J$26*K9 -> 28.162315 | L10: =I10+J10+K10 -> 112.64926 | M10: =M9+$D$26*$J$26*M9 -> 112.64926 | N10: =ABS(L10-M10) -> 0
A11: 9 | B11: =B10+$D$26*$A$26*B10 -> 52.190927 | C11: =C10+$D$26*$B$26*C10 -> 36.60687 | D11: =D10+$D$26*$C$26*D10 -> 22.837931 | E11: =B11+C11+D11 -> 111.63573 | F11: =F10+$D$26*(($A$26*$B$2+$B$26*$C$2+$C$26*$D$2)/($B$2+$C$2+$D$2))*F10 -> 110.59279 | G11: =ABS(E11-F11) -> 1.0429395 | I11: =I10+$D$26*$J$26*I10 -> 45.735599 | J11: =J10+$D$26*$J$26*J10 -> 40.018649 | K11: =K10+$D$26*$J$26*K10 -> 28.584749 | L11: =I11+J11+K11 -> 114.339 | M11: =M10+$D$26*$J$26*M10 -> 114.339 | N11: =ABS(L11-M11) -> 0
A12: 10 | B12: =B11+$D$26*$A$26*B11 -> 53.756655 | C12: =C11+$D$26*$B$26*C11 -> 36.789905 | D12: =D11+$D$26*$C$26*D11 -> 22.609552 | E12: =B12+C12+D12 -> 113.15611 | F12: =F11+$D$26*(($A$26*$B$2+$B$26*$C$2+$C$26*$D$2)/($B$2+$C$2+$D$2))*F11 -> 111.83696 | G12: =ABS(E12-F12) -> 1.3191535 | I12: =I11+$D$26*$J$26*I11 -> 46.421633 | J12: =J11+$D$26*$J$26*J11 -> 40.618929 | K12: =K11+$D$26*$J$26*K11 -> 29.013521 | L12: =I12+J12+K12 -> 116.05408 | M12: =M11+$D$26*$J$26*M11 -> 116.05408 | N12: =ABS(L12-M12) -> 0
A13: 11 | B13: =B12+$D$26*$A$26*B12 -> 55.369355 | C13: =C12+$D$26*$B$26*C12 -> 36.973854 | D13: =D12+$D$26*$C$26*D12 -> 22.383456 | E13: =B13+C13+D13 -> 114.72667 | F13: =F12+$D$26*(($A$26*$B$2+$B$26*$C$2+$C$26*$D$2)/($B$2+$C$2+$D$2))*F12 -> 113.09512 | G13: =ABS(E13-F13) -> 1.6315414 | I13: =I12+$D$26*$J$26*I12 -> 47.117957 | J13: =J12+$D$26*$J$26*J12 -> 41.228213 | K13: =K12+$D$26*$J$26*K12 -> 29.448723 | L13: =I13+J13+K13 -> 117.79489 | M13: =M12+$D$26*$J$26*M12 -> 117.79489 | N13: =ABS(L13-M13) -> 0
A14: 12 | B14: =B13+$D$26*$A$26*B13 -> 57.030435 | C14: =C13+$D$26*$B$26*C13 -> 37.158723 | D14: =D13+$D$26*$C$26*D13 -> 22.159622 | E14: =B14+C14+D14 -> 116.34878 | F14: =F13+$D$26*(($A$26*$B$2+$B$26*$C$2+$C$26*$D$2)/($B$2+$C$2+$D$2))*F13 -> 114.36744 | G14: =ABS(E14-F14) -> 1.9813366 | I14: =I13+$D$26*$J$26*I13 -> 47.824727 | J14: =J13+$D$26*$J$26*J13 -> 41.846636 | K14: =K13+$D$26*$J$26*K13 -> 29.890454 | L14: =I14+J14+K14 -> 119.56182 | M14: =M13+$D$26*$J$26*M13 -> 119.56182 | N14: =ABS(L14-M14) -> 0
... A22: 20 | B22: =B21+$D$26*$A$26*B21 -> 72.244449 | C22: =C21+$D$26*$B$26*C21 -> 38.671345 | D22: =D21+$D$26*$C$26*D21 -> 20.447673 | E22: =B22+C22+D22 -> 131.36347 | F22: =F21+$D$26*(($A$26*$B$2+$B$26*$C$2+$C$26*$D$2)/($B$2+$C$2+$D$2))*F21 -> 125.07505 | G22: =ABS(E22-F22) -> 6.2884159 | I22: =I21+$D$26*$J$26*I21 -> 53.8742 | J22: =J21+$D$26*$J$26*J21 -> 47.139925 | K22: =K21+$D$26*$J$26*K21 -> 33.671375 | L22: =I22+J22+K22 -> 134.6855 | M22: =M21+$D$26*$J$26*M21 -> 134.6855 | N22: =ABS(L22-M22) -> 0
A24: Rates (unequal case)
A25: a1 | B25: a2 | C25: a3 | D25: dt | I25: Equal rates
A26: 0.12 | B26: 0.02 | C26: -0.04 | D26: 0.25 | I26: a (all) | J26: 0.06

Sheet Reference_Values
A1: Checkpoint | B1: Engine value | C1: Meaning
A2: rmse_simple_calib | B2: 2.2016 | C2: Linear model, in-sample
A3: rmse_rich_calib | B3: 1.2348 | C3: Rich model wins in-sample
A4: rmse_simple_holdout | B4: 6.4713 | C4: Linear, quarters 13–20
A5: rmse_rich_holdout | B5: 241.9653 | C5: The detonation — the representation bound
A6: agg_gap_equal_T | B6: 0 | C6: Fiber-invariant: exact
A7: agg_gap_unequal_T | B7: 6.2884 | C7: Coarse law drifts
A8: obs_calib_mean | B8: 60.9148 | C8: Sanity anchor

Sheet Checks
A1: Checkpoint | B1: Workbook formula value | C1: Engine value | D1: |diff| | E1: Status
A2: rmse_simple_calib | B2: =SQRT(AVERAGE(Data_Models!F2:F14)) -> 2.2015609 | C2: =Reference_Values!B2 -> 2.2016 | D2: =ABS(B2-C2) -> 3.9145168e-05 | E2: =IF(D2<0.0005,"PASS","FAIL") -> PASS
A3: rmse_rich_calib | B3: =SQRT(AVERAGE(Data_Models!G2:G14)) -> 1.234771 | C3: =Reference_Values!B3 -> 1.2348 | D3: =ABS(B3-C3) -> 2.9025098e-05 | E3: =IF(D3<0.0005,"PASS","FAIL") -> PASS
A4: rmse_simple_holdout | B4: =SQRT(AVERAGE(Data_Models!F15:F22)) -> 6.4712864 | C4: =Reference_Values!B4 -> 6.4713 | D4: =ABS(B4-C4) -> 1.3558096e-05 | E4: =IF(D4<0.0005,"PASS","FAIL") -> PASS
A5: rmse_rich_holdout | B5: =SQRT(AVERAGE(Data_Models!G15:G22)) -> 241.96533 | C5: =Reference_Values!B5 -> 241.9653 | D5: =ABS(B5-C5) -> 2.6177549e-05 | E5: =IF(D5<0.0005,"PASS","FAIL") -> PASS
A6: agg_gap_equal_T | B6: =Aggregation!N22 -> 0 | C6: =Reference_Values!B6 -> 0 | D6: =ABS(B6-C6) -> 0 | E6: =IF(D6<0.0005,"PASS","FAIL") -> PASS
A7: agg_gap_unequal_T | B7: =Aggregation!G22 -> 6.2884159 | C7: =Reference_Values!B7 -> 6.2884 | D7: =ABS(B7-C7) -> 1.5943861e-05 | E7: =IF(D7<0.0005,"PASS","FAIL") -> PASS
A8: obs_calib_mean | B8: =AVERAGE(Data_Models!C2:C14) -> 60.914813 | C8: =Reference_Values!B8 -> 60.9148 | D8: =ABS(B8-C8) -> 1.344749e-05 | E8: =IF(D8<0.0005,"PASS","FAIL") -> PASS
A10: All rows must read PASS.
