Workbook

Sheet README
B1: DCT Laboratory — Vol I, Ch 6: Enterprise Transformation Operators
B2: Seed 26106 · Companion to DCT_V1_Ch06_Lab.ipynb and AXIOM-06.
B4: Iteration: T(x)=Ax+b to the sustainable core (I−A)⁻¹b; composition order; reachability over {T1,T2}.
B5: LEGEND — pale-gold cells are inputs (operator matrices and vectors).

Sheet Operators
A1: A (core operator) | D1: b | F1: x0
A2: 0.55 | B2: 0.15 | D2: 14 | F2: 41
A3: 0.1 | B3: 0.6 | D3: 24 | F3: 68
A6: Sustainable core x* = (I−A)⁻¹ b (2x2 closed form)
A7: det(I−A) | B7: =(1-A2)*(1-B3)-(-B2)*(-A3) -> 0.165
A8: core_x4 | B8: =((1-B3)*D2+B2*D3)/B7 -> 55.757576
A9: core_x5 | B9: =(A3*D2+(1-A2)*D3)/B7 -> 73.939394

Sheet Iteration
A1: k | B1: x4 | C1: x5 | D1: dist to core
A2: 0 | B2: =Operators!F2 -> 41 | C2: =Operators!F3 -> 68 | D2: =SQRT((B2-Operators!$B$8)^2+(C2-Operators!$B$9)^2) -> 15.907936
A3: 1 | B3: =Operators!$A$2*B2+Operators!$B$2*C2+Operators!$D$2 -> 46.75 | C3: =Operators!$A$3*B2+Operators!$B$3*C2+Operators!$D$3 -> 68.9 | D3: =SQRT((B3-Operators!$B$8)^2+(C3-Operators!$B$9)^2) -> 10.32143
A4: 2 | B4: =Operators!$A$2*B3+Operators!$B$2*C3+Operators!$D$2 -> 50.0475 | C4: =Operators!$A$3*B3+Operators!$B$3*C3+Operators!$D$3 -> 70.015 | D4: =SQRT((B4-Operators!$B$8)^2+(C4-Operators!$B$9)^2) -> 6.9286242
A5: 3 | B5: =Operators!$A$2*B4+Operators!$B$2*C4+Operators!$D$2 -> 52.028375 | C5: =Operators!$A$3*B4+Operators!$B$3*C4+Operators!$D$3 -> 71.01375 | D5: =SQRT((B5-Operators!$B$8)^2+(C5-Operators!$B$9)^2) -> 4.7398661
A6: 4 | B6: =Operators!$A$2*B5+Operators!$B$2*C5+Operators!$D$2 -> 53.267669 | C6: =Operators!$A$3*B5+Operators!$B$3*C5+Operators!$D$3 -> 71.811087 | D6: =SQRT((B6-Operators!$B$8)^2+(C6-Operators!$B$9)^2) -> 3.2755649
A7: 5 | B7: =Operators!$A$2*B6+Operators!$B$2*C6+Operators!$D$2 -> 54.068881 | C7: =Operators!$A$3*B6+Operators!$B$3*C6+Operators!$D$3 -> 72.413419 | D7: =SQRT((B7-Operators!$B$8)^2+(C7-Operators!$B$9)^2) -> 2.2760247
A8: 6 | B8: =Operators!$A$2*B7+Operators!$B$2*C7+Operators!$D$2 -> 54.599897 | C8: =Operators!$A$3*B7+Operators!$B$3*C7+Operators!$D$3 -> 72.85494 | D8: =SQRT((B8-Operators!$B$8)^2+(C8-Operators!$B$9)^2) -> 1.5862724
A9: 7 | B9: =Operators!$A$2*B8+Operators!$B$2*C8+Operators!$D$2 -> 54.958185 | C9: =Operators!$A$3*B8+Operators!$B$3*C8+Operators!$D$3 -> 73.172954 | D9: =SQRT((B9-Operators!$B$8)^2+(C9-Operators!$B$9)^2) -> 1.1074553
A10: 8 | B10: =Operators!$A$2*B9+Operators!$B$2*C9+Operators!$D$2 -> 55.202945 | C10: =Operators!$A$3*B9+Operators!$B$3*C9+Operators!$D$3 -> 73.399591 | D10: =SQRT((B10-Operators!$B$8)^2+(C10-Operators!$B$9)^2) -> 0.77395313
A11: 9 | B11: =Operators!$A$2*B10+Operators!$B$2*C10+Operators!$D$2 -> 55.371558 | C11: =Operators!$A$3*B10+Operators!$B$3*C10+Operators!$D$3 -> 73.560049 | D11: =SQRT((B11-Operators!$B$8)^2+(C11-Operators!$B$9)^2) -> 0.54121379
A12: 10 | B12: =Operators!$A$2*B11+Operators!$B$2*C11+Operators!$D$2 -> 55.488364 | C12: =Operators!$A$3*B11+Operators!$B$3*C11+Operators!$D$3 -> 73.673185 | D12: =SQRT((B12-Operators!$B$8)^2+(C12-Operators!$B$9)^2) -> 0.3786053
A13: 11 | B13: =Operators!$A$2*B12+Operators!$B$2*C12+Operators!$D$2 -> 55.569578 | C13: =Operators!$A$3*B12+Operators!$B$3*C12+Operators!$D$3 -> 73.752747 | D13: =SQRT((B13-Operators!$B$8)^2+(C13-Operators!$B$9)^2) -> 0.26491511
A14: 12 | B14: =Operators!$A$2*B13+Operators!$B$2*C13+Operators!$D$2 -> 55.62618 | C14: =Operators!$A$3*B13+Operators!$B$3*C13+Operators!$D$3 -> 73.808606 | D14: =SQRT((B14-Operators!$B$8)^2+(C14-Operators!$B$9)^2) -> 0.1853921

Sheet Composition_Reach
A1: T1: A1, b1 (digital) | E1: T2: A2, b2 (cost)
A2: 1.1 | B2: 0 | C2: 0 | E2: 0.97 | F2: 0.05 | G2: 2
A3: -0.06 | B3: 0.98 | C3: 4 | E3: 0 | F3: 1.04 | G3: 0
A6: x0: | B6: =Operators!F2 -> 41 | C6: =Operators!F3 -> 68
A8: T1(x0) | B8: =($A$2*$B$6+$B$2*$C$6+$C$2) -> 45.1 | C8: =($A$3*$B$6+$B$3*$C$6+$C$3) -> 68.18
A9: T2T1(x0) | B9: =($E$2*$B$8+$F$2*$C$8+$G$2) -> 49.156 | C9: =($E$3*$B$8+$F$3*$C$8+$G$3) -> 70.9072
A11: T2(x0) | B11: =($E$2*$B$6+$F$2*$C$6+$G$2) -> 45.17 | C11: =($E$3*$B$6+$F$3*$C$6+$G$3) -> 70.72
A12: T1T2(x0) | B12: =($A$2*$B$11+$B$2*$C$11+$C$2) -> 49.687 | C12: =($A$3*$B$11+$B$3*$C$11+$C$3) -> 70.5954
A14: order gap | B14: =SQRT((B9-B12)^2+(C9-C12)^2) -> 0.61577613
A16: Depth-3 sequences (1=T1, 2=T2)
A17: seq | B17: x after s1 | C17: y | D17: x after s2 | E17: y | F17: x end | G17: y
A18: 111 | B18: =($A$2*$B$6+$B$2*$C$6+$C$2) -> 45.1 | C18: =($A$3*$B$6+$B$3*$C$6+$C$3) -> 68.18 | D18: =($A$2*B18+$B$2*C18+$C$2) -> 49.61 | E18: =($A$3*B18+$B$3*C18+$C$3) -> 68.1104 | F18: =($A$2*D18+$B$2*E18+$C$2) -> 54.571 | G18: =($A$3*D18+$B$3*E18+$C$3) -> 67.771592
A19: 112 | B19: =($A$2*$B$6+$B$2*$C$6+$C$2) -> 45.1 | C19: =($A$3*$B$6+$B$3*$C$6+$C$3) -> 68.18 | D19: =($A$2*B19+$B$2*C19+$C$2) -> 49.61 | E19: =($A$3*B19+$B$3*C19+$C$3) -> 68.1104 | F19: =($E$2*D19+$F$2*E19+$G$2) -> 53.52722 | G19: =($E$3*D19+$F$3*E19+$G$3) -> 70.834816
A20: 121 | B20: =($A$2*$B$6+$B$2*$C$6+$C$2) -> 45.1 | C20: =($A$3*$B$6+$B$3*$C$6+$C$3) -> 68.18 | D20: =($E$2*B20+$F$2*C20+$G$2) -> 49.156 | E20: =($E$3*B20+$F$3*C20+$G$3) -> 70.9072 | F20: =($A$2*D20+$B$2*E20+$C$2) -> 54.0716 | G20: =($A$3*D20+$B$3*E20+$C$3) -> 70.539696
A21: 122 | B21: =($A$2*$B$6+$B$2*$C$6+$C$2) -> 45.1 | C21: =($A$3*$B$6+$B$3*$C$6+$C$3) -> 68.18 | D21: =($E$2*B21+$F$2*C21+$G$2) -> 49.156 | E21: =($E$3*B21+$F$3*C21+$G$3) -> 70.9072 | F21: =($E$2*D21+$F$2*E21+$G$2) -> 53.22668 | G21: =($E$3*D21+$F$3*E21+$G$3) -> 73.743488
A22: 211 | B22: =($E$2*$B$6+$F$2*$C$6+$G$2) -> 45.17 | C22: =($E$3*$B$6+$F$3*$C$6+$G$3) -> 70.72 | D22: =($A$2*B22+$B$2*C22+$C$2) -> 49.687 | E22: =($A$3*B22+$B$3*C22+$C$3) -> 70.5954 | F22: =($A$2*D22+$B$2*E22+$C$2) -> 54.6557 | G22: =($A$3*D22+$B$3*E22+$C$3) -> 70.202272
A23: 212 | B23: =($E$2*$B$6+$F$2*$C$6+$G$2) -> 45.17 | C23: =($E$3*$B$6+$F$3*$C$6+$G$3) -> 70.72 | D23: =($A$2*B23+$B$2*C23+$C$2) -> 49.687 | E23: =($A$3*B23+$B$3*C23+$C$3) -> 70.5954 | F23: =($E$2*D23+$F$2*E23+$G$2) -> 53.72616 | G23: =($E$3*D23+$F$3*E23+$G$3) -> 73.419216
A24: 221 | B24: =($E$2*$B$6+$F$2*$C$6+$G$2) -> 45.17 | C24: =($E$3*$B$6+$F$3*$C$6+$G$3) -> 70.72 | D24: =($E$2*B24+$F$2*C24+$G$2) -> 49.3509 | E24: =($E$3*B24+$F$3*C24+$G$3) -> 73.5488 | F24: =($A$2*D24+$B$2*E24+$C$2) -> 54.28599 | G24: =($A$3*D24+$B$3*E24+$C$3) -> 73.11677
A25: 222 | B25: =($E$2*$B$6+$F$2*$C$6+$G$2) -> 45.17 | C25: =($E$3*$B$6+$F$3*$C$6+$G$3) -> 70.72 | D25: =($E$2*B25+$F$2*C25+$G$2) -> 49.3509 | E25: =($E$3*B25+$F$3*C25+$G$3) -> 73.5488 | F25: =($E$2*D25+$F$2*E25+$G$2) -> 53.547813 | G25: =($E$3*D25+$F$3*E25+$G$3) -> 76.490752
A27: in target (x≥48, y≥71): | B27: =SUMPRODUCT((F18:F25>=48)*(G18:G25>=71)) -> 4

Sheet Reference_Values
A1: Checkpoint | B1: Engine value | C1: Meaning
A2: core_x4 | B2: 55.7576 | C2: Sustainable core, tech
A3: core_x5 | B3: 73.9394 | C3: Sustainable core, efficiency
A4: iter10_x4 | B4: 55.4884 | C4: Iterate k=10
A5: iter10_x5 | B5: 73.6732 | C5: Iterate k=10
A6: contraction_ratio | B6: 0.6488 | C6: First-step distance ratio
A7: order_gap | B7: 0.6158 | C7: ‖T2T1x0 − T1T2x0‖
A8: n_reachable_in_target | B8: 4 | C8: Of 8 depth-3 sequences
A9: spectral_radius_A | B9: 0.7 | C9: ρ(A) < 1: contraction

Sheet Checks
A1: Checkpoint | B1: Workbook formula value | C1: Engine value | D1: |diff| | E1: Status
A2: core_x4 | B2: =Operators!B8 -> 55.757576 | C2: =Reference_Values!B2 -> 55.7576 | D2: =ABS(B2-C2) -> 2.4242424e-05 | E2: =IF(D2<0.0005,"PASS","FAIL") -> PASS
A3: core_x5 | B3: =Operators!B9 -> 73.939394 | C3: =Reference_Values!B3 -> 73.9394 | D3: =ABS(B3-C3) -> 6.0606061e-06 | E3: =IF(D3<0.0005,"PASS","FAIL") -> PASS
A4: iter10_x4 | B4: =Iteration!B12 -> 55.488364 | C4: =Reference_Values!B4 -> 55.4884 | D4: =ABS(B4-C4) -> 3.5732632e-05 | E4: =IF(D4<0.0005,"PASS","FAIL") -> PASS
A5: iter10_x5 | B5: =Iteration!C12 -> 73.673185 | C5: =Reference_Values!B5 -> 73.6732 | D5: =ABS(B5-C5) -> 1.4904446e-05 | E5: =IF(D5<0.0005,"PASS","FAIL") -> PASS
A6: contraction_ratio | B6: =Iteration!D3/Iteration!D2 -> 0.64882267 | C6: =Reference_Values!B6 -> 0.6488 | D6: =ABS(B6-C6) -> 2.2666769e-05 | E6: =IF(D6<0.0005,"PASS","FAIL") -> PASS
A7: order_gap | B7: =Composition_Reach!B14 -> 0.61577613 | C7: =Reference_Values!B7 -> 0.6158 | D7: =ABS(B7-C7) -> 2.387185e-05 | E7: =IF(D7<0.0005,"PASS","FAIL") -> PASS
A8: n_reachable_in_target | B8: =Composition_Reach!B27 -> 4 | C8: =Reference_Values!B8 -> 4 | D8: =ABS(B8-C8) -> 0 | E8: =IF(D8<0.0005,"PASS","FAIL") -> PASS
A9: spectral_radius_A | B9: =0.5*(Operators!A2+Operators!B3)+SQRT(0.25*(Operators!A2-Operators!B3)^2+Operators!B2*Operators!A3) -> 0.7 | C9: =Reference_Values!B9 -> 0.7 | D9: =ABS(B9-C9) -> 0 | E9: =IF(D9<0.0005,"PASS","FAIL") -> PASS
A11: All rows must read PASS.
