Workbook

Sheet README
B1: DCT Laboratory — Vol I, Ch 7: Dynamic Enterprise Systems
B2: Seed 26107 · Companion to DCT_V1_Ch07_Lab.ipynb and AXIOM-07.
B4: Spectral stability of a planar map; exact discretization vs Euler drift; pole placement (Ex 7.12).
B5: Spectral radius of the complex pair computed from trace/det: |λ| = SQRT(det) when disc < 0.
B6: LEGEND — pale-gold cells are inputs.

Sheet Stability
A1: A | D1: trace / det / disc / ρ
A2: 0.6 | B2: 0.3 | D2: =A2+B3 -> 1.5
A3: -0.2 | B3: 0.9 | D3: =A2*B3-B2*A3 -> 0.6
D4: =D2^2-4*D3 -> -0.15
D5: =IF(D4<0,SQRT(D3),MAX(ABS((D2+SQRT(D4))/2),ABS((D2-SQRT(D4))/2))) -> 0.77459667
A7: k | B7: x1 | C7: x2 | D7: ‖x‖
A8: 0 | B8: 10 | C8: 0 | D8: =SQRT(B8^2+C8^2) -> 10
A9: 1 | B9: =$A$2*B8+$B$2*C8 -> 6 | C9: =$A$3*B8+$B$3*C8 -> -2 | D9: =SQRT(B9^2+C9^2) -> 6.3245553
A10: 2 | B10: =$A$2*B9+$B$2*C9 -> 3 | C10: =$A$3*B9+$B$3*C9 -> -3 | D10: =SQRT(B10^2+C10^2) -> 4.2426407
A11: 3 | B11: =$A$2*B10+$B$2*C10 -> 0.9 | C11: =$A$3*B10+$B$3*C10 -> -3.3 | D11: =SQRT(B11^2+C11^2) -> 3.4205263
A12: 4 | B12: =$A$2*B11+$B$2*C11 -> -0.45 | C12: =$A$3*B11+$B$3*C11 -> -3.15 | D12: =SQRT(B12^2+C12^2) -> 3.1819805
A13: 5 | B13: =$A$2*B12+$B$2*C12 -> -1.215 | C13: =$A$3*B12+$B$3*C12 -> -2.745 | D13: =SQRT(B13^2+C13^2) -> 3.0018744
A14: 6 | B14: =$A$2*B13+$B$2*C13 -> -1.5525 | C14: =$A$3*B13+$B$3*C13 -> -2.2275 | D14: =SQRT(B14^2+C14^2) -> 2.715145
A15: 7 | B15: =$A$2*B14+$B$2*C14 -> -1.59975 | C15: =$A$3*B14+$B$3*C14 -> -1.69425 | D15: =SQRT(B15^2+C15^2) -> 2.330168
A16: 8 | B16: =$A$2*B15+$B$2*C15 -> -1.468125 | C16: =$A$3*B15+$B$3*C15 -> -1.204875 | D16: =SQRT(B16^2+C16^2) -> 1.8992406
A17: 9 | B17: =$A$2*B16+$B$2*C16 -> -1.2423375 | C17: =$A$3*B16+$B$3*C16 -> -0.7907625 | D17: =SQRT(B17^2+C17^2) -> 1.4726533
A18: 10 | B18: =$A$2*B17+$B$2*C17 -> -0.98263125 | C18: =$A$3*B17+$B$3*C17 -> -0.46321875 | D18: =SQRT(B18^2+C18^2) -> 1.0863405
A19: 11 | B19: =$A$2*B18+$B$2*C18 -> -0.72854438 | C19: =$A$3*B18+$B$3*C18 -> -0.22037062 | D19: =SQRT(B19^2+C19^2) -> 0.76114395
A20: 12 | B20: =$A$2*B19+$B$2*C19 -> -0.50323781 | C20: =$A$3*B19+$B$3*C19 -> -0.052624688 | D20: =SQRT(B20^2+C20^2) -> 0.50598187
... A32: 24 | B32: =$A$2*B31+$B$2*C31 -> 0.024909426 | C32: =$A$3*B31+$B$3*C31 -> 0.0048811429 | D32: =SQRT(B32^2+C32^2) -> 0.025383165

Sheet TimeSemantics
A1: lambda | B1: -0.8
A2: dt | B2: 0.25
A4: k | B4: t | C4: exact | D4: euler
A5: 0 | B5: =A5*$B$2 -> 0 | C5: 1 | D5: 1
A6: 1 | B6: =A6*$B$2 -> 0.25 | C6: =C5*EXP($B$1*$B$2) -> 0.81873075 | D6: =D5*(1+$B$1*$B$2) -> 0.8
A7: 2 | B7: =A7*$B$2 -> 0.5 | C7: =C6*EXP($B$1*$B$2) -> 0.67032005 | D7: =D6*(1+$B$1*$B$2) -> 0.64
A8: 3 | B8: =A8*$B$2 -> 0.75 | C8: =C7*EXP($B$1*$B$2) -> 0.54881164 | D8: =D7*(1+$B$1*$B$2) -> 0.512
A9: 4 | B9: =A9*$B$2 -> 1 | C9: =C8*EXP($B$1*$B$2) -> 0.44932896 | D9: =D8*(1+$B$1*$B$2) -> 0.4096
A10: 5 | B10: =A10*$B$2 -> 1.25 | C10: =C9*EXP($B$1*$B$2) -> 0.36787944 | D10: =D9*(1+$B$1*$B$2) -> 0.32768
A11: 6 | B11: =A11*$B$2 -> 1.5 | C11: =C10*EXP($B$1*$B$2) -> 0.30119421 | D11: =D10*(1+$B$1*$B$2) -> 0.262144
A12: 7 | B12: =A12*$B$2 -> 1.75 | C12: =C11*EXP($B$1*$B$2) -> 0.24659696 | D12: =D11*(1+$B$1*$B$2) -> 0.2097152
A13: 8 | B13: =A13*$B$2 -> 2 | C13: =C12*EXP($B$1*$B$2) -> 0.20189652 | D13: =D12*(1+$B$1*$B$2) -> 0.16777216
A14: 9 | B14: =A14*$B$2 -> 2.25 | C14: =C13*EXP($B$1*$B$2) -> 0.16529889 | D14: =D13*(1+$B$1*$B$2) -> 0.13421773
A15: 10 | B15: =A15*$B$2 -> 2.5 | C15: =C14*EXP($B$1*$B$2) -> 0.13533528 | D15: =D14*(1+$B$1*$B$2) -> 0.10737418
A16: 11 | B16: =A16*$B$2 -> 2.75 | C16: =C15*EXP($B$1*$B$2) -> 0.11080316 | D16: =D15*(1+$B$1*$B$2) -> 0.085899346
A17: 12 | B17: =A17*$B$2 -> 3 | C17: =C16*EXP($B$1*$B$2) -> 0.090717953 | D17: =D16*(1+$B$1*$B$2) -> 0.068719477
... A25: 20 | B25: =A25*$B$2 -> 5 | C25: =C24*EXP($B$1*$B$2) -> 0.018315639 | D25: =D24*(1+$B$1*$B$2) -> 0.011529215

Sheet PolePlacement
A1: Quantity | B1: Value
A2: a1 (input) | B2: 1
A3: a2 (input) | B3: 0.5
A4: p1 desired: -(0.5+0.6) | B4: -1.1
A5: p0 desired: 0.5*0.6 | B5: 0.3
A6: k2 = p1 - a1 | B6: =B4-B2 -> -2.1
A7: k1 = p0 - a2 | B7: =B5-B3 -> -0.2
A8: closed trace = -(a1+k2) | B8: =-(B2+B6) -> 1.1
A9: closed det = a2+k1 | B9: =B3+B7 -> 0.3
A10: disc | B10: =B8^2-4*B9 -> 0.01
A11: rho closed | B11: =IF(B10<0,SQRT(B9),MAX(ABS((B8+SQRT(B10))/2),ABS((B8-SQRT(B10))/2))) -> 0.6

Sheet Reference_Values
A1: Checkpoint | B1: Engine value | C1: Meaning
A2: rho_open | B2: 0.7746 | C2: Complex pair: √det
A3: x_t6_norm | B3: 0.0254 | C3: Spiral nearly home at k=24
A4: exact_t5 | B4: 0.0183 | C4: e^(λ·5)
A5: euler_t5 | B5: 0.0115 | C5: (1+λΔ)^20
A6: euler_drift_t5 | B6: 0.0068 | C6: The named cost of Euler
A7: k1 | B7: -0.2 | C7: p0 − a2
A8: k2 | B8: -2.1 | C8: p1 − a1
A9: rho_closed | B9: 0.6 | C9: max(0.5, 0.6)

Sheet Checks
A1: Checkpoint | B1: Workbook formula value | C1: Engine value | D1: |diff| | E1: Status
A2: rho_open | B2: =Stability!D5 -> 0.77459667 | C2: =Reference_Values!B2 -> 0.7746 | D2: =ABS(B2-C2) -> 3.3307585e-06 | E2: =IF(D2<0.0005,"PASS","FAIL") -> PASS
A3: x_t6_norm | B3: =Stability!D32 -> 0.025383165 | C3: =Reference_Values!B3 -> 0.0254 | D3: =ABS(B3-C3) -> 1.6835186e-05 | E3: =IF(D3<0.0005,"PASS","FAIL") -> PASS
A4: exact_t5 | B4: =TimeSemantics!C25 -> 0.018315639 | C4: =Reference_Values!B4 -> 0.0183 | D4: =ABS(B4-C4) -> 1.5638889e-05 | E4: =IF(D4<0.0005,"PASS","FAIL") -> PASS
A5: euler_t5 | B5: =TimeSemantics!D25 -> 0.011529215 | C5: =Reference_Values!B5 -> 0.0115 | D5: =ABS(B5-C5) -> 2.9215046e-05 | E5: =IF(D5<0.0005,"PASS","FAIL") -> PASS
A6: euler_drift_t5 | B6: =ABS(TimeSemantics!C25-TimeSemantics!D25) -> 0.0067864238 | C6: =Reference_Values!B6 -> 0.0068 | D6: =ABS(B6-C6) -> 1.3576157e-05 | E6: =IF(D6<0.0005,"PASS","FAIL") -> PASS
A7: k1 | B7: =PolePlacement!B7 -> -0.2 | C7: =Reference_Values!B7 -> -0.2 | D7: =ABS(B7-C7) -> 0 | E7: =IF(D7<0.0005,"PASS","FAIL") -> PASS
A8: k2 | B8: =PolePlacement!B6 -> -2.1 | C8: =Reference_Values!B8 -> -2.1 | D8: =ABS(B8-C8) -> 0 | E8: =IF(D8<0.0005,"PASS","FAIL") -> PASS
A9: rho_closed | B9: =PolePlacement!B11 -> 0.6 | C9: =Reference_Values!B9 -> 0.6 | D9: =ABS(B9-C9) -> 0 | E9: =IF(D9<0.0005,"PASS","FAIL") -> PASS
A11: All rows must read PASS.
