Workbook

Sheet README
B1: DCT Laboratory — Vol I, Ch 9: Enterprise State Architecture
B2: Seed 26109 · Companion to DCT_V1_Ch09_Lab.ipynb and AXIOM-09.
B4: The dependency graph W (shock to column j hits row i), topology metrics, three propagation
B5: rounds via SUMPRODUCT, and length-3 path counting through on-sheet matrix powers.
B6: LEGEND — pale-gold cells (the W matrix) are the editable inputs.

Sheet Graph
B1: Treasury | C1: Operatio | D1: Technolo | E1: Sales | F1: HR | G1: Risk
A2: Treasury | B2: 0 | C2: 0.3 | D2: 0.1 | E2: 0.4 | F2: 0 | G2: 0.2
A3: Operations | B3: 0.1 | C3: 0 | D3: 0.45 | E3: 0.2 | F3: 0.25 | G3: 0
A4: Technology | B4: 0.15 | C4: 0.05 | D4: 0 | E4: 0 | F4: 0.2 | G4: 0
A5: Sales | B5: 0 | C5: 0.35 | D5: 0.3 | E5: 0 | F5: 0.1 | G5: 0
A6: HR | B6: 0.05 | C6: 0.1 | D6: 0 | E6: 0 | F6: 0 | G6: 0
A7: Risk | B7: 0.2 | C7: 0.15 | D7: 0.25 | E7: 0.15 | F7: 0.05 | G7: 0
A9: edges (count W>0) | B9: =SUMPRODUCT(--(B2:G7>0)) -> 21
A10: density = edges/30 | B10: =B9/30 -> 0.7
A11: out-degree Technology | B11: =SUMPRODUCT(--(D2:D7>0)) -> 4

Sheet Propagation
A1: round | B1: Treasury | C1: Operatio | D1: Technolo | E1: Sales | F1: HR | G1: Risk
A2: 0 | B2: 0 | C2: 0 | D2: 10 | E2: 0 | F2: 0 | G2: 0
A3: 1 | B3: =SUMPRODUCT(Graph!B2:G2,B2:G2) -> 1 | C3: =SUMPRODUCT(Graph!B3:G3,B2:G2) -> 4.5 | D3: =SUMPRODUCT(Graph!B4:G4,B2:G2) -> 0 | E3: =SUMPRODUCT(Graph!B5:G5,B2:G2) -> 3 | F3: =SUMPRODUCT(Graph!B6:G6,B2:G2) -> 0 | G3: =SUMPRODUCT(Graph!B7:G7,B2:G2) -> 2.5
A4: 2 | B4: =SUMPRODUCT(Graph!B2:G2,B3:G3) -> 3.05 | C4: =SUMPRODUCT(Graph!B3:G3,B3:G3) -> 0.7 | D4: =SUMPRODUCT(Graph!B4:G4,B3:G3) -> 0.375 | E4: =SUMPRODUCT(Graph!B5:G5,B3:G3) -> 1.575 | F4: =SUMPRODUCT(Graph!B6:G6,B3:G3) -> 0.5 | G4: =SUMPRODUCT(Graph!B7:G7,B3:G3) -> 1.325
A5: 3 | B5: =SUMPRODUCT(Graph!B2:G2,B4:G4) -> 1.1425 | C5: =SUMPRODUCT(Graph!B3:G3,B4:G4) -> 0.91375 | D5: =SUMPRODUCT(Graph!B4:G4,B4:G4) -> 0.5925 | E5: =SUMPRODUCT(Graph!B5:G5,B4:G4) -> 0.4075 | F5: =SUMPRODUCT(Graph!B6:G6,B4:G4) -> 0.2225 | G5: =SUMPRODUCT(Graph!B7:G7,B4:G4) -> 1.07
A7: cumulative r1-r3 | B7: =SUM(B3:B5) -> 5.1925 | C7: =SUM(C3:C5) -> 6.11375 | D7: =SUM(D3:D5) -> 0.9675 | E7: =SUM(E3:E5) -> 4.9825 | F7: =SUM(F3:F5) -> 0.7225 | G7: =SUM(G3:G5) -> 4.895
A8: total | B8: =SUM(B7:G7) -> 22.87375

Sheet Paths
A1: ADJ = (W>0) | I1: ADJ^2
A2: =IF(Graph!B2>0,1,0) -> 0 | B2: =IF(Graph!C2>0,1,0) -> 1 | C2: =IF(Graph!D2>0,1,0) -> 1 | D2: =IF(Graph!E2>0,1,0) -> 1 | E2: =IF(Graph!F2>0,1,0) -> 0 | F2: =IF(Graph!G2>0,1,0) -> 1 | I2: =A2*A2+B2*A3+C2*A4+D2*A5+E2*A6+F2*A7 -> 3 | J2: =A2*B2+B2*B3+C2*B4+D2*B5+E2*B6+F2*B7 -> 3 | K2: =A2*C2+B2*C3+C2*C4+D2*C5+E2*C6+F2*C7 -> 3 | L2: =A2*D2+B2*D3+C2*D4+D2*D5+E2*D6+F2*D7 -> 2 | M2: =A2*E2+B2*E3+C2*E4+D2*E5+E2*E6+F2*E7 -> 4 | N2: =A2*F2+B2*F3+C2*F4+D2*F5+E2*F6+F2*F7 -> 0
A3: =IF(Graph!B3>0,1,0) -> 1 | B3: =IF(Graph!C3>0,1,0) -> 0 | C3: =IF(Graph!D3>0,1,0) -> 1 | D3: =IF(Graph!E3>0,1,0) -> 1 | E3: =IF(Graph!F3>0,1,0) -> 1 | F3: =IF(Graph!G3>0,1,0) -> 0 | I3: =A3*A2+B3*A3+C3*A4+D3*A5+E3*A6+F3*A7 -> 2 | J3: =A3*B2+B3*B3+C3*B4+D3*B5+E3*B6+F3*B7 -> 4 | K3: =A3*C2+B3*C3+C3*C4+D3*C5+E3*C6+F3*C7 -> 2 | L3: =A3*D2+B3*D3+C3*D4+D3*D5+E3*D6+F3*D7 -> 1 | M3: =A3*E2+B3*E3+C3*E4+D3*E5+E3*E6+F3*E7 -> 2 | N3: =A3*F2+B3*F3+C3*F4+D3*F5+E3*F6+F3*F7 -> 1
A4: =IF(Graph!B4>0,1,0) -> 1 | B4: =IF(Graph!C4>0,1,0) -> 1 | C4: =IF(Graph!D4>0,1,0) -> 0 | D4: =IF(Graph!E4>0,1,0) -> 0 | E4: =IF(Graph!F4>0,1,0) -> 1 | F4: =IF(Graph!G4>0,1,0) -> 0 | I4: =A4*A2+B4*A3+C4*A4+D4*A5+E4*A6+F4*A7 -> 2 | J4: =A4*B2+B4*B3+C4*B4+D4*B5+E4*B6+F4*B7 -> 2 | K4: =A4*C2+B4*C3+C4*C4+D4*C5+E4*C6+F4*C7 -> 2 | L4: =A4*D2+B4*D3+C4*D4+D4*D5+E4*D6+F4*D7 -> 2 | M4: =A4*E2+B4*E3+C4*E4+D4*E5+E4*E6+F4*E7 -> 1 | N4: =A4*F2+B4*F3+C4*F4+D4*F5+E4*F6+F4*F7 -> 1
A5: =IF(Graph!B5>0,1,0) -> 0 | B5: =IF(Graph!C5>0,1,0) -> 1 | C5: =IF(Graph!D5>0,1,0) -> 1 | D5: =IF(Graph!E5>0,1,0) -> 0 | E5: =IF(Graph!F5>0,1,0) -> 1 | F5: =IF(Graph!G5>0,1,0) -> 0 | I5: =A5*A2+B5*A3+C5*A4+D5*A5+E5*A6+F5*A7 -> 3 | J5: =A5*B2+B5*B3+C5*B4+D5*B5+E5*B6+F5*B7 -> 2 | K5: =A5*C2+B5*C3+C5*C4+D5*C5+E5*C6+F5*C7 -> 1 | L5: =A5*D2+B5*D3+C5*D4+D5*D5+E5*D6+F5*D7 -> 1 | M5: =A5*E2+B5*E3+C5*E4+D5*E5+E5*E6+F5*E7 -> 2 | N5: =A5*F2+B5*F3+C5*F4+D5*F5+E5*F6+F5*F7 -> 0
A6: =IF(Graph!B6>0,1,0) -> 1 | B6: =IF(Graph!C6>0,1,0) -> 1 | C6: =IF(Graph!D6>0,1,0) -> 0 | D6: =IF(Graph!E6>0,1,0) -> 0 | E6: =IF(Graph!F6>0,1,0) -> 0 | F6: =IF(Graph!G6>0,1,0) -> 0 | I6: =A6*A2+B6*A3+C6*A4+D6*A5+E6*A6+F6*A7 -> 1 | J6: =A6*B2+B6*B3+C6*B4+D6*B5+E6*B6+F6*B7 -> 1 | K6: =A6*C2+B6*C3+C6*C4+D6*C5+E6*C6+F6*C7 -> 2 | L6: =A6*D2+B6*D3+C6*D4+D6*D5+E6*D6+F6*D7 -> 2 | M6: =A6*E2+B6*E3+C6*E4+D6*E5+E6*E6+F6*E7 -> 1 | N6: =A6*F2+B6*F3+C6*F4+D6*F5+E6*F6+F6*F7 -> 1
A7: =IF(Graph!B7>0,1,0) -> 1 | B7: =IF(Graph!C7>0,1,0) -> 1 | C7: =IF(Graph!D7>0,1,0) -> 1 | D7: =IF(Graph!E7>0,1,0) -> 1 | E7: =IF(Graph!F7>0,1,0) -> 1 | F7: =IF(Graph!G7>0,1,0) -> 0 | I7: =A7*A2+B7*A3+C7*A4+D7*A5+E7*A6+F7*A7 -> 3 | J7: =A7*B2+B7*B3+C7*B4+D7*B5+E7*B6+F7*B7 -> 4 | K7: =A7*C2+B7*C3+C7*C4+D7*C5+E7*C6+F7*C7 -> 3 | L7: =A7*D2+B7*D3+C7*D4+D7*D5+E7*D6+F7*D7 -> 2 | M7: =A7*E2+B7*E3+C7*E4+D7*E5+E7*E6+F7*E7 -> 3 | N7: =A7*F2+B7*F3+C7*F4+D7*F5+E7*F6+F7*F7 -> 1
A10: ADJ^3 = ADJ^2 * ADJ
A11: =I2*A2+J2*A3+K2*A4+L2*A5+M2*A6+N2*A7 -> 10 | B11: =I2*B2+J2*B3+K2*B4+L2*B5+M2*B6+N2*B7 -> 12 | C11: =I2*C2+J2*C3+K2*C4+L2*C5+M2*C6+N2*C7 -> 8 | D11: =I2*D2+J2*D3+K2*D4+L2*D5+M2*D6+N2*D7 -> 6 | E11: =I2*E2+J2*E3+K2*E4+L2*E5+M2*E6+N2*E7 -> 8 | F11: =I2*F2+J2*F3+K2*F4+L2*F5+M2*F6+N2*F7 -> 3
A12: =I3*A2+J3*A3+K3*A4+L3*A5+M3*A6+N3*A7 -> 9 | B12: =I3*B2+J3*B3+K3*B4+L3*B5+M3*B6+N3*B7 -> 8 | C12: =I3*C2+J3*C3+K3*C4+L3*C5+M3*C6+N3*C7 -> 8 | D12: =I3*D2+J3*D3+K3*D4+L3*D5+M3*D6+N3*D7 -> 7 | E12: =I3*E2+J3*E3+K3*E4+L3*E5+M3*E6+N3*E7 -> 8 | F12: =I3*F2+J3*F3+K3*F4+L3*F5+M3*F6+N3*F7 -> 2
A13: =I4*A2+J4*A3+K4*A4+L4*A5+M4*A6+N4*A7 -> 6 | B13: =I4*B2+J4*B3+K4*B4+L4*B5+M4*B6+N4*B7 -> 8 | C13: =I4*C2+J4*C3+K4*C4+L4*C5+M4*C6+N4*C7 -> 7 | D13: =I4*D2+J4*D3+K4*D4+L4*D5+M4*D6+N4*D7 -> 5 | E13: =I4*E2+J4*E3+K4*E4+L4*E5+M4*E6+N4*E7 -> 7 | F13: =I4*F2+J4*F3+K4*F4+L4*F5+M4*F6+N4*F7 -> 2
A14: =I5*A2+J5*A3+K5*A4+L5*A5+M5*A6+N5*A7 -> 5 | B14: =I5*B2+J5*B3+K5*B4+L5*B5+M5*B6+N5*B7 -> 7 | C14: =I5*C2+J5*C3+K5*C4+L5*C5+M5*C6+N5*C7 -> 6 | D14: =I5*D2+J5*D3+K5*D4+L5*D5+M5*D6+N5*D7 -> 5 | E14: =I5*E2+J5*E3+K5*E4+L5*E5+M5*E6+N5*E7 -> 4 | F14: =I5*F2+J5*F3+K5*F4+L5*F5+M5*F6+N5*F7 -> 3
A15: =I6*A2+J6*A3+K6*A4+L6*A5+M6*A6+N6*A7 -> 5 | B15: =I6*B2+J6*B3+K6*B4+L6*B5+M6*B6+N6*B7 -> 7 | C15: =I6*C2+J6*C3+K6*C4+L6*C5+M6*C6+N6*C7 -> 5 | D15: =I6*D2+J6*D3+K6*D4+L6*D5+M6*D6+N6*D7 -> 3 | E15: =I6*E2+J6*E3+K6*E4+L6*E5+M6*E6+N6*E7 -> 6 | F15: =I6*F2+J6*F3+K6*F4+L6*F5+M6*F6+N6*F7 -> 1
A16: =I7*A2+J7*A3+K7*A4+L7*A5+M7*A6+N7*A7 -> 11 | B16: =I7*B2+J7*B3+K7*B4+L7*B5+M7*B6+N7*B7 -> 12 | C16: =I7*C2+J7*C3+K7*C4+L7*C5+M7*C6+N7*C7 -> 10 | D16: =I7*D2+J7*D3+K7*D4+L7*D5+M7*D6+N7*D7 -> 8 | E16: =I7*E2+J7*E3+K7*E4+L7*E5+M7*E6+N7*E7 -> 10 | F16: =I7*F2+J7*F3+K7*F4+L7*F5+M7*F6+N7*F7 -> 3
A18: paths len-3 Tech→Treasury = ADJ^3[Treasury,Tech]
A19: =C11 -> 8

Sheet Reference_Values
A1: Checkpoint | B1: Engine value | C1: Meaning
A2: density | B2: 0.7 | C2: 21 edges of 30 possible
A3: out_degree_tech | B3: 4 | C3: Technology feeds four components
A4: ops_round1 | B4: 4.5 | C4: First-round hit to Operations
A5: treasury_round2 | B5: 3.05 | C5: Tech shock reaches funding in two hops
A6: cum_impact_total | B6: 22.8738 | C6: Three rounds, summed everywhere
A7: cum_impact_risk | B7: 4.895 | C7: What Risk absorbs
A8: paths3_tech_treasury | B8: 8 | C8: Distinct 3-hop routes
A9: spectral_radius_W | B9: 0.625 | C9: <1: propagation dies out

Sheet Checks
A1: Checkpoint | B1: Workbook formula value | C1: Engine value | D1: |diff| | E1: Status
A2: density | B2: =Graph!B10 -> 0.7 | C2: =Reference_Values!B2 -> 0.7 | D2: =ABS(B2-C2) -> 0 | E2: =IF(D2<0.0005,"PASS","FAIL") -> PASS
A3: out_degree_tech | B3: =Graph!B11 -> 4 | C3: =Reference_Values!B3 -> 4 | D3: =ABS(B3-C3) -> 0 | E3: =IF(D3<0.0005,"PASS","FAIL") -> PASS
A4: ops_round1 | B4: =Propagation!C3 -> 4.5 | C4: =Reference_Values!B4 -> 4.5 | D4: =ABS(B4-C4) -> 0 | E4: =IF(D4<0.0005,"PASS","FAIL") -> PASS
A5: treasury_round2 | B5: =Propagation!B4 -> 3.05 | C5: =Reference_Values!B5 -> 3.05 | D5: =ABS(B5-C5) -> 0 | E5: =IF(D5<0.0005,"PASS","FAIL") -> PASS
A6: cum_impact_total | B6: =Propagation!B8 -> 22.87375 | C6: =Reference_Values!B6 -> 22.8738 | D6: =ABS(B6-C6) -> 5e-05 | E6: =IF(D6<0.0005,"PASS","FAIL") -> PASS
A7: cum_impact_risk | B7: =Propagation!G7 -> 4.895 | C7: =Reference_Values!B7 -> 4.895 | D7: =ABS(B7-C7) -> 0 | E7: =IF(D7<0.0005,"PASS","FAIL") -> PASS
A8: paths3_tech_treasury | B8: =Paths!A19 -> 8 | C8: =Reference_Values!B8 -> 8 | D8: =ABS(B8-C8) -> 0 | E8: =IF(D8<0.0005,"PASS","FAIL") -> PASS
A10: All rows must read PASS.
