Workbook

Sheet README
B1: DCT Laboratory — Vol I, Ch 10: Enterprise Capital Architecture
B2: Seed 26110 · Companion to DCT_V1_Ch10_Lab.ipynb and AXIOM-10.
B4: Three capital stocks under K' = (1-delta)K + I; balanced vs finance-heavy allocation through
B5: Y = A*F^0.3*H^0.4*T^0.3; the depletion asymmetry (30% shock, recovery counted via COUNTIF).
B6: LEGEND — pale-gold cells are the editable inputs.

Sheet Parameters
A1: Name | B1: Financial | C1: Human | D1: Technological
A2: K0 | B2: 40 | C2: 30 | D2: 20
A3: delta | B3: 0.02 | C3: 0.06 | D3: 0.1
A4: alpha | B4: 0.3 | C4: 0.4 | D4: 0.3
A5: I policy A | B5: 2 | C5: 2 | D5: 2
A6: I policy B | B6: 4 | C6: 1 | D6: 1
A8: A (TFP) | B8: 10
A9: shock multiplier (H, q10) | B9: 0.7

Sheet PolicyA
A1: k | B1: F | C1: H | D1: T | E1: Y
A2: 0 | B2: =Parameters!B2 -> 40 | C2: =Parameters!C2 -> 30 | D2: =Parameters!D2 -> 20 | E2: =Parameters!$B$8*B2^Parameters!$B$4*C2^Parameters!$C$4*D2^Parameters!$D$4 -> 289.58462
A3: 1 | B3: =(1-Parameters!$B$3)*B2+Parameters!$B$5 -> 41.2 | C3: =(1-Parameters!$C$3)*C2+Parameters!$C$5 -> 30.2 | D3: =(1-Parameters!$D$3)*D2+Parameters!$D$5 -> 20 | E3: =Parameters!$B$8*B3^Parameters!$B$4*C3^Parameters!$C$4*D3^Parameters!$D$4 -> 292.94153
A4: 2 | B4: =(1-Parameters!$B$3)*B3+Parameters!$B$5 -> 42.376 | C4: =(1-Parameters!$C$3)*C3+Parameters!$C$5 -> 30.388 | D4: =(1-Parameters!$D$3)*D3+Parameters!$D$5 -> 20 | E4: =Parameters!$B$8*B4^Parameters!$B$4*C4^Parameters!$C$4*D4^Parameters!$D$4 -> 296.15961
A5: 3 | B5: =(1-Parameters!$B$3)*B4+Parameters!$B$5 -> 43.52848 | C5: =(1-Parameters!$C$3)*C4+Parameters!$C$5 -> 30.56472 | D5: =(1-Parameters!$D$3)*D4+Parameters!$D$5 -> 20 | E5: =Parameters!$B$8*B5^Parameters!$B$4*C5^Parameters!$C$4*D5^Parameters!$D$4 -> 299.2466
A6: 4 | B6: =(1-Parameters!$B$3)*B5+Parameters!$B$5 -> 44.65791 | C6: =(1-Parameters!$C$3)*C5+Parameters!$C$5 -> 30.730837 | D6: =(1-Parameters!$D$3)*D5+Parameters!$D$5 -> 20 | E6: =Parameters!$B$8*B6^Parameters!$B$4*C6^Parameters!$C$4*D6^Parameters!$D$4 -> 302.20961
A7: 5 | B7: =(1-Parameters!$B$3)*B6+Parameters!$B$5 -> 45.764752 | C7: =(1-Parameters!$C$3)*C6+Parameters!$C$5 -> 30.886987 | D7: =(1-Parameters!$D$3)*D6+Parameters!$D$5 -> 20 | E7: =Parameters!$B$8*B7^Parameters!$B$4*C7^Parameters!$C$4*D7^Parameters!$D$4 -> 305.05528
A8: 6 | B8: =(1-Parameters!$B$3)*B7+Parameters!$B$5 -> 46.849457 | C8: =(1-Parameters!$C$3)*C7+Parameters!$C$5 -> 31.033767 | D8: =(1-Parameters!$D$3)*D7+Parameters!$D$5 -> 20 | E8: =Parameters!$B$8*B8^Parameters!$B$4*C8^Parameters!$C$4*D8^Parameters!$D$4 -> 307.78976
A9: 7 | B9: =(1-Parameters!$B$3)*B8+Parameters!$B$5 -> 47.912468 | C9: =(1-Parameters!$C$3)*C8+Parameters!$C$5 -> 31.171741 | D9: =(1-Parameters!$D$3)*D8+Parameters!$D$5 -> 20 | E9: =Parameters!$B$8*B9^Parameters!$B$4*C9^Parameters!$C$4*D9^Parameters!$D$4 -> 310.41878
A10: 8 | B10: =(1-Parameters!$B$3)*B9+Parameters!$B$5 -> 48.954219 | C10: =(1-Parameters!$C$3)*C9+Parameters!$C$5 -> 31.301437 | D10: =(1-Parameters!$D$3)*D9+Parameters!$D$5 -> 20 | E10: =Parameters!$B$8*B10^Parameters!$B$4*C10^Parameters!$C$4*D10^Parameters!$D$4 -> 312.94769
A11: 9 | B11: =(1-Parameters!$B$3)*B10+Parameters!$B$5 -> 49.975134 | C11: =(1-Parameters!$C$3)*C10+Parameters!$C$5 -> 31.423351 | D11: =(1-Parameters!$D$3)*D10+Parameters!$D$5 -> 20 | E11: =Parameters!$B$8*B11^Parameters!$B$4*C11^Parameters!$C$4*D11^Parameters!$D$4 -> 315.38148
A12: 10 | B12: =(1-Parameters!$B$3)*B11+Parameters!$B$5 -> 50.975632 | C12: =(1-Parameters!$C$3)*C11+Parameters!$C$5 -> 31.53795 | D12: =(1-Parameters!$D$3)*D11+Parameters!$D$5 -> 20 | E12: =Parameters!$B$8*B12^Parameters!$B$4*C12^Parameters!$C$4*D12^Parameters!$D$4 -> 317.72484
A13: 11 | B13: =(1-Parameters!$B$3)*B12+Parameters!$B$5 -> 51.956119 | C13: =(1-Parameters!$C$3)*C12+Parameters!$C$5 -> 31.645673 | D13: =(1-Parameters!$D$3)*D12+Parameters!$D$5 -> 20 | E13: =Parameters!$B$8*B13^Parameters!$B$4*C13^Parameters!$C$4*D13^Parameters!$D$4 -> 319.98214
A14: 12 | B14: =(1-Parameters!$B$3)*B13+Parameters!$B$5 -> 52.916997 | C14: =(1-Parameters!$C$3)*C13+Parameters!$C$5 -> 31.746932 | D14: =(1-Parameters!$D$3)*D13+Parameters!$D$5 -> 20 | E14: =Parameters!$B$8*B14^Parameters!$B$4*C14^Parameters!$C$4*D14^Parameters!$D$4 -> 322.15751
... A22: 20 | B22: =(1-Parameters!$B$3)*B21+Parameters!$B$5 -> 59.943522 | C22: =(1-Parameters!$C$3)*C21+Parameters!$C$5 -> 32.366313 | D22: =(1-Parameters!$D$3)*D21+Parameters!$D$5 -> 20 | E22: =Parameters!$B$8*B22^Parameters!$B$4*C22^Parameters!$C$4*D22^Parameters!$D$4 -> 337.03031
A24: cum Y (k=1..20) | B24: =SUM(E3:E22) -> 6348.9326

Sheet PolicyB
A1: k | B1: F | C1: H | D1: T | E1: Y
A2: 0 | B2: =Parameters!B2 -> 40 | C2: =Parameters!C2 -> 30 | D2: =Parameters!D2 -> 20 | E2: =Parameters!$B$8*B2^Parameters!$B$4*C2^Parameters!$C$4*D2^Parameters!$D$4 -> 289.58462
A3: 1 | B3: =(1-Parameters!$B$3)*B2+Parameters!$B$6 -> 43.2 | C3: =(1-Parameters!$C$3)*C2+Parameters!$C$6 -> 29.2 | D3: =(1-Parameters!$D$3)*D2+Parameters!$D$6 -> 19 | E3: =Parameters!$B$8*B3^Parameters!$B$4*C3^Parameters!$C$4*D3^Parameters!$D$4 -> 288.68508
A4: 2 | B4: =(1-Parameters!$B$3)*B3+Parameters!$B$6 -> 46.336 | C4: =(1-Parameters!$C$3)*C3+Parameters!$C$6 -> 28.448 | D4: =(1-Parameters!$D$3)*D3+Parameters!$D$6 -> 18.1 | E4: =Parameters!$B$8*B4^Parameters!$B$4*C4^Parameters!$C$4*D4^Parameters!$D$4 -> 287.54103
A5: 3 | B5: =(1-Parameters!$B$3)*B4+Parameters!$B$6 -> 49.40928 | C5: =(1-Parameters!$C$3)*C4+Parameters!$C$6 -> 27.74112 | D5: =(1-Parameters!$D$3)*D4+Parameters!$D$6 -> 17.29 | E5: =Parameters!$B$8*B5^Parameters!$B$4*C5^Parameters!$C$4*D5^Parameters!$D$4 -> 286.24022
A6: 4 | B6: =(1-Parameters!$B$3)*B5+Parameters!$B$6 -> 52.421094 | C6: =(1-Parameters!$C$3)*C5+Parameters!$C$6 -> 27.076653 | D6: =(1-Parameters!$D$3)*D5+Parameters!$D$6 -> 16.561 | E6: =Parameters!$B$8*B6^Parameters!$B$4*C6^Parameters!$C$4*D6^Parameters!$D$4 -> 284.84971
A7: 5 | B7: =(1-Parameters!$B$3)*B6+Parameters!$B$6 -> 55.372673 | C7: =(1-Parameters!$C$3)*C6+Parameters!$C$6 -> 26.452054 | D7: =(1-Parameters!$D$3)*D6+Parameters!$D$6 -> 15.9049 | E7: =Parameters!$B$8*B7^Parameters!$B$4*C7^Parameters!$C$4*D7^Parameters!$D$4 -> 283.42078
A8: 6 | B8: =(1-Parameters!$B$3)*B7+Parameters!$B$6 -> 58.265219 | C8: =(1-Parameters!$C$3)*C7+Parameters!$C$6 -> 25.86493 | D8: =(1-Parameters!$D$3)*D7+Parameters!$D$6 -> 15.31441 | E8: =Parameters!$B$8*B8^Parameters!$B$4*C8^Parameters!$C$4*D8^Parameters!$D$4 -> 281.99241
A9: 7 | B9: =(1-Parameters!$B$3)*B8+Parameters!$B$6 -> 61.099915 | C9: =(1-Parameters!$C$3)*C8+Parameters!$C$6 -> 25.313035 | D9: =(1-Parameters!$D$3)*D8+Parameters!$D$6 -> 14.782969 | E9: =Parameters!$B$8*B9^Parameters!$B$4*C9^Parameters!$C$4*D9^Parameters!$D$4 -> 280.59399
A10: 8 | B10: =(1-Parameters!$B$3)*B9+Parameters!$B$6 -> 63.877916 | C10: =(1-Parameters!$C$3)*C9+Parameters!$C$6 -> 24.794253 | D10: =(1-Parameters!$D$3)*D9+Parameters!$D$6 -> 14.304672 | E10: =Parameters!$B$8*B10^Parameters!$B$4*C10^Parameters!$C$4*D10^Parameters!$D$4 -> 279.24731
A11: 9 | B11: =(1-Parameters!$B$3)*B10+Parameters!$B$6 -> 66.600358 | C11: =(1-Parameters!$C$3)*C10+Parameters!$C$6 -> 24.306597 | D11: =(1-Parameters!$D$3)*D10+Parameters!$D$6 -> 13.874205 | E11: =Parameters!$B$8*B11^Parameters!$B$4*C11^Parameters!$C$4*D11^Parameters!$D$4 -> 277.96817
A12: 10 | B12: =(1-Parameters!$B$3)*B11+Parameters!$B$6 -> 69.268351 | C12: =(1-Parameters!$C$3)*C11+Parameters!$C$6 -> 23.848202 | D12: =(1-Parameters!$D$3)*D11+Parameters!$D$6 -> 13.486784 | E12: =Parameters!$B$8*B12^Parameters!$B$4*C12^Parameters!$C$4*D12^Parameters!$D$4 -> 276.76759
A13: 11 | B13: =(1-Parameters!$B$3)*B12+Parameters!$B$6 -> 71.882984 | C13: =(1-Parameters!$C$3)*C12+Parameters!$C$6 -> 23.417309 | D13: =(1-Parameters!$D$3)*D12+Parameters!$D$6 -> 13.138106 | E13: =Parameters!$B$8*B13^Parameters!$B$4*C13^Parameters!$C$4*D13^Parameters!$D$4 -> 275.65283
A14: 12 | B14: =(1-Parameters!$B$3)*B13+Parameters!$B$6 -> 74.445324 | C14: =(1-Parameters!$C$3)*C13+Parameters!$C$6 -> 23.012271 | D14: =(1-Parameters!$D$3)*D13+Parameters!$D$6 -> 12.824295 | E14: =Parameters!$B$8*B14^Parameters!$B$4*C14^Parameters!$C$4*D14^Parameters!$D$4 -> 274.62816
... A22: 20 | B22: =(1-Parameters!$B$3)*B21+Parameters!$B$6 -> 93.182725 | C22: =(1-Parameters!$C$3)*C21+Parameters!$C$6 -> 20.53475 | D22: =(1-Parameters!$D$3)*D21+Parameters!$D$6 -> 11.215767 | E22: =Parameters!$B$8*B22^Parameters!$B$4*C22^Parameters!$C$4*D22^Parameters!$D$4 -> 269.61564
A24: cum Y (k=1..20) | B24: =SUM(E3:E22) -> 5548.505

Sheet Shock
A1: k | B1: H (shocked path)
A2: 0 | B2: =Parameters!C2 -> 30 | D2: H10 pre-shock (from PolicyA) | E2: =PolicyA!C12 -> 31.53795
A3: 1 | B3: =(1-Parameters!$C$3)*B2+Parameters!$C$5 -> 30.2 | D3: recovery quarters = COUNTIF(B13:B22, < pre) | E3: =COUNTIF(B13:B22,"<"&E2) -> 10
A4: 2 | B4: =(1-Parameters!$C$3)*B3+Parameters!$C$5 -> 30.388
A5: 3 | B5: =(1-Parameters!$C$3)*B4+Parameters!$C$5 -> 30.56472
A6: 4 | B6: =(1-Parameters!$C$3)*B5+Parameters!$C$5 -> 30.730837
A7: 5 | B7: =(1-Parameters!$C$3)*B6+Parameters!$C$5 -> 30.886987
A8: 6 | B8: =(1-Parameters!$C$3)*B7+Parameters!$C$5 -> 31.033767
A9: 7 | B9: =(1-Parameters!$C$3)*B8+Parameters!$C$5 -> 31.171741
A10: 8 | B10: =(1-Parameters!$C$3)*B9+Parameters!$C$5 -> 31.301437
A11: 9 | B11: =(1-Parameters!$C$3)*B10+Parameters!$C$5 -> 31.423351
A12: 10 | B12: =((1-Parameters!$C$3)*B11+Parameters!$C$5)*Parameters!$B$9 -> 22.076565
A13: 11 | B13: =(1-Parameters!$C$3)*B12+Parameters!$C$5 -> 22.751971
A14: 12 | B14: =(1-Parameters!$C$3)*B13+Parameters!$C$5 -> 23.386853
A15: 13 | B15: =(1-Parameters!$C$3)*B14+Parameters!$C$5 -> 23.983641
A16: 14 | B16: =(1-Parameters!$C$3)*B15+Parameters!$C$5 -> 24.544623
A17: 15 | B17: =(1-Parameters!$C$3)*B16+Parameters!$C$5 -> 25.071946
A18: 16 | B18: =(1-Parameters!$C$3)*B17+Parameters!$C$5 -> 25.567629
A19: 17 | B19: =(1-Parameters!$C$3)*B18+Parameters!$C$5 -> 26.033571
A20: 18 | B20: =(1-Parameters!$C$3)*B19+Parameters!$C$5 -> 26.471557
A21: 19 | B21: =(1-Parameters!$C$3)*B20+Parameters!$C$5 -> 26.883263
A22: 20 | B22: =(1-Parameters!$C$3)*B21+Parameters!$C$5 -> 27.270268

Sheet Reference_Values
A1: Checkpoint | B1: Engine value | C1: Meaning
A2: F20_A | B2: 59.9435 | C2: Financial stock, balanced, q20
A3: H20_A | B3: 32.3663 | C3: Human stock, q20
A4: T20_A | B4: 20 | C4: Tech stock at its fixed point
A5: Y20_A | B5: 337.0303 | C5: Balanced output at q20
A6: Y20_B | B6: 269.6156 | C6: Finance-heavy output at q20
A7: cumY_gap_A_minus_B | B7: 800.4275 | C7: What balance is worth over 5 years
A8: H10_preshock | B8: 31.5379 | C8: The level the shock erases
A9: recovery_quarters | B9: 10 | C9: One quarter down, ten back

Sheet Checks
A1: Checkpoint | B1: Workbook formula value | C1: Engine value | D1: |diff| | E1: Status
A2: F20_A | B2: =PolicyA!B22 -> 59.943522 | C2: =Reference_Values!B2 -> 59.9435 | D2: =ABS(B2-C2) -> 2.1694694e-05 | E2: =IF(D2<0.0005,"PASS","FAIL") -> PASS
A3: H20_A | B3: =PolicyA!C22 -> 32.366313 | C3: =Reference_Values!B3 -> 32.3663 | D3: =ABS(B3-C3) -> 1.2529562e-05 | E3: =IF(D3<0.0005,"PASS","FAIL") -> PASS
A4: T20_A | B4: =PolicyA!D22 -> 20 | C4: =Reference_Values!B4 -> 20 | D4: =ABS(B4-C4) -> 0 | E4: =IF(D4<0.0005,"PASS","FAIL") -> PASS
A5: Y20_A | B5: =PolicyA!E22 -> 337.03031 | C5: =Reference_Values!B5 -> 337.0303 | D5: =ABS(B5-C5) -> 1.3474745e-05 | E5: =IF(D5<0.0005,"PASS","FAIL") -> PASS
A6: Y20_B | B6: =PolicyB!E22 -> 269.61564 | C6: =Reference_Values!B6 -> 269.6156 | D6: =ABS(B6-C6) -> 3.7022259e-05 | E6: =IF(D6<0.0005,"PASS","FAIL") -> PASS
A7: cumY_gap_A_minus_B | B7: =PolicyA!B24-PolicyB!B24 -> 800.42755 | C7: =Reference_Values!B7 -> 800.4275 | D7: =ABS(B7-C7) -> 4.5547412e-05 | E7: =IF(D7<0.0005,"PASS","FAIL") -> PASS
A8: H10_preshock | B8: =Shock!E2 -> 31.53795 | C8: =Reference_Values!B8 -> 31.5379 | D8: =ABS(B8-C8) -> 4.9619684e-05 | E8: =IF(D8<0.0005,"PASS","FAIL") -> PASS
A9: recovery_quarters | B9: =Shock!E3 -> 10 | C9: =Reference_Values!B9 -> 10 | D9: =ABS(B9-C9) -> 0 | E9: =IF(D9<0.0005,"PASS","FAIL") -> PASS
A11: All rows must read PASS.
