Workbook

Sheet README
B1: DCT Laboratory — Vol I, Ch 12: Risk, Resilience, and Robustness Architecture
B2: Seed 26112 · Companion to DCT_V1_Ch12_Lab.ipynb and AXIOM-12.
B4: Propagation with a coupling gain on Chapter 9's graph (three gains, six rounds each);
B5: robustness as MIN over a stress set; resilience as LN(0.1)/LN(rho); survivability via NORMSDIST.
B6: LEGEND — pale-gold cells are the editable inputs.

Sheet Graph
B1: Treasury | C1: Operatio | D1: Technolo | E1: Sales | F1: HR | G1: Risk
A2: Treasury | B2: 0 | C2: 0.3 | D2: 0.1 | E2: 0.4 | F2: 0 | G2: 0.2
A3: Operations | B3: 0.1 | C3: 0 | D3: 0.45 | E3: 0.2 | F3: 0.25 | G3: 0
A4: Technology | B4: 0.15 | C4: 0.05 | D4: 0 | E4: 0 | F4: 0.2 | G4: 0
A5: Sales | B5: 0 | C5: 0.35 | D5: 0.3 | E5: 0 | F5: 0.1 | G5: 0
A6: HR | B6: 0.05 | C6: 0.1 | D6: 0 | E6: 0 | F6: 0 | G6: 0
A7: Risk | B7: 0.2 | C7: 0.15 | D7: 0.25 | E7: 0.15 | F7: 0.05 | G7: 0

Sheet Propagation
A1: gains | B1: g1 | C1: g2 | D1: g3
B2: 1 | C2: 1.5 | D2: 1.7
A4: round | B4: Treasury | C4: Operatio | D4: Technolo | E4: Sales | F4: HR | G4: Risk | H4: round sum | J4: cum6 g1.0 | K4: =SUM(H6:H11) -> 28.426601
A5: 0 | B5: 0 | C5: 0 | D5: 10 | E5: 0 | F5: 0 | G5: 0 | J5: cum6 g1.5 | K5: =SUM(H15:H20) -> 87.420196
A6: 1 | B6: =$B$2*SUMPRODUCT(Graph!B2:G2,B5:G5) -> 1 | C6: =$B$2*SUMPRODUCT(Graph!B3:G3,B5:G5) -> 4.5 | D6: =$B$2*SUMPRODUCT(Graph!B4:G4,B5:G5) -> 0 | E6: =$B$2*SUMPRODUCT(Graph!B5:G5,B5:G5) -> 3 | F6: =$B$2*SUMPRODUCT(Graph!B6:G6,B5:G5) -> 0 | G6: =$B$2*SUMPRODUCT(Graph!B7:G7,B5:G5) -> 2.5 | H6: =SUM(B6:G6) -> 11 | J6: amp ratio g1.7 (r6/r5) | K6: =H29/H28 -> 1.0581203
A7: 2 | B7: =$B$2*SUMPRODUCT(Graph!B2:G2,B6:G6) -> 3.05 | C7: =$B$2*SUMPRODUCT(Graph!B3:G3,B6:G6) -> 0.7 | D7: =$B$2*SUMPRODUCT(Graph!B4:G4,B6:G6) -> 0.375 | E7: =$B$2*SUMPRODUCT(Graph!B5:G5,B6:G6) -> 1.575 | F7: =$B$2*SUMPRODUCT(Graph!B6:G6,B6:G6) -> 0.5 | G7: =$B$2*SUMPRODUCT(Graph!B7:G7,B6:G6) -> 1.325 | H7: =SUM(B7:G7) -> 7.525
A8: 3 | B8: =$B$2*SUMPRODUCT(Graph!B2:G2,B7:G7) -> 1.1425 | C8: =$B$2*SUMPRODUCT(Graph!B3:G3,B7:G7) -> 0.91375 | D8: =$B$2*SUMPRODUCT(Graph!B4:G4,B7:G7) -> 0.5925 | E8: =$B$2*SUMPRODUCT(Graph!B5:G5,B7:G7) -> 0.4075 | F8: =$B$2*SUMPRODUCT(Graph!B6:G6,B7:G7) -> 0.2225 | G8: =$B$2*SUMPRODUCT(Graph!B7:G7,B7:G7) -> 1.07 | H8: =SUM(B8:G8) -> 4.34875
A9: 4 | B9: =$B$2*SUMPRODUCT(Graph!B2:G2,B8:G8) -> 0.710375 | C9: =$B$2*SUMPRODUCT(Graph!B3:G3,B8:G8) -> 0.518 | D9: =$B$2*SUMPRODUCT(Graph!B4:G4,B8:G8) -> 0.2615625 | E9: =$B$2*SUMPRODUCT(Graph!B5:G5,B8:G8) -> 0.5198125 | F9: =$B$2*SUMPRODUCT(Graph!B6:G6,B8:G8) -> 0.1485 | G9: =$B$2*SUMPRODUCT(Graph!B7:G7,B8:G8) -> 0.5859375 | H9: =SUM(B9:G9) -> 2.7441875
A10: 5 | B10: =$B$2*SUMPRODUCT(Graph!B2:G2,B9:G9) -> 0.50666875 | C10: =$B$2*SUMPRODUCT(Graph!B3:G3,B9:G9) -> 0.32982813 | D10: =$B$2*SUMPRODUCT(Graph!B4:G4,B9:G9) -> 0.16215625 | E10: =$B$2*SUMPRODUCT(Graph!B5:G5,B9:G9) -> 0.27461875 | F10: =$B$2*SUMPRODUCT(Graph!B6:G6,B9:G9) -> 0.08731875 | G10: =$B$2*SUMPRODUCT(Graph!B7:G7,B9:G9) -> 0.3705625 | H10: =SUM(B10:G10) -> 1.7311531
A11: 6 | B11: =$B$2*SUMPRODUCT(Graph!B2:G2,B10:G10) -> 0.29912406 | C11: =$B$2*SUMPRODUCT(Graph!B3:G3,B10:G10) -> 0.20039062 | D11: =$B$2*SUMPRODUCT(Graph!B4:G4,B10:G10) -> 0.10995547 | E11: =$B$2*SUMPRODUCT(Graph!B5:G5,B10:G10) -> 0.17281859 | F11: =$B$2*SUMPRODUCT(Graph!B6:G6,B10:G10) -> 0.05831625 | G11: =$B$2*SUMPRODUCT(Graph!B7:G7,B10:G10) -> 0.23690578 | H11: =SUM(B11:G11) -> 1.0775108
A13: round | B13: Treasury | C13: Operatio | D13: Technolo | E13: Sales | F13: HR | G13: Risk | H13: round sum
A14: 0 | B14: 0 | C14: 0 | D14: 10 | E14: 0 | F14: 0 | G14: 0
A15: 1 | B15: =$C$2*SUMPRODUCT(Graph!B2:G2,B14:G14) -> 1.5 | C15: =$C$2*SUMPRODUCT(Graph!B3:G3,B14:G14) -> 6.75 | D15: =$C$2*SUMPRODUCT(Graph!B4:G4,B14:G14) -> 0 | E15: =$C$2*SUMPRODUCT(Graph!B5:G5,B14:G14) -> 4.5 | F15: =$C$2*SUMPRODUCT(Graph!B6:G6,B14:G14) -> 0 | G15: =$C$2*SUMPRODUCT(Graph!B7:G7,B14:G14) -> 3.75 | H15: =SUM(B15:G15) -> 16.5
A16: 2 | B16: =$C$2*SUMPRODUCT(Graph!B2:G2,B15:G15) -> 6.8625 | C16: =$C$2*SUMPRODUCT(Graph!B3:G3,B15:G15) -> 1.575 | D16: =$C$2*SUMPRODUCT(Graph!B4:G4,B15:G15) -> 0.84375 | E16: =$C$2*SUMPRODUCT(Graph!B5:G5,B15:G15) -> 3.54375 | F16: =$C$2*SUMPRODUCT(Graph!B6:G6,B15:G15) -> 1.125 | G16: =$C$2*SUMPRODUCT(Graph!B7:G7,B15:G15) -> 2.98125 | H16: =SUM(B16:G16) -> 16.93125
A17: 3 | B17: =$C$2*SUMPRODUCT(Graph!B2:G2,B16:G16) -> 3.8559375 | C17: =$C$2*SUMPRODUCT(Graph!B3:G3,B16:G16) -> 3.0839063 | D17: =$C$2*SUMPRODUCT(Graph!B4:G4,B16:G16) -> 1.9996875 | E17: =$C$2*SUMPRODUCT(Graph!B5:G5,B16:G16) -> 1.3753125 | F17: =$C$2*SUMPRODUCT(Graph!B6:G6,B16:G16) -> 0.7509375 | G17: =$C$2*SUMPRODUCT(Graph!B7:G7,B16:G16) -> 3.61125 | H17: =SUM(B17:G17) -> 14.677031
A18: 4 | B18: =$C$2*SUMPRODUCT(Graph!B2:G2,B17:G17) -> 3.5962734 | C18: =$C$2*SUMPRODUCT(Graph!B3:G3,B17:G17) -> 2.622375 | D18: =$C$2*SUMPRODUCT(Graph!B4:G4,B17:G17) -> 1.3241602 | E18: =$C$2*SUMPRODUCT(Graph!B5:G5,B17:G17) -> 2.6315508 | F18: =$C$2*SUMPRODUCT(Graph!B6:G6,B17:G17) -> 0.75178125 | G18: =$C$2*SUMPRODUCT(Graph!B7:G7,B17:G17) -> 2.9663086 | H18: =SUM(B18:G18) -> 13.892449
A19: 5 | B19: =$C$2*SUMPRODUCT(Graph!B2:G2,B18:G18) -> 3.8475158 | C19: =$C$2*SUMPRODUCT(Graph!B3:G3,B18:G18) -> 2.5046323 | D19: =$C$2*SUMPRODUCT(Graph!B4:G4,B18:G18) -> 1.231374 | E19: =$C$2*SUMPRODUCT(Graph!B5:G5,B18:G18) -> 2.0853861 | F19: =$C$2*SUMPRODUCT(Graph!B6:G6,B18:G18) -> 0.66307676 | G19: =$C$2*SUMPRODUCT(Graph!B7:G7,B18:G18) -> 2.813959 | H19: =SUM(B19:G19) -> 13.145944
A20: 6 | B20: =$C$2*SUMPRODUCT(Graph!B2:G2,B19:G19) -> 3.40721 | C20: =$C$2*SUMPRODUCT(Graph!B3:G3,B19:G19) -> 2.2825745 | D20: =$C$2*SUMPRODUCT(Graph!B4:G4,B19:G19) -> 1.2524615 | E20: =$C$2*SUMPRODUCT(Graph!B5:G5,B19:G19) -> 1.9685118 | F20: =$C$2*SUMPRODUCT(Graph!B6:G6,B19:G19) -> 0.66425854 | G20: =$C$2*SUMPRODUCT(Graph!B7:G7,B19:G19) -> 2.6985049 | H20: =SUM(B20:G20) -> 12.273521
A22: round | B22: Treasury | C22: Operatio | D22: Technolo | E22: Sales | F22: HR | G22: Risk | H22: round sum
A23: 0 | B23: 0 | C23: 0 | D23: 10 | E23: 0 | F23: 0 | G23: 0
A24: 1 | B24: =$D$2*SUMPRODUCT(Graph!B2:G2,B23:G23) -> 1.7 | C24: =$D$2*SUMPRODUCT(Graph!B3:G3,B23:G23) -> 7.65 | D24: =$D$2*SUMPRODUCT(Graph!B4:G4,B23:G23) -> 0 | E24: =$D$2*SUMPRODUCT(Graph!B5:G5,B23:G23) -> 5.1 | F24: =$D$2*SUMPRODUCT(Graph!B6:G6,B23:G23) -> 0 | G24: =$D$2*SUMPRODUCT(Graph!B7:G7,B23:G23) -> 4.25 | H24: =SUM(B24:G24) -> 18.7
A25: 2 | B25: =$D$2*SUMPRODUCT(Graph!B2:G2,B24:G24) -> 8.8145 | C25: =$D$2*SUMPRODUCT(Graph!B3:G3,B24:G24) -> 2.023 | D25: =$D$2*SUMPRODUCT(Graph!B4:G4,B24:G24) -> 1.08375 | E25: =$D$2*SUMPRODUCT(Graph!B5:G5,B24:G24) -> 4.55175 | F25: =$D$2*SUMPRODUCT(Graph!B6:G6,B24:G24) -> 1.445 | G25: =$D$2*SUMPRODUCT(Graph!B7:G7,B24:G24) -> 3.82925 | H25: =SUM(B25:G25) -> 21.74725
A26: 3 | B26: =$D$2*SUMPRODUCT(Graph!B2:G2,B25:G25) -> 5.6131025 | C26: =$D$2*SUMPRODUCT(Graph!B3:G3,B25:G25) -> 4.4892537 | D26: =$D$2*SUMPRODUCT(Graph!B4:G4,B25:G25) -> 2.9109525 | E26: =$D$2*SUMPRODUCT(Graph!B5:G5,B25:G25) -> 2.0020475 | F26: =$D$2*SUMPRODUCT(Graph!B6:G6,B25:G25) -> 1.0931425 | G26: =$D$2*SUMPRODUCT(Graph!B7:G7,B25:G25) -> 5.25691 | H26: =SUM(B26:G26) -> 21.365409
A27: 4 | B27: =$D$2*SUMPRODUCT(Graph!B2:G2,B26:G26) -> 5.933123 | C27: =$D$2*SUMPRODUCT(Graph!B3:G3,B26:G26) -> 4.3263878 | D27: =$D$2*SUMPRODUCT(Graph!B4:G4,B26:G26) -> 2.1845962 | E27: =$D$2*SUMPRODUCT(Graph!B5:G5,B26:G26) -> 4.341526 | F27: =$D$2*SUMPRODUCT(Graph!B6:G6,B26:G26) -> 1.2402868 | G27: =$D$2*SUMPRODUCT(Graph!B7:G7,B26:G26) -> 4.8938086 | H27: =SUM(B27:G27) -> 22.919728
A28: 5 | B28: =$D$2*SUMPRODUCT(Graph!B2:G2,B27:G27) -> 7.1939717 | C28: =$D$2*SUMPRODUCT(Graph!B3:G3,B27:G27) -> 4.6830877 | D28: =$D$2*SUMPRODUCT(Graph!B4:G4,B27:G27) -> 2.3023869 | E28: =$D$2*SUMPRODUCT(Graph!B5:G5,B27:G27) -> 3.8991935 | F28: =$D$2*SUMPRODUCT(Graph!B6:G6,B27:G27) -> 1.2398014 | G28: =$D$2*SUMPRODUCT(Graph!B7:G7,B27:G27) -> 5.2614576 | H28: =SUM(B28:G28) -> 24.579899
A29: 6 | B29: =$D$2*SUMPRODUCT(Graph!B2:G2,B28:G28) -> 7.2201277 | C29: =$D$2*SUMPRODUCT(Graph!B3:G3,B28:G28) -> 4.8369425 | D29: =$D$2*SUMPRODUCT(Graph!B4:G4,B28:G28) -> 2.6540577 | E29: =$D$2*SUMPRODUCT(Graph!B5:G5,B28:G28) -> 4.1714207 | F29: =$D$2*SUMPRODUCT(Graph!B6:G6,B28:G28) -> 1.4076125 | G29: =$D$2*SUMPRODUCT(Graph!B7:G7,B28:G28) -> 5.7183296 | H29: =SUM(B29:G29) -> 26.008491

Sheet Robust_Resil_Surv
A1: Quantity | B1: Value
A2: baseline performance | B2: 75
A3: drop: demand | B3: 12
A4: drop: funding | B4: 18
A5: drop: cyber | B5: 9
A6: survival floor | B6: 50
A7: robust perf = base - MAX(drops) | B7: =B2-MAX(B3:B5) -> 57
A8: robust margin | B8: =B7-B6 -> 7
A9: rho_p (recovery) | B9: 0.8
A10: recover 90% quarters = LN(0.1)/LN(rho) | B10: =LN(0.1)/LN(B9) -> 10.318851
A11: x0 / mu / sigma / T / barrier
A12: x0 | B12: 100
A13: mu | B13: 0.08
A14: sigma | B14: 0.25
A15: T | B15: 5
A16: barrier | B16: 80
A17: z | B17: =(LN(B16/B12)-(B13-B14^2/2)*B15)/(B14*SQRT(B15)) -> -0.83520458
A18: survivability = 1-NORMSDIST(z) | B18: =1-NORMSDIST(B17) -> 0.79819873

Sheet Reference_Values
A1: Checkpoint | B1: Engine value | C1: Meaning
A2: rho_W | B2: 0.625 | C2: Ch. 9's spectral radius (documented)
A3: critical_gain | B3: 1.6001 | C3: g* = 1/rho: the systemic threshold
A4: cum6_g1.0 | B4: 28.4266 | C4: Six rounds at baseline coupling
A5: cum6_g1.5 | B5: 87.4202 | C5: Subcritical but 3x costlier
A6: amp_ratio_g1.7 | B6: 1.0581 | C6: >1: rounds grow — supercritical
A7: robust_perf | B7: 57 | C7: MIN over the declared stress set
A8: robust_margin | B8: 7 | C8: Above the survival floor
A9: recover90_quarters | B9: 10.3189 | C9: Resilience as a logarithm
A10: survivability_t5 | B10: 0.7982 | C10: 1 - Ch. 8's breach probability

Sheet Checks
A1: Checkpoint | B1: Workbook formula value | C1: Engine value | D1: |diff| | E1: Status
A2: cum6_g1.0 | B2: =Propagation!K4 -> 28.426601 | C2: =Reference_Values!B4 -> 28.4266 | D2: =ABS(B2-C2) -> 1.40625e-06 | E2: =IF(D2<0.0005,"PASS","FAIL") -> PASS
A3: cum6_g1.5 | B3: =Propagation!K5 -> 87.420196 | C3: =Reference_Values!B5 -> 87.4202 | D3: =ABS(B3-C3) -> 4.2456055e-06 | E3: =IF(D3<0.0005,"PASS","FAIL") -> PASS
A4: amp_ratio_g1.7 | B4: =Propagation!K6 -> 1.0581203 | C4: =Reference_Values!B6 -> 1.0581 | D4: =ABS(B4-C4) -> 2.0337059e-05 | E4: =IF(D4<0.0005,"PASS","FAIL") -> PASS
A5: robust_perf | B5: =Robust_Resil_Surv!B7 -> 57 | C5: =Reference_Values!B7 -> 57 | D5: =ABS(B5-C5) -> 0 | E5: =IF(D5<0.0005,"PASS","FAIL") -> PASS
A6: robust_margin | B6: =Robust_Resil_Surv!B8 -> 7 | C6: =Reference_Values!B8 -> 7 | D6: =ABS(B6-C6) -> 0 | E6: =IF(D6<0.0005,"PASS","FAIL") -> PASS
A7: recover90_quarters | B7: =Robust_Resil_Surv!B10 -> 10.318851 | C7: =Reference_Values!B9 -> 10.3189 | D7: =ABS(B7-C7) -> 4.8841484e-05 | E7: =IF(D7<0.0005,"PASS","FAIL") -> PASS
A8: survivability_t5 | B8: =Robust_Resil_Surv!B18 -> 0.79819873 | C8: =Reference_Values!B10 -> 0.7982 | D8: =ABS(B8-C8) -> 1.2670577e-06 | E8: =IF(D8<0.0005,"PASS","FAIL") -> PASS
A10: All rows must read PASS.
