Workbook

Sheet README
B1: DCT Laboratory — Vol I, Ch 13: Unified Enterprise Transformation Architecture
B2: Seed 26113 · Companion to DCT_V1_Ch13_Lab.ipynb and AXIOM-13.
B4: The 5x5 interaction matrix over (A_S, A_T, A_C, A_P, A_R); integrated (K, p) dynamics with a
B5: unified operator raising the coupling g at quarter 8; steady states in 2x2 closed form.
B6: LEGEND — pale-gold cells are the editable inputs.

Sheet Interactions
B1: A_S | C1: A_T | D1: A_C | E1: A_P | F1: A_R | G1: row sum
A2: A_S | B2: 0 | C2: 0.3 | D2: 0.2 | E2: 0.15 | F2: 0.25 | G2: =SUM(B2:F2) -> 0.9
A3: A_T | B3: 0.35 | C3: 0 | D3: 0.25 | E3: 0.2 | F3: 0.15 | G3: =SUM(B3:F3) -> 0.95
A4: A_C | B4: 0.2 | C4: 0.3 | D4: 0 | E4: 0.25 | F4: 0.1 | G4: =SUM(B4:F4) -> 0.85
A5: A_P | B5: 0.15 | C5: 0.25 | D5: 0.35 | E5: 0 | F5: 0.1 | G5: =SUM(B5:F5) -> 0.85
A6: A_R | B6: 0.3 | C6: 0.2 | D6: 0.15 | E6: 0.25 | F6: 0 | G6: =SUM(B6:F6) -> 0.9
A8: max entry | B8: =MAX(B2:F6) -> 0.35
A9: max row sum | B9: =MAX(G2:G6) -> 0.95

Sheet Integrated
A1: k | B1: K | C1: p | D1: parameters
A2: 0 | B2: 40 | C2: 50 | D2: aKK | E2: 0.9
A3: 1 | B3: =$E$2*B2+$E$3*C2+$E$4 -> 50 | C3: =IF(A3<=$E$9,$E$5,$E$6)*B2+$E$7*C2+$E$8 -> 44.4 | D3: aKp | E3: 0.2
A4: 2 | B4: =$E$2*B3+$E$3*C3+$E$4 -> 57.88 | C4: =IF(A4<=$E$9,$E$5,$E$6)*B3+$E$7*C3+$E$8 -> 40.52 | D4: bK | E4: 4
A5: 3 | B5: =$E$2*B4+$E$3*C4+$E$4 -> 64.196 | C5: =IF(A5<=$E$9,$E$5,$E$6)*B4+$E$7*C4+$E$8 -> 37.8888 | D5: g pre | E5: 0.06
A6: 4 | B6: =$E$2*B5+$E$3*C5+$E$4 -> 69.35416 | C6: =IF(A6<=$E$9,$E$5,$E$6)*B5+$E$7*C5+$E$8 -> 36.1628 | D6: g post | E6: 0.09
A7: 5 | B7: =$E$2*B6+$E$3*C6+$E$4 -> 73.651304 | C7: =IF(A7<=$E$9,$E$5,$E$6)*B6+$E$7*C6+$E$8 -> 35.09149 | D7: app | E7: 0.8
A8: 6 | B8: =$E$2*B7+$E$3*C7+$E$4 -> 77.304472 | C8: =IF(A8<=$E$9,$E$5,$E$6)*B7+$E$7*C7+$E$8 -> 34.49227 | D8: bp | E8: 2
A9: 7 | B9: =$E$2*B8+$E$3*C8+$E$4 -> 80.472478 | C9: =IF(A9<=$E$9,$E$5,$E$6)*B8+$E$7*C8+$E$8 -> 34.232084 | D9: switch q | E9: 8
A10: 8 | B10: =$E$2*B9+$E$3*C9+$E$4 -> 83.271647 | C10: =IF(A10<=$E$9,$E$5,$E$6)*B9+$E$7*C9+$E$8 -> 34.214016
A11: 9 | B11: =$E$2*B10+$E$3*C10+$E$4 -> 85.787286 | C11: =IF(A11<=$E$9,$E$5,$E$6)*B10+$E$7*C10+$E$8 -> 36.865661 | D11: steady pre: det=(1-aKK)(1-app)-aKp*g | E11: =(1-E2)*(1-E7)-E3*E5 -> 0.008
A12: 10 | B12: =$E$2*B11+$E$3*C11+$E$4 -> 88.581689 | C12: =IF(A12<=$E$9,$E$5,$E$6)*B11+$E$7*C11+$E$8 -> 39.213385 | D12: K_ss_pre | E12: =((1-E7)*E4+E3*E8)/E11 -> 150
A13: 11 | B13: =$E$2*B12+$E$3*C12+$E$4 -> 91.566197 | C13: =IF(A13<=$E$9,$E$5,$E$6)*B12+$E$7*C12+$E$8 -> 41.34306 | D13: p_ss_pre | E13: =(E5*E4+(1-E2)*E8)/E11 -> 55
A14: 12 | B14: =$E$2*B13+$E$3*C13+$E$4 -> 94.67819 | C14: =IF(A14<=$E$9,$E$5,$E$6)*B13+$E$7*C13+$E$8 -> 43.315406 | D14: det post | E14: =(1-E2)*(1-E7)-E3*E6 -> 0.002
A15: 13 | B15: =$E$2*B14+$E$3*C14+$E$4 -> 97.873452 | C15: =IF(A15<=$E$9,$E$5,$E$6)*B14+$E$7*C14+$E$8 -> 45.173362 | D15: K_ss_post | E15: =((1-E7)*E4+E3*E8)/E14 -> 600
A16: 14 | B16: =$E$2*B15+$E$3*C15+$E$4 -> 101.12078 | C16: =IF(A16<=$E$9,$E$5,$E$6)*B15+$E$7*C15+$E$8 -> 46.9473 | D16: p_ss_post | E16: =(E6*E4+(1-E2)*E8)/E14 -> 280
A17: 15 | B17: =$E$2*B16+$E$3*C16+$E$4 -> 104.39816 | C17: =IF(A17<=$E$9,$E$5,$E$6)*B16+$E$7*C16+$E$8 -> 48.65871
A18: 16 | B18: =$E$2*B17+$E$3*C17+$E$4 -> 107.69009 | C18: =IF(A18<=$E$9,$E$5,$E$6)*B17+$E$7*C17+$E$8 -> 50.322803 | D18: rho pre (2x2 tr/det) | E18: =0.5*(E2+E7)+SQRT(0.25*(E2-E7)^2+E3*E5) -> 0.97041595
A19: 17 | B19: =$E$2*B18+$E$3*C18+$E$4 -> 110.98564 | C19: =IF(A19<=$E$9,$E$5,$E$6)*B18+$E$7*C18+$E$8 -> 51.95035 | D19: rho post | E19: =0.5*(E2+E7)+SQRT(0.25*(E2-E7)^2+E3*E6) -> 0.99317821
A20: 18 | B20: =$E$2*B19+$E$3*C19+$E$4 -> 114.27714 | C20: =IF(A20<=$E$9,$E$5,$E$6)*B19+$E$7*C19+$E$8 -> 53.548987
A21: 19 | B21: =$E$2*B20+$E$3*C20+$E$4 -> 117.55923 | C21: =IF(A21<=$E$9,$E$5,$E$6)*B20+$E$7*C20+$E$8 -> 55.124133
A22: 20 | B22: =$E$2*B21+$E$3*C21+$E$4 -> 120.82813 | C22: =IF(A22<=$E$9,$E$5,$E$6)*B21+$E$7*C21+$E$8 -> 56.679637
A23: 21 | B23: =$E$2*B22+$E$3*C22+$E$4 -> 124.08125 | C23: =IF(A23<=$E$9,$E$5,$E$6)*B22+$E$7*C22+$E$8 -> 58.218241
A24: 22 | B24: =$E$2*B23+$E$3*C23+$E$4 -> 127.31677 | C24: =IF(A24<=$E$9,$E$5,$E$6)*B23+$E$7*C23+$E$8 -> 59.741905
A25: 23 | B25: =$E$2*B24+$E$3*C24+$E$4 -> 130.53347 | C25: =IF(A25<=$E$9,$E$5,$E$6)*B24+$E$7*C24+$E$8 -> 61.252033
A26: 24 | B26: =$E$2*B25+$E$3*C25+$E$4 -> 133.73053 | C26: =IF(A26<=$E$9,$E$5,$E$6)*B25+$E$7*C25+$E$8 -> 62.749639

Sheet Reference_Values
A1: Checkpoint | B1: Engine value | C1: Meaning
A2: max_entry_M | B2: 0.35 | C2: Strongest single interaction
A3: max_rowsum_M | B3: 0.95 | C3: A_T: most affected layer
A4: rho_pre | B4: 0.9704 | C4: Coupled spectral radius, g=0.06
A5: rho_post | B5: 0.9932 | C5: g=0.09: closer to criticality
A6: K_ss_pre | B6: 150 | C6: Steady capital, pre-operator
A7: p_ss_pre | B7: 55 | C7: Steady performance, pre
A8: K_ss_post | B8: 600 | C8: 0.03 coupling change → 4x
A9: p_ss_post | B9: 280 | C9: The interaction dividend
A10: K_24 | B10: 133.7305 | C10: Path value at horizon
A11: p_24 | B11: 62.7496 | C11: Converging to the new attractor

Sheet Checks
A1: Checkpoint | B1: Workbook formula value | C1: Engine value | D1: |diff| | E1: Status
A2: max_entry_M | B2: =Interactions!B8 -> 0.35 | C2: =Reference_Values!B2 -> 0.35 | D2: =ABS(B2-C2) -> 0 | E2: =IF(D2<0.0005,"PASS","FAIL") -> PASS
A3: max_rowsum_M | B3: =Interactions!B9 -> 0.95 | C3: =Reference_Values!B3 -> 0.95 | D3: =ABS(B3-C3) -> 0 | E3: =IF(D3<0.0005,"PASS","FAIL") -> PASS
A4: rho_pre | B4: =Integrated!E18 -> 0.97041595 | C4: =Reference_Values!B4 -> 0.9704 | D4: =ABS(B4-C4) -> 1.5945788e-05 | E4: =IF(D4<0.0005,"PASS","FAIL") -> PASS
A5: rho_post | B5: =Integrated!E19 -> 0.99317821 | C5: =Reference_Values!B5 -> 0.9932 | D5: =ABS(B5-C5) -> 2.1789367e-05 | E5: =IF(D5<0.0005,"PASS","FAIL") -> PASS
A6: K_ss_pre | B6: =Integrated!E12 -> 150 | C6: =Reference_Values!B6 -> 150 | D6: =ABS(B6-C6) -> 0 | E6: =IF(D6<0.0005,"PASS","FAIL") -> PASS
A7: p_ss_pre | B7: =Integrated!E13 -> 55 | C7: =Reference_Values!B7 -> 55 | D7: =ABS(B7-C7) -> 0 | E7: =IF(D7<0.0005,"PASS","FAIL") -> PASS
A8: K_ss_post | B8: =Integrated!E15 -> 600 | C8: =Reference_Values!B8 -> 600 | D8: =ABS(B8-C8) -> 2.5011104e-12 | E8: =IF(D8<0.0005,"PASS","FAIL") -> PASS
A9: p_ss_post | B9: =Integrated!E16 -> 280 | C9: =Reference_Values!B9 -> 280 | D9: =ABS(B9-C9) -> 1.1937118e-12 | E9: =IF(D9<0.0005,"PASS","FAIL") -> PASS
A10: K_24 | B10: =Integrated!B26 -> 133.73053 | C10: =Reference_Values!B10 -> 133.7305 | D10: =ABS(B10-C10) -> 3.2903961e-05 | E10: =IF(D10<0.0005,"PASS","FAIL") -> PASS
A11: p_24 | B11: =Integrated!C26 -> 62.749639 | C11: =Reference_Values!B11 -> 62.7496 | D11: =ABS(B11-C11) -> 3.9337098e-05 | E11: =IF(D11<0.0005,"PASS","FAIL") -> PASS
A13: All rows must read PASS.
