Workbook

Sheet README
B1: DCT Laboratory — Vol I, Ch 14: Mathematical Analysis of the Unified Architecture
B2: Seed 26114 · Companion to DCT_V1_Ch14_Lab.ipynb and AXIOM-14.
B4: Lipschitz constant via the 2x2 spectral norm (trace/det of A^T A); convergence half-life;
B5: steady-state sensitivity K*(g) with finite differences; perturbation recursion 12 quarters.
B6: LEGEND — pale-gold cells are the editable inputs.

Sheet Analysis
A1: Quantity | B1: Value
A2: aKK | B2: 0.9
A3: aKp | B3: 0.2
A4: bK | B4: 4
A5: g (base) | B5: 0.06
A6: app | B6: 0.8
A7: bp | B7: 2
A9: rho = tr/2 + sqrt(tr^2/4 - det) [A] | B9: =0.5*(B2+B6)+SQRT(0.25*(B2-B6)^2+B3*B5) -> 0.97041595
A10: M=A'A: m11 | B10: =B2^2+B5^2 -> 0.8136
A11: m12 | B11: =B2*B3+B5*B6 -> 0.228
A12: m22 | B12: =B3^2+B6^2 -> 0.68
A13: lambda_max(M) | B13: =0.5*(B10+B12)+SQRT(0.25*(B10-B12)^2+B11^2) -> 0.98438417
A14: Lipschitz L = SQRT(lambda_max) | B14: =SQRT(B13) -> 0.99216137
A15: halve quarters = LN(2)/LN(1/rho) | B15: =LN(2)/LN(1/B9) -> 23.081448
A17: Steady state K*(g) = ((1-app)*bK+aKp*bp)/det(g)
A18: g | B18: det(g) | C18: K*(g)
A19: 0.06 | B19: =(1-$B$2)*(1-$B$6)-$B$3*A19 -> 0.008 | C19: =((1-$B$6)*$B$4+$B$3*$B$7)/B19 -> 150
A20: 0.07 | B20: =(1-$B$2)*(1-$B$6)-$B$3*A20 -> 0.006 | C20: =((1-$B$6)*$B$4+$B$3*$B$7)/B20 -> 200
A21: 0.08 | B21: =(1-$B$2)*(1-$B$6)-$B$3*A21 -> 0.004 | C21: =((1-$B$6)*$B$4+$B$3*$B$7)/B21 -> 300
A22: 0.09 | B22: =(1-$B$2)*(1-$B$6)-$B$3*A22 -> 0.002 | C22: =((1-$B$6)*$B$4+$B$3*$B$7)/B22 -> 600
A24: sens fd low = (K*(0.07)-K*(0.06))/0.01 | B24: =(C20-C19)/0.01 -> 5000
A25: sens fd high = (K*(0.09)-K*(0.08))/0.01 | B25: =(C22-C21)/0.01 -> 30000
A26: sens ratio | B26: =B25/B24 -> 6

Sheet Perturbation
A1: k | B1: dK | C1: dp | D1: norm
A2: 0 | B2: 0 | C2: 5 | D2: =SQRT(B2^2+C2^2) -> 5
A3: 1 | B3: =Analysis!$B$2*B2+Analysis!$B$3*C2 -> 1 | C3: =Analysis!$B$5*B2+Analysis!$B$6*C2 -> 4 | D3: =SQRT(B3^2+C3^2) -> 4.1231056
A4: 2 | B4: =Analysis!$B$2*B3+Analysis!$B$3*C3 -> 1.7 | C4: =Analysis!$B$5*B3+Analysis!$B$6*C3 -> 3.26 | D4: =SQRT(B4^2+C4^2) -> 3.6766289
A5: 3 | B5: =Analysis!$B$2*B4+Analysis!$B$3*C4 -> 2.182 | C5: =Analysis!$B$5*B4+Analysis!$B$6*C4 -> 2.71 | D5: =SQRT(B5^2+C5^2) -> 3.4792562
A6: 4 | B6: =Analysis!$B$2*B5+Analysis!$B$3*C5 -> 2.5058 | C6: =Analysis!$B$5*B5+Analysis!$B$6*C5 -> 2.29892 | D6: =SQRT(B6^2+C6^2) -> 3.400598
A7: 5 | B7: =Analysis!$B$2*B6+Analysis!$B$3*C6 -> 2.715004 | C7: =Analysis!$B$5*B6+Analysis!$B$6*C6 -> 1.989484 | D7: =SQRT(B7^2+C7^2) -> 3.3659016
A8: 6 | B8: =Analysis!$B$2*B7+Analysis!$B$3*C7 -> 2.8414004 | C8: =Analysis!$B$5*B7+Analysis!$B$6*C7 -> 1.7544874 | D8: =SQRT(B8^2+C8^2) -> 3.3394285
A9: 7 | B9: =Analysis!$B$2*B8+Analysis!$B$3*C8 -> 2.9081578 | C9: =Analysis!$B$5*B8+Analysis!$B$6*C8 -> 1.574074 | D9: =SQRT(B9^2+C9^2) -> 3.3068249
A10: 8 | B10: =Analysis!$B$2*B9+Analysis!$B$3*C9 -> 2.9321569 | C10: =Analysis!$B$5*B9+Analysis!$B$6*C9 -> 1.4337487 | D10: =SQRT(B10^2+C10^2) -> 3.2639208
A11: 9 | B11: =Analysis!$B$2*B10+Analysis!$B$3*C10 -> 2.9256909 | C11: =Analysis!$B$5*B10+Analysis!$B$6*C10 -> 1.3229283 | D11: =SQRT(B11^2+C11^2) -> 3.2108888
A12: 10 | B12: =Analysis!$B$2*B11+Analysis!$B$3*C11 -> 2.8977075 | C12: =Analysis!$B$5*B11+Analysis!$B$6*C11 -> 1.2338841 | D12: =SQRT(B12^2+C12^2) -> 3.1494728
A13: 11 | B13: =Analysis!$B$2*B12+Analysis!$B$3*C12 -> 2.8547136 | C13: =Analysis!$B$5*B12+Analysis!$B$6*C12 -> 1.1609697 | D13: =SQRT(B13^2+C13^2) -> 3.0817593
A14: 12 | B14: =Analysis!$B$2*B13+Analysis!$B$3*C13 -> 2.8014361 | C14: =Analysis!$B$5*B13+Analysis!$B$6*C13 -> 1.1000586 | D14: =SQRT(B14^2+C14^2) -> 3.00968

Sheet Reference_Values
A1: Checkpoint | B1: Engine value | C1: Meaning
A2: lip_pre | B2: 0.9922 | C2: Spectral norm: the Lipschitz constant
A3: rho_pre | B3: 0.9704 | C3: Spectral radius: the convergence rate
A4: halve_quarters | B4: 23.0814 | C4: Slow, though well-posed
A5: K_ss_006 | B5: 150 | C5: Baseline
A6: K_ss_007 | B6: 200 | C6: +0.01 of g
A7: K_ss_008 | B7: 300 | C7: Doubling per 0.01
A8: K_ss_009 | B8: 600 | C8: Near criticality
A9: sens_fd_low | B9: 5000 | C9: dK*/dg at 0.06
A10: sens_fd_high | B10: 30000 | C10: dK*/dg at 0.08
A11: sens_ratio | B11: 6 | C11: ×6 over 0.02 of coupling
A12: pert_norm_12 | B12: 3.0097 | C12: A +5 error in p, 12 quarters on

Sheet Checks
A1: Checkpoint | B1: Workbook formula value | C1: Engine value | D1: |diff| | E1: Status
A2: lip_pre | B2: =Analysis!B14 -> 0.99216137 | C2: =Reference_Values!B2 -> 0.9922 | D2: =ABS(B2-C2) -> 3.8634819e-05 | E2: =IF(D2<0.0005,"PASS","FAIL") -> PASS
A3: rho_pre | B3: =Analysis!B9 -> 0.97041595 | C3: =Reference_Values!B3 -> 0.9704 | D3: =ABS(B3-C3) -> 1.5945788e-05 | E3: =IF(D3<0.0005,"PASS","FAIL") -> PASS
A4: halve_quarters | B4: =Analysis!B15 -> 23.081448 | C4: =Reference_Values!B4 -> 23.0814 | D4: =ABS(B4-C4) -> 4.8106878e-05 | E4: =IF(D4<0.0005,"PASS","FAIL") -> PASS
A5: K_ss_006 | B5: =Analysis!C19 -> 150 | C5: =Reference_Values!B5 -> 150 | D5: =ABS(B5-C5) -> 0 | E5: =IF(D5<0.0005,"PASS","FAIL") -> PASS
A6: K_ss_007 | B6: =Analysis!C20 -> 200 | C6: =Reference_Values!B6 -> 200 | D6: =ABS(B6-C6) -> 0 | E6: =IF(D6<0.0005,"PASS","FAIL") -> PASS
A7: K_ss_008 | B7: =Analysis!C21 -> 300 | C7: =Reference_Values!B7 -> 300 | D7: =ABS(B7-C7) -> 0 | E7: =IF(D7<0.0005,"PASS","FAIL") -> PASS
A8: K_ss_009 | B8: =Analysis!C22 -> 600 | C8: =Reference_Values!B8 -> 600 | D8: =ABS(B8-C8) -> 2.5011104e-12 | E8: =IF(D8<0.0005,"PASS","FAIL") -> PASS
A9: sens_fd_low | B9: =Analysis!B24 -> 5000 | C9: =Reference_Values!B9 -> 5000 | D9: =ABS(B9-C9) -> 2.0008883e-11 | E9: =IF(D9<0.0005,"PASS","FAIL") -> PASS
A10: sens_fd_high | B10: =Analysis!B25 -> 30000 | C10: =Reference_Values!B10 -> 30000 | D10: =ABS(B10-C10) -> 1.8189894e-10 | E10: =IF(D10<0.0005,"PASS","FAIL") -> PASS
A11: sens_ratio | B11: =Analysis!B26 -> 6 | C11: =Reference_Values!B11 -> 6 | D11: =ABS(B11-C11) -> 0 | E11: =IF(D11<0.0005,"PASS","FAIL") -> PASS
A12: pert_norm_12 | B12: =Perturbation!D14 -> 3.00968 | C12: =Reference_Values!B12 -> 3.0097 | D12: =ABS(B12-C12) -> 2.0043568e-05 | E12: =IF(D12<0.0005,"PASS","FAIL") -> PASS
A14: All rows must read PASS.
