Workbook

Sheet README
B1: DCT Laboratory — Vol I, Ch 15: Mathematical Formulation of Enterprise Optimization
B2: Seed 26115 · Companion to DCT_V1_Ch15_Lab.ipynb and AXIOM-15.
B4: The GEOP solved exactly: the interior KKT point violates I_F >= 0, so the optimum is a corner
B5: with the constraint active; marginal products equalized on the reduced problem; Pareto sweep.
B6: LEGEND — pale-gold cells are the editable inputs.

Sheet GEOP
A1: Quantity | B1: F | C1: H | D1: T
A2: K0 | B2: 40 | C2: 30 | D2: 20
A3: delta | B3: 0.02 | C3: 0.06 | D3: 0.1
A4: alpha | B4: 0.3 | C4: 0.4 | D4: 0.3
A5: budget / TFP | B5: 6 | C5: 10
A7: BASE = (1-delta)*K0 | B7: =B2*(1-B3) -> 39.2 | C7: =C2*(1-C3) -> 28.2 | D7: =D2*(1-D3) -> 18
A8: S = SUM(BASE)+B | B8: =SUM(B7:D7)+B5 -> 91.4
A9: KKT unconstrained I = alpha*S - BASE | B9: =B4*$B$8-B7 -> -11.78 | C9: =C4*$B$8-C7 -> 8.36 | D9: =D4*$B$8-D7 -> 9.42
A11: Corner: I_F=0; S2=BASE_H+BASE_T+B | B11: =C7+D7+B5 -> 52.2
A12: K'_H = aH/(aH+aT)*S2 ; K'_T | C12: =C4/(C4+D4)*$B$11 -> 29.828571 | D12: =D4/(C4+D4)*$B$11 -> 22.371429
A13: I* = K' - BASE | C13: =C12-C7 -> 1.6285714 | D13: =D12-D7 -> 4.3714286
A14: Y* = A*BASE_F^aF*K'_H^aH*K'_T^aT | B14: =C5*B7^B4*C12^C4*D12^D4 -> 296.99348
A15: Y even split (2,2,2) | B15: =C5*(B7+2)^B4*(C7+2)^C4*(D7+2)^D4 -> 292.94153
A16: marginal ratio (aH/K'H)/(aT/K'T) | B16: =(C4/C12)/(D4/D12) -> 1

Sheet Pareto
A1: I_H | B1: Y | C1: f1 | D1: f2 | E1: score w=1 | F1: score w=0
A2: 0 | B2: =GEOP!$C$5*GEOP!$B$7^GEOP!$B$4*(GEOP!$C$7+A2)^GEOP!$C$4*(GEOP!$D$7+GEOP!$B$5-A2)^GEOP!$D$4 -> 296.58476 | C2: =B2/MAX($B$2:$B$14) -> 0.99863247 | D2: =A2/GEOP!$B$5 -> 0 | E2: =1*C2+0*D2 -> 0.99863247 | F2: =0*C2+1*D2 -> 0
A3: 0.5 | B3: =GEOP!$C$5*GEOP!$B$7^GEOP!$B$4*(GEOP!$C$7+A3)^GEOP!$C$4*(GEOP!$D$7+GEOP!$B$5-A3)^GEOP!$D$4 -> 296.79661 | C3: =B3/MAX($B$2:$B$14) -> 0.99934578 | D3: =A3/GEOP!$B$5 -> 0.083333333 | E3: =1*C3+0*D3 -> 0.99934578 | F3: =0*C3+1*D3 -> 0.083333333
A4: 1 | B4: =GEOP!$C$5*GEOP!$B$7^GEOP!$B$4*(GEOP!$C$7+A4)^GEOP!$C$4*(GEOP!$D$7+GEOP!$B$5-A4)^GEOP!$D$4 -> 296.93221 | C4: =B4/MAX($B$2:$B$14) -> 0.99980236 | D4: =A4/GEOP!$B$5 -> 0.16666667 | E4: =1*C4+0*D4 -> 0.99980236 | F4: =0*C4+1*D4 -> 0.16666667
A5: 1.5 | B5: =GEOP!$C$5*GEOP!$B$7^GEOP!$B$4*(GEOP!$C$7+A5)^GEOP!$C$4*(GEOP!$D$7+GEOP!$B$5-A5)^GEOP!$D$4 -> 296.99091 | C5: =B5/MAX($B$2:$B$14) -> 1 | D5: =A5/GEOP!$B$5 -> 0.25 | E5: =1*C5+0*D5 -> 1 | F5: =0*C5+1*D5 -> 0.25
A6: 2 | B6: =GEOP!$C$5*GEOP!$B$7^GEOP!$B$4*(GEOP!$C$7+A6)^GEOP!$C$4*(GEOP!$D$7+GEOP!$B$5-A6)^GEOP!$D$4 -> 296.97193 | C6: =B6/MAX($B$2:$B$14) -> 0.9999361 | D6: =A6/GEOP!$B$5 -> 0.33333333 | E6: =1*C6+0*D6 -> 0.9999361 | F6: =0*C6+1*D6 -> 0.33333333
A7: 2.5 | B7: =GEOP!$C$5*GEOP!$B$7^GEOP!$B$4*(GEOP!$C$7+A7)^GEOP!$C$4*(GEOP!$D$7+GEOP!$B$5-A7)^GEOP!$D$4 -> 296.87437 | C7: =B7/MAX($B$2:$B$14) -> 0.99960761 | D7: =A7/GEOP!$B$5 -> 0.41666667 | E7: =1*C7+0*D7 -> 0.99960761 | F7: =0*C7+1*D7 -> 0.41666667
A8: 3 | B8: =GEOP!$C$5*GEOP!$B$7^GEOP!$B$4*(GEOP!$C$7+A8)^GEOP!$C$4*(GEOP!$D$7+GEOP!$B$5-A8)^GEOP!$D$4 -> 296.6972 | C8: =B8/MAX($B$2:$B$14) -> 0.99901105 | D8: =A8/GEOP!$B$5 -> 0.5 | E8: =1*C8+0*D8 -> 0.99901105 | F8: =0*C8+1*D8 -> 0.5
A9: 3.5 | B9: =GEOP!$C$5*GEOP!$B$7^GEOP!$B$4*(GEOP!$C$7+A9)^GEOP!$C$4*(GEOP!$D$7+GEOP!$B$5-A9)^GEOP!$D$4 -> 296.43923 | C9: =B9/MAX($B$2:$B$14) -> 0.99814245 | D9: =A9/GEOP!$B$5 -> 0.58333333 | E9: =1*C9+0*D9 -> 0.99814245 | F9: =0*C9+1*D9 -> 0.58333333
A10: 4 | B10: =GEOP!$C$5*GEOP!$B$7^GEOP!$B$4*(GEOP!$C$7+A10)^GEOP!$C$4*(GEOP!$D$7+GEOP!$B$5-A10)^GEOP!$D$4 -> 296.09915 | C10: =B10/MAX($B$2:$B$14) -> 0.99699737 | D10: =A10/GEOP!$B$5 -> 0.66666667 | E10: =1*C10+0*D10 -> 0.99699737 | F10: =0*C10+1*D10 -> 0.66666667
A11: 4.5 | B11: =GEOP!$C$5*GEOP!$B$7^GEOP!$B$4*(GEOP!$C$7+A11)^GEOP!$C$4*(GEOP!$D$7+GEOP!$B$5-A11)^GEOP!$D$4 -> 295.67548 | C11: =B11/MAX($B$2:$B$14) -> 0.9955708 | D11: =A11/GEOP!$B$5 -> 0.75 | E11: =1*C11+0*D11 -> 0.9955708 | F11: =0*C11+1*D11 -> 0.75
A12: 5 | B12: =GEOP!$C$5*GEOP!$B$7^GEOP!$B$4*(GEOP!$C$7+A12)^GEOP!$C$4*(GEOP!$D$7+GEOP!$B$5-A12)^GEOP!$D$4 -> 295.16655 | C12: =B12/MAX($B$2:$B$14) -> 0.99385718 | D12: =A12/GEOP!$B$5 -> 0.83333333 | E12: =1*C12+0*D12 -> 0.99385718 | F12: =0*C12+1*D12 -> 0.83333333
A13: 5.5 | B13: =GEOP!$C$5*GEOP!$B$7^GEOP!$B$4*(GEOP!$C$7+A13)^GEOP!$C$4*(GEOP!$D$7+GEOP!$B$5-A13)^GEOP!$D$4 -> 294.57053 | C13: =B13/MAX($B$2:$B$14) -> 0.99185033 | D13: =A13/GEOP!$B$5 -> 0.91666667 | E13: =1*C13+0*D13 -> 0.99185033 | F13: =0*C13+1*D13 -> 0.91666667
A14: 6 | B14: =GEOP!$C$5*GEOP!$B$7^GEOP!$B$4*(GEOP!$C$7+A14)^GEOP!$C$4*(GEOP!$D$7+GEOP!$B$5-A14)^GEOP!$D$4 -> 293.8854 | C14: =B14/MAX($B$2:$B$14) -> 0.98954343 | D14: =A14/GEOP!$B$5 -> 1 | E14: =1*C14+0*D14 -> 0.98954343 | F14: =0*C14+1*D14 -> 1
A16: argmax I_H, w=1 | B16: =INDEX(A2:A14,MATCH(MAX(E2:E14),E2:E14,0)) -> 1.5
A17: argmax I_H, w=0 | B17: =INDEX(A2:A14,MATCH(MAX(F2:F14),F2:F14,0)) -> 6
A18: n distinct (of the two) | B18: =IF(B16=B17,1,2) -> 2

Sheet Reference_Values
A1: Checkpoint | B1: Engine value | C1: Meaning
A2: kkt_IF_unconstrained | B2: -11.78 | C2: Negative: the interior point is infeasible
A3: IH_star | B3: 1.6286 | C3: Corner optimum, human
A4: IT_star | B4: 4.3714 | C4: Corner optimum, tech
A5: Y_star | B5: 296.9935 | C5: The GEOP's value
A6: Y_even_split | B6: 292.9415 | C6: The unoptimized comparator
A7: marginal_ratio | B7: 1 | C7: Optimality conditions verified
A8: argmax_IH_w1 | B8: 1.5 | C8: Pure-output weights
A9: argmax_IH_w0 | B9: 6 | C9: Pure-buffer weights
A10: n_distinct_solutions | B10: 2 | C10: The weights choose the decision

Sheet Checks
A1: Checkpoint | B1: Workbook formula value | C1: Engine value | D1: |diff| | E1: Status
A2: kkt_IF_unconstrained | B2: =GEOP!B9 -> -11.78 | C2: =Reference_Values!B2 -> -11.78 | D2: =ABS(B2-C2) -> 0 | E2: =IF(D2<0.0005,"PASS","FAIL") -> PASS
A3: IH_star | B3: =GEOP!C13 -> 1.6285714 | C3: =Reference_Values!B3 -> 1.6286 | D3: =ABS(B3-C3) -> 2.8571429e-05 | E3: =IF(D3<0.0005,"PASS","FAIL") -> PASS
A4: IT_star | B4: =GEOP!D13 -> 4.3714286 | C4: =Reference_Values!B4 -> 4.3714 | D4: =ABS(B4-C4) -> 2.8571429e-05 | E4: =IF(D4<0.0005,"PASS","FAIL") -> PASS
A5: Y_star | B5: =GEOP!B14 -> 296.99348 | C5: =Reference_Values!B5 -> 296.9935 | D5: =ABS(B5-C5) -> 1.8673961e-05 | E5: =IF(D5<0.0005,"PASS","FAIL") -> PASS
A6: Y_even_split | B6: =GEOP!B15 -> 292.94153 | C6: =Reference_Values!B6 -> 292.9415 | D6: =ABS(B6-C6) -> 2.6757182e-05 | E6: =IF(D6<0.0005,"PASS","FAIL") -> PASS
A7: marginal_ratio | B7: =GEOP!B16 -> 1 | C7: =Reference_Values!B7 -> 1 | D7: =ABS(B7-C7) -> 0 | E7: =IF(D7<0.0005,"PASS","FAIL") -> PASS
A8: argmax_IH_w1 | B8: =Pareto!B16 -> 1.5 | C8: =Reference_Values!B8 -> 1.5 | D8: =ABS(B8-C8) -> 0 | E8: =IF(D8<0.0005,"PASS","FAIL") -> PASS
A9: argmax_IH_w0 | B9: =Pareto!B17 -> 6 | C9: =Reference_Values!B9 -> 6 | D9: =ABS(B9-C9) -> 0 | E9: =IF(D9<0.0005,"PASS","FAIL") -> PASS
A10: n_distinct_solutions | B10: =Pareto!B18 -> 2 | C10: =Reference_Values!B10 -> 2 | D10: =ABS(B10-C10) -> 0 | E10: =IF(D10<0.0005,"PASS","FAIL") -> PASS
A12: All rows must read PASS.
