Workbook

Sheet README
B1: DCT Laboratory — Vol I, Ch 16: Synthesis and Transition to Volume II
B2: Seed 26116 · Companion to DCT_V1_Ch16_Lab.ipynb and AXIOM-16 · The Volume I capstone.
B4: One integrated run: the GEOP allocation recalled (Ch. 15 formulas), the unified dynamics under the
B5: invariant gate (Chs. 13-14), the digital twin vs the actual enterprise with a drift monitor, and the
B6: Optimization Readiness Theorem scored as four computed conditions.
B7: LEGEND — pale-gold cells are inputs; actuals' noise is frozen from seed 26116 for reproducibility.

Sheet Twin
A1: k | B1: twin K | C1: twin p | D1: noise | E1: actual K | F1: actual p | G1: |p gap| | H1: flag | I1: gap^2 | K1: params
A2: 0 | B2: 40 | C2: 50 | E2: =B2 -> 40 | F2: =C2 -> 50 | K2: aKK | L2: 0.9
A3: 1 | B3: =$L$2*B2+$L$3*C2+$L$4 -> 50 | C3: =$L$5*B2+$L$6*C2+$L$7 -> 44.4 | D3: 1.1735 | E3: =$L$2*E2+$L$3*F2+$L$4 -> 50 | F3: =$L$5*E2+$L$6*F2+$L$7+D3 -> 45.5735 | G3: =ABS(F3-C3) -> 1.1735 | H3: =IF(G3>$L$9,1,0) -> 0 | I3: =G3^2 -> 1.3771022 | K3: aKp | L3: 0.2
A4: 2 | B4: =$L$2*B3+$L$3*C3+$L$4 -> 57.88 | C4: =$L$5*B3+$L$6*C3+$L$7 -> 40.52 | D4: -2.1226 | E4: =$L$2*E3+$L$3*F3+$L$4 -> 58.1147 | F4: =$L$5*E3+$L$6*F3+$L$7+D4 -> 39.3362 | G4: =ABS(F4-C4) -> 1.1838 | H4: =IF(G4>$L$9,1,0) -> 0 | I4: =G4^2 -> 1.4013824 | K4: bK | L4: 4
A5: 3 | B5: =$L$2*B4+$L$3*C4+$L$4 -> 64.196 | C5: =$L$5*B4+$L$6*C4+$L$7 -> 37.8888 | D5: 2.1835 | E5: =$L$2*E4+$L$3*F4+$L$4 -> 64.17047 | F5: =$L$5*E4+$L$6*F4+$L$7+D5 -> 39.139342 | G5: =ABS(F5-C5) -> 1.250542 | H5: =IF(G5>$L$9,1,0) -> 0 | I5: =G5^2 -> 1.5638553 | K5: g | L5: 0.06
A6: 4 | B6: =$L$2*B5+$L$3*C5+$L$4 -> 69.35416 | C6: =$L$5*B5+$L$6*C5+$L$7 -> 36.1628 | D6: -0.1833 | E6: =$L$2*E5+$L$3*F5+$L$4 -> 69.581291 | F6: =$L$5*E5+$L$6*F5+$L$7+D6 -> 36.978402 | G6: =ABS(F6-C6) -> 0.8156018 | H6: =IF(G6>$L$9,1,0) -> 0 | I6: =G6^2 -> 0.6652063 | K6: app | L6: 0.8
A7: 5 | B7: =$L$2*B6+$L$3*C6+$L$4 -> 73.651304 | C7: =$L$5*B6+$L$6*C6+$L$7 -> 35.09149 | D7: -2.0614 | E7: =$L$2*E6+$L$3*F6+$L$4 -> 74.018843 | F7: =$L$5*E6+$L$6*F6+$L$7+D7 -> 33.696199 | G7: =ABS(F7-C7) -> 1.3952907 | H7: =IF(G7>$L$9,1,0) -> 0 | I7: =G7^2 -> 1.9468361 | K7: bp | L7: 2
A8: 6 | B8: =$L$2*B7+$L$3*C7+$L$4 -> 77.304472 | C8: =$L$5*B7+$L$6*C7+$L$7 -> 34.49227 | D8: 2.2657 | E8: =$L$2*E7+$L$3*F7+$L$4 -> 77.356198 | F8: =$L$5*E7+$L$6*F7+$L$7+D8 -> 35.66379 | G8: =ABS(F8-C8) -> 1.1715198 | H8: =IF(G8>$L$9,1,0) -> 0 | I8: =G8^2 -> 1.3724586 | K8: floor | L8: 25
A9: 7 | B9: =$L$2*B8+$L$3*C8+$L$4 -> 80.472478 | C9: =$L$5*B8+$L$6*C8+$L$7 -> 34.232084 | D9: 1.0514 | E9: =$L$2*E8+$L$3*F8+$L$4 -> 80.753336 | F9: =$L$5*E8+$L$6*F8+$L$7+D9 -> 36.223804 | G9: =ABS(F9-C9) -> 1.9917194 | H9: =IF(G9>$L$9,1,0) -> 0 | I9: =G9^2 -> 3.9669462 | K9: tol | L9: 3
A10: 8 | B10: =$L$2*B9+$L$3*C9+$L$4 -> 83.271647 | C10: =$L$5*B9+$L$6*C9+$L$7 -> 34.214016 | D10: 0.6913 | E10: =$L$2*E9+$L$3*F9+$L$4 -> 83.922763 | F10: =$L$5*E9+$L$6*F9+$L$7+D10 -> 36.515543 | G10: =ABS(F10-C10) -> 2.301527 | H10: =IF(G10>$L$9,1,0) -> 0 | I10: =G10^2 -> 5.2970266
A11: 9 | B11: =$L$2*B10+$L$3*C10+$L$4 -> 85.787286 | C11: =$L$5*B10+$L$6*C10+$L$7 -> 34.367512 | D11: 1.2287 | E11: =$L$2*E10+$L$3*F10+$L$4 -> 86.833596 | F11: =$L$5*E10+$L$6*F10+$L$7+D11 -> 37.4765 | G11: =ABS(F11-C11) -> 3.1089886 | H11: =IF(G11>$L$9,1,0) -> 1 | I11: =G11^2 -> 9.6658099 | K11: rho | L11: =0.5*(L2+L6)+SQRT(0.25*(L2-L6)^2+L3*L5) -> 0.97041595
A12: 10 | B12: =$L$2*B11+$L$3*C11+$L$4 -> 88.08206 | C12: =$L$5*B11+$L$6*C11+$L$7 -> 34.641247 | D12: -0.3311 | E12: =$L$2*E11+$L$3*F11+$L$4 -> 89.645536 | F12: =$L$5*E11+$L$6*F11+$L$7+D12 -> 36.860116 | G12: =ABS(F12-C12) -> 2.2188694 | H12: =IF(G12>$L$9,1,0) -> 0 | I12: =G12^2 -> 4.9233816
A13: 11 | B13: =$L$2*B12+$L$3*C12+$L$4 -> 90.202103 | C13: =$L$5*B12+$L$6*C12+$L$7 -> 34.997921 | D13: -0.9874 | E13: =$L$2*E12+$L$3*F12+$L$4 -> 92.053006 | F13: =$L$5*E12+$L$6*F12+$L$7+D13 -> 35.879425 | G13: =ABS(F13-C13) -> 0.88150415 | H13: =IF(G13>$L$9,1,0) -> 0 | I13: =G13^2 -> 0.77704956
A14: 12 | B14: =$L$2*B13+$L$3*C13+$L$4 -> 92.181477 | C14: =$L$5*B13+$L$6*C13+$L$7 -> 35.410463 | D14: 0.7519 | E14: =$L$2*E13+$L$3*F13+$L$4 -> 94.02359 | F14: =$L$5*E13+$L$6*F13+$L$7+D14 -> 36.97862 | G14: =ABS(F14-C14) -> 1.5681575 | H14: =IF(G14>$L$9,1,0) -> 0 | I14: =G14^2 -> 2.4591179
A15: 13 | B15: =$L$2*B14+$L$3*C14+$L$4 -> 94.045422 | C15: =$L$5*B14+$L$6*C14+$L$7 -> 35.859259 | D15: -0.0573 | E15: =$L$2*E14+$L$3*F14+$L$4 -> 96.016955 | F15: =$L$5*E14+$L$6*F14+$L$7+D15 -> 37.167012 | G15: =ABS(F15-C15) -> 1.3077528 | H15: =IF(G15>$L$9,1,0) -> 0 | I15: =G15^2 -> 1.7102174
A16: 14 | B16: =$L$2*B15+$L$3*C15+$L$4 -> 95.812731 | C16: =$L$5*B15+$L$6*C15+$L$7 -> 36.330132 | D16: 0.7441 | E16: =$L$2*E15+$L$3*F15+$L$4 -> 97.848662 | F16: =$L$5*E15+$L$6*F15+$L$7+D16 -> 38.238727 | G16: =ABS(F16-C16) -> 1.9085942 | H16: =IF(G16>$L$9,1,0) -> 0 | I16: =G16^2 -> 3.642732
A17: 15 | B17: =$L$2*B16+$L$3*C16+$L$4 -> 97.497485 | C17: =$L$5*B16+$L$6*C16+$L$7 -> 36.81287 | D17: -1.55 | E17: =$L$2*E16+$L$3*F16+$L$4 -> 99.711541 | F17: =$L$5*E16+$L$6*F16+$L$7+D17 -> 36.911901 | G17: =ABS(F17-C17) -> 0.099031233 | H17: =IF(G17>$L$9,1,0) -> 0 | I17: =G17^2 -> 0.0098071852
A18: 16 | B18: =$L$2*B17+$L$3*C17+$L$4 -> 99.11031 | C18: =$L$5*B17+$L$6*C17+$L$7 -> 37.300145 | D18: 1.855 | E18: =$L$2*E17+$L$3*F17+$L$4 -> 101.12277 | F18: =$L$5*E17+$L$6*F17+$L$7+D18 -> 39.367213 | G18: =ABS(F18-C18) -> 2.0670684 | H18: =IF(G18>$L$9,1,0) -> 0 | I18: =G18^2 -> 4.2727717
A20: min K (twin) | B20: =MIN(B2:B18) -> 40
A21: invariant violations | B21: =COUNTIF(B2:B18,"<"&L8) -> 0
A22: twin RMSE | B22: =SQRT(AVERAGE(I3:I18)) -> 1.6780141
A23: max |gap| | B23: =MAX(G3:G18) -> 3.1089886
A24: drift quarter | B24: =MATCH(1,H3:H18,0) -> 9

Sheet GEOP_Recall
A1: Quantity | B1: F | C1: H | D1: T
A2: K0 | B2: 40 | C2: 30 | D2: 20
A3: delta | B3: 0.02 | C3: 0.06 | D3: 0.1
A4: alpha | B4: 0.3 | C4: 0.4 | D4: 0.3
A5: budget / TFP | B5: 6 | C5: 10
A7: BASE | B7: =B2*(1-B3) -> 39.2 | C7: =C2*(1-C3) -> 28.2 | D7: =D2*(1-D3) -> 18
A8: S2 / K'H / K'T | B8: =C7+D7+B5 -> 52.2 | C8: =C4/(C4+D4)*B8 -> 29.828571 | D8: =D4/(C4+D4)*B8 -> 22.371429
A9: Y* recalled | B9: =C5*B7^B4*C8^C4*D8^D4 -> 296.99348
A10: marginal ratio | B10: =(C4/C8)/(D4/D8) -> 1

Sheet Readiness
A1: Condition (Optimization Readiness Theorem) | B1: Value | C1: Ready?
A2: dynamics certified: rho < 1 (Ch. 14) | B2: =Twin!L11 -> 0.97041595 | C2: =IF(B2<1,1,0) -> 1
A3: invariant held: min K >= floor (Ch. 13) | B3: =Twin!B20 -> 40 | C3: =IF(B3>=Twin!L8,1,0) -> 1
A4: objective declared: SUM(alpha) = 1 (Ch. 11) | B4: =SUM(GEOP_Recall!B4:D4) -> 1 | C4: =IF(ABS(B4-1)<0.000001,1,0) -> 1
A5: optimality verified: marginal ratio = 1 (Ch. 15) | B5: =GEOP_Recall!B10 -> 1 | C5: =IF(ABS(B5-1)<0.000001,1,0) -> 1
A7: READINESS SCORE | B7: =SUM(C2:C5) -> 4

Sheet Reference_Values
A1: Checkpoint | B1: Engine value | C1: Meaning
A2: Y_star_recall | B2: 296.9935 | C2: Ch. 15's optimum, re-verified
A3: rho_integrated | B3: 0.9704 | C3: Ch. 14's certificate, recalled
A4: minK_16 | B4: 40 | C4: The invariant's margin
A5: invariant_violations | B5: 0 | C5: The gate stayed green
A6: twin_rmse | B6: 1.678 | C6: Twin fidelity over 16 quarters
A7: drift_quarter | B7: 9 | C7: When the monitor fires
A8: max_abs_gap | B8: 3.109 | C8: Worst twin-actual divergence
A9: readiness_score | B9: 4 | C9: 4 of 4: proceed to Volume II

Sheet Checks
A1: Checkpoint | B1: Workbook formula value | C1: Engine value | D1: |diff| | E1: Status
A2: Y_star_recall | B2: =GEOP_Recall!B9 -> 296.99348 | C2: =Reference_Values!B2 -> 296.9935 | D2: =ABS(B2-C2) -> 1.8673961e-05 | E2: =IF(D2<0.0005,"PASS","FAIL") -> PASS
A3: rho_integrated | B3: =Twin!L11 -> 0.97041595 | C3: =Reference_Values!B3 -> 0.9704 | D3: =ABS(B3-C3) -> 1.5945788e-05 | E3: =IF(D3<0.0005,"PASS","FAIL") -> PASS
A4: minK_16 | B4: =Twin!B20 -> 40 | C4: =Reference_Values!B4 -> 40 | D4: =ABS(B4-C4) -> 0 | E4: =IF(D4<0.0005,"PASS","FAIL") -> PASS
A5: invariant_violations | B5: =Twin!B21 -> 0 | C5: =Reference_Values!B5 -> 0 | D5: =ABS(B5-C5) -> 0 | E5: =IF(D5<0.0005,"PASS","FAIL") -> PASS
A6: twin_rmse | B6: =Twin!B22 -> 1.6780141 | C6: =Reference_Values!B6 -> 1.678 | D6: =ABS(B6-C6) -> 1.4096163e-05 | E6: =IF(D6<0.0005,"PASS","FAIL") -> PASS
A7: drift_quarter | B7: =Twin!B24 -> 9 | C7: =Reference_Values!B7 -> 9 | D7: =ABS(B7-C7) -> 0 | E7: =IF(D7<0.0005,"PASS","FAIL") -> PASS
A8: max_abs_gap | B8: =Twin!B23 -> 3.1089886 | C8: =Reference_Values!B8 -> 3.109 | D8: =ABS(B8-C8) -> 1.1431734e-05 | E8: =IF(D8<0.0005,"PASS","FAIL") -> PASS
A9: readiness_score | B9: =Readiness!B7 -> 4 | C9: =Reference_Values!B9 -> 4 | D9: =ABS(B9-C9) -> 0 | E9: =IF(D9<0.0005,"PASS","FAIL") -> PASS
A11: All rows must read PASS. Volume I complete at seed 26116.
