Workbook

Sheet README
B1: DCT Laboratory — Vol II, Ch 1: Introduction to Enterprise Optimization
B2: Seed 26201 · Companion to DCT_V2_Ch01_Lab.ipynb and AXIOM-01 (Vol. II) · Volume II opens.
B4: A closed-form allocation with its optimality certificate; feasibility as conjunction over a
B5: 36-point grid (three constraint flags multiplied); two objectives choosing two different optima.
B6: LEGEND — pale-gold cells are the editable inputs.

Sheet Allocation
A1: Quantity | B1: Value
A2: a1 | B2: 3
A3: a2 | B3: 4
A4: B | B4: 100
A6: x* = B*a1^2/(a1^2+a2^2) | B6: =B4*B2^2/(B2^2+B3^2) -> 36
A7: f* = a1*sqrt(x*)+a2*sqrt(B-x*) | B7: =B2*SQRT(B6)+B3*SQRT(B4-B6) -> 50
A8: marginal 1 = a1/(2*sqrt(x*)) | B8: =B2/(2*SQRT(B6)) -> 0.25
A9: marginal 2 = a2/(2*sqrt(B-x*)) | B9: =B3/(2*SQRT(B4-B6)) -> 0.25
A10: marginal ratio | B10: =B8/B9 -> 1

Sheet Feasibility
A1: x1 | B1: x2 | C1: c1<=6 | D1: c2<=8 | E1: c3<=4 | F1: feasible | G1: fA=3x1+2x2 | H1: fB=4x1+x2
A2: 0 | B2: 0 | C2: =IF(A2+B2<=6,1,0) -> 1 | D2: =IF(2*A2+B2<=8,1,0) -> 1 | E2: =IF(B2<=4,1,0) -> 1 | F2: =C2*D2*E2 -> 1 | G2: =IF(F2=1,3*A2+2*B2,-1) -> 0 | H2: =IF(F2=1,4*A2+B2,-1) -> 0
A3: 0 | B3: 1 | C3: =IF(A3+B3<=6,1,0) -> 1 | D3: =IF(2*A3+B3<=8,1,0) -> 1 | E3: =IF(B3<=4,1,0) -> 1 | F3: =C3*D3*E3 -> 1 | G3: =IF(F3=1,3*A3+2*B3,-1) -> 2 | H3: =IF(F3=1,4*A3+B3,-1) -> 1
A4: 0 | B4: 2 | C4: =IF(A4+B4<=6,1,0) -> 1 | D4: =IF(2*A4+B4<=8,1,0) -> 1 | E4: =IF(B4<=4,1,0) -> 1 | F4: =C4*D4*E4 -> 1 | G4: =IF(F4=1,3*A4+2*B4,-1) -> 4 | H4: =IF(F4=1,4*A4+B4,-1) -> 2
A5: 0 | B5: 3 | C5: =IF(A5+B5<=6,1,0) -> 1 | D5: =IF(2*A5+B5<=8,1,0) -> 1 | E5: =IF(B5<=4,1,0) -> 1 | F5: =C5*D5*E5 -> 1 | G5: =IF(F5=1,3*A5+2*B5,-1) -> 6 | H5: =IF(F5=1,4*A5+B5,-1) -> 3
A6: 0 | B6: 4 | C6: =IF(A6+B6<=6,1,0) -> 1 | D6: =IF(2*A6+B6<=8,1,0) -> 1 | E6: =IF(B6<=4,1,0) -> 1 | F6: =C6*D6*E6 -> 1 | G6: =IF(F6=1,3*A6+2*B6,-1) -> 8 | H6: =IF(F6=1,4*A6+B6,-1) -> 4
A7: 0 | B7: 5 | C7: =IF(A7+B7<=6,1,0) -> 1 | D7: =IF(2*A7+B7<=8,1,0) -> 1 | E7: =IF(B7<=4,1,0) -> 0 | F7: =C7*D7*E7 -> 0 | G7: =IF(F7=1,3*A7+2*B7,-1) -> -1 | H7: =IF(F7=1,4*A7+B7,-1) -> -1
A8: 1 | B8: 0 | C8: =IF(A8+B8<=6,1,0) -> 1 | D8: =IF(2*A8+B8<=8,1,0) -> 1 | E8: =IF(B8<=4,1,0) -> 1 | F8: =C8*D8*E8 -> 1 | G8: =IF(F8=1,3*A8+2*B8,-1) -> 3 | H8: =IF(F8=1,4*A8+B8,-1) -> 4
A9: 1 | B9: 1 | C9: =IF(A9+B9<=6,1,0) -> 1 | D9: =IF(2*A9+B9<=8,1,0) -> 1 | E9: =IF(B9<=4,1,0) -> 1 | F9: =C9*D9*E9 -> 1 | G9: =IF(F9=1,3*A9+2*B9,-1) -> 5 | H9: =IF(F9=1,4*A9+B9,-1) -> 5
A10: 1 | B10: 2 | C10: =IF(A10+B10<=6,1,0) -> 1 | D10: =IF(2*A10+B10<=8,1,0) -> 1 | E10: =IF(B10<=4,1,0) -> 1 | F10: =C10*D10*E10 -> 1 | G10: =IF(F10=1,3*A10+2*B10,-1) -> 7 | H10: =IF(F10=1,4*A10+B10,-1) -> 6
A11: 1 | B11: 3 | C11: =IF(A11+B11<=6,1,0) -> 1 | D11: =IF(2*A11+B11<=8,1,0) -> 1 | E11: =IF(B11<=4,1,0) -> 1 | F11: =C11*D11*E11 -> 1 | G11: =IF(F11=1,3*A11+2*B11,-1) -> 9 | H11: =IF(F11=1,4*A11+B11,-1) -> 7
A12: 1 | B12: 4 | C12: =IF(A12+B12<=6,1,0) -> 1 | D12: =IF(2*A12+B12<=8,1,0) -> 1 | E12: =IF(B12<=4,1,0) -> 1 | F12: =C12*D12*E12 -> 1 | G12: =IF(F12=1,3*A12+2*B12,-1) -> 11 | H12: =IF(F12=1,4*A12+B12,-1) -> 8
A13: 1 | B13: 5 | C13: =IF(A13+B13<=6,1,0) -> 1 | D13: =IF(2*A13+B13<=8,1,0) -> 1 | E13: =IF(B13<=4,1,0) -> 0 | F13: =C13*D13*E13 -> 0 | G13: =IF(F13=1,3*A13+2*B13,-1) -> -1 | H13: =IF(F13=1,4*A13+B13,-1) -> -1
... A37: 5 | B37: 5 | C37: =IF(A37+B37<=6,1,0) -> 0 | D37: =IF(2*A37+B37<=8,1,0) -> 0 | E37: =IF(B37<=4,1,0) -> 0 | F37: =C37*D37*E37 -> 0 | G37: =IF(F37=1,3*A37+2*B37,-1) -> -1 | H37: =IF(F37=1,4*A37+B37,-1) -> -1
A39: n grid | C39: =COUNT(A2:A37) -> 36
A40: n feasible | C40: =SUM(F2:F37) -> 19
A41: fA max | C41: =MAX(G2:G37) -> 14
A42: fB max | C42: =MAX(H2:H37) -> 16
A43: argA x1 | C43: =INDEX(A2:A37,MATCH(MAX(G2:G37),G2:G37,0)) -> 2
A44: argA x2 | C44: =INDEX(B2:B37,MATCH(MAX(G2:G37),G2:G37,0)) -> 4
A45: argB x1 | C45: =INDEX(A2:A37,MATCH(MAX(H2:H37),H2:H37,0)) -> 4
A46: argB x2 | C46: =INDEX(B2:B37,MATCH(MAX(H2:H37),H2:H37,0)) -> 0

Sheet Reference_Values
A1: Checkpoint | B1: Engine value | C1: Meaning
A2: x_star | B2: 36 | C2: Marginal values equalize here
A3: f_star | B3: 50 | C3: The optimum's value
A4: marginal_ratio | B4: 1 | C4: The optimality certificate
A5: n_grid | B5: 36 | C5: Candidates considered
A6: n_feasible | B6: 19 | C6: Survivors of the conjunction
A7: fA_max | B7: 14 | C7: Objective A's crown (2,4)
A8: fB_max | B8: 16 | C8: Objective B's crown (4,0)
A9: argA_x1 | B9: 2
A10: argA_x2 | B10: 4
A11: argB_x1 | B11: 4
A12: argB_x2 | B12: 0 | C12: Different objectives, different optima

Sheet Checks
A1: Checkpoint | B1: Workbook formula value | C1: Engine value | D1: |diff| | E1: Status
A2: x_star | B2: =Allocation!B6 -> 36 | C2: =Reference_Values!B2 -> 36 | D2: =ABS(B2-C2) -> 0 | E2: =IF(D2<0.0005,"PASS","FAIL") -> PASS
A3: f_star | B3: =Allocation!B7 -> 50 | C3: =Reference_Values!B3 -> 50 | D3: =ABS(B3-C3) -> 0 | E3: =IF(D3<0.0005,"PASS","FAIL") -> PASS
A4: marginal_ratio | B4: =Allocation!B10 -> 1 | C4: =Reference_Values!B4 -> 1 | D4: =ABS(B4-C4) -> 0 | E4: =IF(D4<0.0005,"PASS","FAIL") -> PASS
A5: n_grid | B5: =Feasibility!C39 -> 36 | C5: =Reference_Values!B5 -> 36 | D5: =ABS(B5-C5) -> 0 | E5: =IF(D5<0.0005,"PASS","FAIL") -> PASS
A6: n_feasible | B6: =Feasibility!C40 -> 19 | C6: =Reference_Values!B6 -> 19 | D6: =ABS(B6-C6) -> 0 | E6: =IF(D6<0.0005,"PASS","FAIL") -> PASS
A7: fA_max | B7: =Feasibility!C41 -> 14 | C7: =Reference_Values!B7 -> 14 | D7: =ABS(B7-C7) -> 0 | E7: =IF(D7<0.0005,"PASS","FAIL") -> PASS
A8: fB_max | B8: =Feasibility!C42 -> 16 | C8: =Reference_Values!B8 -> 16 | D8: =ABS(B8-C8) -> 0 | E8: =IF(D8<0.0005,"PASS","FAIL") -> PASS
A9: argA_x1 | B9: =Feasibility!C43 -> 2 | C9: =Reference_Values!B9 -> 2 | D9: =ABS(B9-C9) -> 0 | E9: =IF(D9<0.0005,"PASS","FAIL") -> PASS
A10: argA_x2 | B10: =Feasibility!C44 -> 4 | C10: =Reference_Values!B10 -> 4 | D10: =ABS(B10-C10) -> 0 | E10: =IF(D10<0.0005,"PASS","FAIL") -> PASS
A11: argB_x1 | B11: =Feasibility!C45 -> 4 | C11: =Reference_Values!B11 -> 4 | D11: =ABS(B11-C11) -> 0 | E11: =IF(D11<0.0005,"PASS","FAIL") -> PASS
A12: argB_x2 | B12: =Feasibility!C46 -> 0 | C12: =Reference_Values!B12 -> 0 | D12: =ABS(B12-C12) -> 0 | E12: =IF(D12<0.0005,"PASS","FAIL") -> PASS
A14: All rows must read PASS.
