Workbook

Sheet README
B1: DCT Laboratory — Vol II, Ch 2: The GEOP Revisited
B2: Seed 26202 · Companion to DCT_V2_Ch02_Lab.ipynb and AXIOM-02 (Vol. II).
B4: The two-period canonical GEOP on a decision grid (the optimum front-loads at the corner);
B5: the Objective Equivalence Theorem verified column-against-column; the LP special case by
B6: vertex enumeration. LEGEND — pale-gold cells are the editable inputs.

Sheet Canonical
A1: u0 | B1: K1 | C1: K2 | D1: J (running form) | E1: J (terminal form) | F1: |diff|
A2: 0 | B2: =$G$3*$G$2+A2 -> 9 | C2: =$G$3*B2+$G$4-A2 -> 14.1 | D2: =2*SQRT(B2)+6*SQRT(C2) -> 28.52998 | E2: =(2*SQRT(B2))+6*SQRT(C2) -> 28.52998 | F2: =ABS(D2-E2) -> 0 | G2: 10
A3: 0.5 | B3: =$G$3*$G$2+A3 -> 9.5 | C3: =$G$3*B3+$G$4-A3 -> 14.05 | D3: =2*SQRT(B3)+6*SQRT(C3) -> 28.654412 | E3: =(2*SQRT(B3))+6*SQRT(C3) -> 28.654412 | F3: =ABS(D3-E3) -> 0 | G3: 0.9
A4: 1 | B4: =$G$3*$G$2+A4 -> 10 | C4: =$G$3*B4+$G$4-A4 -> 14 | D4: =2*SQRT(B4)+6*SQRT(C4) -> 28.7745 | E4: =(2*SQRT(B4))+6*SQRT(C4) -> 28.7745 | F4: =ABS(D4-E4) -> 0 | G4: 6
A5: 1.5 | B5: =$G$3*$G$2+A5 -> 10.5 | C5: =$G$3*B5+$G$4-A5 -> 13.95 | D5: =2*SQRT(B5)+6*SQRT(C5) -> 28.89056 | E5: =(2*SQRT(B5))+6*SQRT(C5) -> 28.89056 | F5: =ABS(D5-E5) -> 0
A6: 2 | B6: =$G$3*$G$2+A6 -> 11 | C6: =$G$3*B6+$G$4-A6 -> 13.9 | D6: =2*SQRT(B6)+6*SQRT(C6) -> 29.002872 | E6: =(2*SQRT(B6))+6*SQRT(C6) -> 29.002872 | F6: =ABS(D6-E6) -> 0
A7: 2.5 | B7: =$G$3*$G$2+A7 -> 11.5 | C7: =$G$3*B7+$G$4-A7 -> 13.85 | D7: =2*SQRT(B7)+6*SQRT(C7) -> 29.111683 | E7: =(2*SQRT(B7))+6*SQRT(C7) -> 29.111683 | F7: =ABS(D7-E7) -> 0
A8: 3 | B8: =$G$3*$G$2+A8 -> 12 | C8: =$G$3*B8+$G$4-A8 -> 13.8 | D8: =2*SQRT(B8)+6*SQRT(C8) -> 29.217214 | E8: =(2*SQRT(B8))+6*SQRT(C8) -> 29.217214 | F8: =ABS(D8-E8) -> 0
A9: 3.5 | B9: =$G$3*$G$2+A9 -> 12.5 | C9: =$G$3*B9+$G$4-A9 -> 13.75 | D9: =2*SQRT(B9)+6*SQRT(C9) -> 29.319663 | E9: =(2*SQRT(B9))+6*SQRT(C9) -> 29.319663 | F9: =ABS(D9-E9) -> 0
A10: 4 | B10: =$G$3*$G$2+A10 -> 13 | C10: =$G$3*B10+$G$4-A10 -> 13.7 | D10: =2*SQRT(B10)+6*SQRT(C10) -> 29.419209 | E10: =(2*SQRT(B10))+6*SQRT(C10) -> 29.419209 | F10: =ABS(D10-E10) -> 0
A11: 4.5 | B11: =$G$3*$G$2+A11 -> 13.5 | C11: =$G$3*B11+$G$4-A11 -> 13.65 | D11: =2*SQRT(B11)+6*SQRT(C11) -> 29.516013 | E11: =(2*SQRT(B11))+6*SQRT(C11) -> 29.516013 | F11: =ABS(D11-E11) -> 0
A12: 5 | B12: =$G$3*$G$2+A12 -> 14 | C12: =$G$3*B12+$G$4-A12 -> 13.6 | D12: =2*SQRT(B12)+6*SQRT(C12) -> 29.610221 | E12: =(2*SQRT(B12))+6*SQRT(C12) -> 29.610221 | F12: =ABS(D12-E12) -> 0
A13: 5.5 | B13: =$G$3*$G$2+A13 -> 14.5 | C13: =$G$3*B13+$G$4-A13 -> 13.55 | D13: =2*SQRT(B13)+6*SQRT(C13) -> 29.701968 | E13: =(2*SQRT(B13))+6*SQRT(C13) -> 29.701968 | F13: =ABS(D13-E13) -> 0
A14: 6 | B14: =$G$3*$G$2+A14 -> 15 | C14: =$G$3*B14+$G$4-A14 -> 13.5 | D14: =2*SQRT(B14)+6*SQRT(C14) -> 29.791374 | E14: =(2*SQRT(B14))+6*SQRT(C14) -> 29.791374 | F14: =ABS(D14-E14) -> 0
A16: u0* (argmax J) | C16: =INDEX(A2:A14,MATCH(MAX(D2:D14),D2:D14,0)) -> 6
A17: J* | C17: =MAX(D2:D14) -> 29.791374
A18: J at u0=3 | C18: =D8 -> 29.217214
A19: J at u0=0 | C19: =D2 -> 28.52998
A20: equivalence max |diff| | C20: =MAX(F2:F14) -> 0

Sheet LP_Vertices
A1: x | B1: y | C1: value 3x+2y | D1: feasible?
A2: 0 | B2: 0 | C2: =3*A2+2*B2 -> 0 | D2: =IF(AND(A2+B2<=6,2*A2+B2<=8,A2>=0,B2>=0),1,0) -> 1
A3: 0 | B3: 6 | C3: =3*A3+2*B3 -> 12 | D3: =IF(AND(A3+B3<=6,2*A3+B3<=8,A3>=0,B3>=0),1,0) -> 1
A4: 2 | B4: 4 | C4: =3*A4+2*B4 -> 14 | D4: =IF(AND(A4+B4<=6,2*A4+B4<=8,A4>=0,B4>=0),1,0) -> 1
A5: 4 | B5: 0 | C5: =3*A5+2*B5 -> 12 | D5: =IF(AND(A5+B5<=6,2*A5+B5<=8,A5>=0,B5>=0),1,0) -> 1
A7: LP optimum value | C7: =MAX(C2:C5) -> 14
A8: lp_x | C8: =INDEX(A2:A5,MATCH(MAX(C2:C5),C2:C5,0)) -> 2
A9: lp_y | C9: =INDEX(B2:B5,MATCH(MAX(C2:C5),C2:C5,0)) -> 4
A10: n vertices | C10: =SUM(D2:D5) -> 4

Sheet Reference_Values
A1: Checkpoint | B1: Engine value | C1: Meaning
A2: u0_star | B2: 6 | C2: Front-load: the corner wins
A3: J_star | B3: 29.7914 | C3: The GEOP's value
A4: J_even | B4: 29.2172 | C4: The even split, for comparison
A5: J_backload | B5: 28.53 | C5: Back-loading, worst of the three
A6: equivalence_maxdiff | B6: 0 | C6: Running form = terminal form
A7: lp_opt_value | B7: 14 | C7: The LP at its vertex
A8: lp_x | B8: 2
A9: lp_y | B9: 4 | C9: Chapter 1's (2,4), geometry attached
A10: n_vertices | B10: 4 | C10: All four feasible

Sheet Checks
A1: Checkpoint | B1: Workbook formula value | C1: Engine value | D1: |diff| | E1: Status
A2: u0_star | B2: =Canonical!C16 -> 6 | C2: =Reference_Values!B2 -> 6 | D2: =ABS(B2-C2) -> 0 | E2: =IF(D2<0.0005,"PASS","FAIL") -> PASS
A3: J_star | B3: =Canonical!C17 -> 29.791374 | C3: =Reference_Values!B3 -> 29.7914 | D3: =ABS(B3-C3) -> 2.5622537e-05 | E3: =IF(D3<0.0005,"PASS","FAIL") -> PASS
A4: J_even | B4: =Canonical!C18 -> 29.217214 | C4: =Reference_Values!B4 -> 29.2172 | D4: =ABS(B4-C4) -> 1.3975484e-05 | E4: =IF(D4<0.0005,"PASS","FAIL") -> PASS
A5: J_backload | B5: =Canonical!C19 -> 28.52998 | C5: =Reference_Values!B5 -> 28.53 | D5: =ABS(B5-C5) -> 1.9973378e-05 | E5: =IF(D5<0.0005,"PASS","FAIL") -> PASS
A6: equivalence_maxdiff | B6: =Canonical!C20 -> 0 | C6: =Reference_Values!B6 -> 0 | D6: =ABS(B6-C6) -> 0 | E6: =IF(D6<0.0005,"PASS","FAIL") -> PASS
A7: lp_opt_value | B7: =LP_Vertices!C7 -> 14 | C7: =Reference_Values!B7 -> 14 | D7: =ABS(B7-C7) -> 0 | E7: =IF(D7<0.0005,"PASS","FAIL") -> PASS
A8: lp_x | B8: =LP_Vertices!C8 -> 2 | C8: =Reference_Values!B8 -> 2 | D8: =ABS(B8-C8) -> 0 | E8: =IF(D8<0.0005,"PASS","FAIL") -> PASS
A9: lp_y | B9: =LP_Vertices!C9 -> 4 | C9: =Reference_Values!B9 -> 4 | D9: =ABS(B9-C9) -> 0 | E9: =IF(D9<0.0005,"PASS","FAIL") -> PASS
A10: n_vertices | B10: =LP_Vertices!C10 -> 4 | C10: =Reference_Values!B10 -> 4 | D10: =ABS(B10-C10) -> 0 | E10: =IF(D10<0.0005,"PASS","FAIL") -> PASS
A12: All rows must read PASS.
