Workbook

Sheet README
B1: DCT Laboratory — Vol II, Ch 12: Multi-Objective Enterprise Optimization
B2: Seed 26212 · Companion to DCT_V2_Ch12_Lab.ipynb and AXIOM-12 (Vol. II).
B4: Pareto dominance by SUMPRODUCT flags over eight candidates; the 21-row weighted-sum sweep
B5: proving D unreachable plus the Chebyshev compromise that reaches it; the continuous frontier
B6: with the trade-off identity per row. LEGEND — pale-gold cells are the editable inputs.

Sheet Dominance
A1: policy | B1: growth g | C1: resilience r | D1: dominated?
A2: A | B2: 2 | C2: 9 | D2: =IF(SUMPRODUCT(($B$2:$B$9>=B2)*($C$2:$C$9>=C2)*((($B$2:$B$9>B2)+($C$2:$C$9>C2))>0))>0,1,0) -> 0 | F2: n candidates | G2: =COUNTA(A2:A9) -> 8
A3: B | B3: 4 | C3: 8 | D3: =IF(SUMPRODUCT(($B$2:$B$9>=B3)*($C$2:$C$9>=C3)*((($B$2:$B$9>B3)+($C$2:$C$9>C3))>0))>0,1,0) -> 0 | F3: n dominated | G3: =SUM(D2:D9) -> 3
A4: C | B4: 5 | C4: 5 | D4: =IF(SUMPRODUCT(($B$2:$B$9>=B4)*($C$2:$C$9>=C4)*((($B$2:$B$9>B4)+($C$2:$C$9>C4))>0))>0,1,0) -> 1 | F4: n Pareto | G4: =G2-G3 -> 5
A5: D | B5: 6 | C5: 6.5 | D5: =IF(SUMPRODUCT(($B$2:$B$9>=B5)*($C$2:$C$9>=C5)*((($B$2:$B$9>B5)+($C$2:$C$9>C5))>0))>0,1,0) -> 0 | F5: D is Pareto? (1=yes) | G5: =1-D5 -> 1
A6: E | B6: 7 | C6: 4 | D6: =IF(SUMPRODUCT(($B$2:$B$9>=B6)*($C$2:$C$9>=C6)*((($B$2:$B$9>B6)+($C$2:$C$9>C6))>0))>0,1,0) -> 1
A7: F | B7: 8 | C7: 6 | D7: =IF(SUMPRODUCT(($B$2:$B$9>=B7)*($C$2:$C$9>=C7)*((($B$2:$B$9>B7)+($C$2:$C$9>C7))>0))>0,1,0) -> 0
A8: G | B8: 9 | C8: 2 | D8: =IF(SUMPRODUCT(($B$2:$B$9>=B8)*($C$2:$C$9>=C8)*((($B$2:$B$9>B8)+($C$2:$C$9>C8))>0))>0,1,0) -> 0
A9: H | B9: 3 | C9: 6 | D9: =IF(SUMPRODUCT(($B$2:$B$9>=B9)*($C$2:$C$9>=C9)*((($B$2:$B$9>B9)+($C$2:$C$9>C9))>0))>0,1,0) -> 1

Sheet Scalarization
A1: w | B1: A | C1: B | D1: C | E1: D | F1: E | G1: F | H1: G | I1: H | J1: winner
A2: 0 | B2: =$A2*Dominance!B2+(1-$A2)*Dominance!C2 -> 9 | C2: =$A2*Dominance!B3+(1-$A2)*Dominance!C3 -> 8 | D2: =$A2*Dominance!B4+(1-$A2)*Dominance!C4 -> 5 | E2: =$A2*Dominance!B5+(1-$A2)*Dominance!C5 -> 6.5 | F2: =$A2*Dominance!B6+(1-$A2)*Dominance!C6 -> 4 | G2: =$A2*Dominance!B7+(1-$A2)*Dominance!C7 -> 6 | H2: =$A2*Dominance!B8+(1-$A2)*Dominance!C8 -> 2 | I2: =$A2*Dominance!B9+(1-$A2)*Dominance!C9 -> 6 | J2: =INDEX(Dominance!$A$2:$A$9,MATCH(MAX(B2:I2),B2:I2,0)) -> A | L2: times D wins a weighted sum | M2: =COUNTIF(J2:J22,"D") -> 0
A3: 0.05 | B3: =$A3*Dominance!B2+(1-$A3)*Dominance!C2 -> 8.65 | C3: =$A3*Dominance!B3+(1-$A3)*Dominance!C3 -> 7.8 | D3: =$A3*Dominance!B4+(1-$A3)*Dominance!C4 -> 5 | E3: =$A3*Dominance!B5+(1-$A3)*Dominance!C5 -> 6.475 | F3: =$A3*Dominance!B6+(1-$A3)*Dominance!C6 -> 4.15 | G3: =$A3*Dominance!B7+(1-$A3)*Dominance!C7 -> 6.1 | H3: =$A3*Dominance!B8+(1-$A3)*Dominance!C8 -> 2.35 | I3: =$A3*Dominance!B9+(1-$A3)*Dominance!C9 -> 5.85 | J3: =INDEX(Dominance!$A$2:$A$9,MATCH(MAX(B3:I3),B3:I3,0)) -> A | L3: ws_selects_D (1=yes) | M3: =IF(M2>0,1,0) -> 0
A4: 0.1 | B4: =$A4*Dominance!B2+(1-$A4)*Dominance!C2 -> 8.3 | C4: =$A4*Dominance!B3+(1-$A4)*Dominance!C3 -> 7.6 | D4: =$A4*Dominance!B4+(1-$A4)*Dominance!C4 -> 5 | E4: =$A4*Dominance!B5+(1-$A4)*Dominance!C5 -> 6.45 | F4: =$A4*Dominance!B6+(1-$A4)*Dominance!C6 -> 4.3 | G4: =$A4*Dominance!B7+(1-$A4)*Dominance!C7 -> 6.2 | H4: =$A4*Dominance!B8+(1-$A4)*Dominance!C8 -> 2.7 | I4: =$A4*Dominance!B9+(1-$A4)*Dominance!C9 -> 5.7 | J4: =INDEX(Dominance!$A$2:$A$9,MATCH(MAX(B4:I4),B4:I4,0)) -> A
A5: 0.15 | B5: =$A5*Dominance!B2+(1-$A5)*Dominance!C2 -> 7.95 | C5: =$A5*Dominance!B3+(1-$A5)*Dominance!C3 -> 7.4 | D5: =$A5*Dominance!B4+(1-$A5)*Dominance!C4 -> 5 | E5: =$A5*Dominance!B5+(1-$A5)*Dominance!C5 -> 6.425 | F5: =$A5*Dominance!B6+(1-$A5)*Dominance!C6 -> 4.45 | G5: =$A5*Dominance!B7+(1-$A5)*Dominance!C7 -> 6.3 | H5: =$A5*Dominance!B8+(1-$A5)*Dominance!C8 -> 3.05 | I5: =$A5*Dominance!B9+(1-$A5)*Dominance!C9 -> 5.55 | J5: =INDEX(Dominance!$A$2:$A$9,MATCH(MAX(B5:I5),B5:I5,0)) -> A | L5: Chebyshev to ideal (9,9), weights (1, 1.5)
A6: 0.2 | B6: =$A6*Dominance!B2+(1-$A6)*Dominance!C2 -> 7.6 | C6: =$A6*Dominance!B3+(1-$A6)*Dominance!C3 -> 7.2 | D6: =$A6*Dominance!B4+(1-$A6)*Dominance!C4 -> 5 | E6: =$A6*Dominance!B5+(1-$A6)*Dominance!C5 -> 6.4 | F6: =$A6*Dominance!B6+(1-$A6)*Dominance!C6 -> 4.6 | G6: =$A6*Dominance!B7+(1-$A6)*Dominance!C7 -> 6.4 | H6: =$A6*Dominance!B8+(1-$A6)*Dominance!C8 -> 3.4 | I6: =$A6*Dominance!B9+(1-$A6)*Dominance!C9 -> 5.4 | J6: =INDEX(Dominance!$A$2:$A$9,MATCH(MAX(B6:I6),B6:I6,0)) -> A | L6: cheb A | M6: =MAX(1*ABS(9-Dominance!B2),1.5*ABS(9-Dominance!C2)) -> 7
A7: 0.25 | B7: =$A7*Dominance!B2+(1-$A7)*Dominance!C2 -> 7.25 | C7: =$A7*Dominance!B3+(1-$A7)*Dominance!C3 -> 7 | D7: =$A7*Dominance!B4+(1-$A7)*Dominance!C4 -> 5 | E7: =$A7*Dominance!B5+(1-$A7)*Dominance!C5 -> 6.375 | F7: =$A7*Dominance!B6+(1-$A7)*Dominance!C6 -> 4.75 | G7: =$A7*Dominance!B7+(1-$A7)*Dominance!C7 -> 6.5 | H7: =$A7*Dominance!B8+(1-$A7)*Dominance!C8 -> 3.75 | I7: =$A7*Dominance!B9+(1-$A7)*Dominance!C9 -> 5.25 | J7: =INDEX(Dominance!$A$2:$A$9,MATCH(MAX(B7:I7),B7:I7,0)) -> A | L7: cheb B | M7: =MAX(1*ABS(9-Dominance!B3),1.5*ABS(9-Dominance!C3)) -> 5
A8: 0.3 | B8: =$A8*Dominance!B2+(1-$A8)*Dominance!C2 -> 6.9 | C8: =$A8*Dominance!B3+(1-$A8)*Dominance!C3 -> 6.8 | D8: =$A8*Dominance!B4+(1-$A8)*Dominance!C4 -> 5 | E8: =$A8*Dominance!B5+(1-$A8)*Dominance!C5 -> 6.35 | F8: =$A8*Dominance!B6+(1-$A8)*Dominance!C6 -> 4.9 | G8: =$A8*Dominance!B7+(1-$A8)*Dominance!C7 -> 6.6 | H8: =$A8*Dominance!B8+(1-$A8)*Dominance!C8 -> 4.1 | I8: =$A8*Dominance!B9+(1-$A8)*Dominance!C9 -> 5.1 | J8: =INDEX(Dominance!$A$2:$A$9,MATCH(MAX(B8:I8),B8:I8,0)) -> A | L8: cheb D | M8: =MAX(1*ABS(9-Dominance!B5),1.5*ABS(9-Dominance!C5)) -> 3.75
A9: 0.35 | B9: =$A9*Dominance!B2+(1-$A9)*Dominance!C2 -> 6.55 | C9: =$A9*Dominance!B3+(1-$A9)*Dominance!C3 -> 6.6 | D9: =$A9*Dominance!B4+(1-$A9)*Dominance!C4 -> 5 | E9: =$A9*Dominance!B5+(1-$A9)*Dominance!C5 -> 6.325 | F9: =$A9*Dominance!B6+(1-$A9)*Dominance!C6 -> 5.05 | G9: =$A9*Dominance!B7+(1-$A9)*Dominance!C7 -> 6.7 | H9: =$A9*Dominance!B8+(1-$A9)*Dominance!C8 -> 4.45 | I9: =$A9*Dominance!B9+(1-$A9)*Dominance!C9 -> 4.95 | J9: =INDEX(Dominance!$A$2:$A$9,MATCH(MAX(B9:I9),B9:I9,0)) -> F | L9: cheb F | M9: =MAX(1*ABS(9-Dominance!B7),1.5*ABS(9-Dominance!C7)) -> 4.5
A10: 0.4 | B10: =$A10*Dominance!B2+(1-$A10)*Dominance!C2 -> 6.2 | C10: =$A10*Dominance!B3+(1-$A10)*Dominance!C3 -> 6.4 | D10: =$A10*Dominance!B4+(1-$A10)*Dominance!C4 -> 5 | E10: =$A10*Dominance!B5+(1-$A10)*Dominance!C5 -> 6.3 | F10: =$A10*Dominance!B6+(1-$A10)*Dominance!C6 -> 5.2 | G10: =$A10*Dominance!B7+(1-$A10)*Dominance!C7 -> 6.8 | H10: =$A10*Dominance!B8+(1-$A10)*Dominance!C8 -> 4.8 | I10: =$A10*Dominance!B9+(1-$A10)*Dominance!C9 -> 4.8 | J10: =INDEX(Dominance!$A$2:$A$9,MATCH(MAX(B10:I10),B10:I10,0)) -> F | L10: cheb G | M10: =MAX(1*ABS(9-Dominance!B8),1.5*ABS(9-Dominance!C8)) -> 10.5
A11: 0.45 | B11: =$A11*Dominance!B2+(1-$A11)*Dominance!C2 -> 5.85 | C11: =$A11*Dominance!B3+(1-$A11)*Dominance!C3 -> 6.2 | D11: =$A11*Dominance!B4+(1-$A11)*Dominance!C4 -> 5 | E11: =$A11*Dominance!B5+(1-$A11)*Dominance!C5 -> 6.275 | F11: =$A11*Dominance!B6+(1-$A11)*Dominance!C6 -> 5.35 | G11: =$A11*Dominance!B7+(1-$A11)*Dominance!C7 -> 6.9 | H11: =$A11*Dominance!B8+(1-$A11)*Dominance!C8 -> 5.15 | I11: =$A11*Dominance!B9+(1-$A11)*Dominance!C9 -> 4.65 | J11: =INDEX(Dominance!$A$2:$A$9,MATCH(MAX(B11:I11),B11:I11,0)) -> F | L11: compromise winner | M11: =INDEX({"A";"B";"D";"F";"G"},MATCH(MIN(M6:M10),M6:M10,0)) -> D
A12: 0.5 | B12: =$A12*Dominance!B2+(1-$A12)*Dominance!C2 -> 5.5 | C12: =$A12*Dominance!B3+(1-$A12)*Dominance!C3 -> 6 | D12: =$A12*Dominance!B4+(1-$A12)*Dominance!C4 -> 5 | E12: =$A12*Dominance!B5+(1-$A12)*Dominance!C5 -> 6.25 | F12: =$A12*Dominance!B6+(1-$A12)*Dominance!C6 -> 5.5 | G12: =$A12*Dominance!B7+(1-$A12)*Dominance!C7 -> 7 | H12: =$A12*Dominance!B8+(1-$A12)*Dominance!C8 -> 5.5 | I12: =$A12*Dominance!B9+(1-$A12)*Dominance!C9 -> 4.5 | J12: =INDEX(Dominance!$A$2:$A$9,MATCH(MAX(B12:I12),B12:I12,0)) -> F | L12: winner is D? (1=yes) | M12: =IF(M11="D",1,0) -> 1
A13: 0.55 | B13: =$A13*Dominance!B2+(1-$A13)*Dominance!C2 -> 5.15 | C13: =$A13*Dominance!B3+(1-$A13)*Dominance!C3 -> 5.8 | D13: =$A13*Dominance!B4+(1-$A13)*Dominance!C4 -> 5 | E13: =$A13*Dominance!B5+(1-$A13)*Dominance!C5 -> 6.225 | F13: =$A13*Dominance!B6+(1-$A13)*Dominance!C6 -> 5.65 | G13: =$A13*Dominance!B7+(1-$A13)*Dominance!C7 -> 7.1 | H13: =$A13*Dominance!B8+(1-$A13)*Dominance!C8 -> 5.85 | I13: =$A13*Dominance!B9+(1-$A13)*Dominance!C9 -> 4.35 | J13: =INDEX(Dominance!$A$2:$A$9,MATCH(MAX(B13:I13),B13:I13,0)) -> F
A14: 0.6 | B14: =$A14*Dominance!B2+(1-$A14)*Dominance!C2 -> 4.8 | C14: =$A14*Dominance!B3+(1-$A14)*Dominance!C3 -> 5.6 | D14: =$A14*Dominance!B4+(1-$A14)*Dominance!C4 -> 5 | E14: =$A14*Dominance!B5+(1-$A14)*Dominance!C5 -> 6.2 | F14: =$A14*Dominance!B6+(1-$A14)*Dominance!C6 -> 5.8 | G14: =$A14*Dominance!B7+(1-$A14)*Dominance!C7 -> 7.2 | H14: =$A14*Dominance!B8+(1-$A14)*Dominance!C8 -> 6.2 | I14: =$A14*Dominance!B9+(1-$A14)*Dominance!C9 -> 4.2 | J14: =INDEX(Dominance!$A$2:$A$9,MATCH(MAX(B14:I14),B14:I14,0)) -> F
A15: 0.65 | B15: =$A15*Dominance!B2+(1-$A15)*Dominance!C2 -> 4.45 | C15: =$A15*Dominance!B3+(1-$A15)*Dominance!C3 -> 5.4 | D15: =$A15*Dominance!B4+(1-$A15)*Dominance!C4 -> 5 | E15: =$A15*Dominance!B5+(1-$A15)*Dominance!C5 -> 6.175 | F15: =$A15*Dominance!B6+(1-$A15)*Dominance!C6 -> 5.95 | G15: =$A15*Dominance!B7+(1-$A15)*Dominance!C7 -> 7.3 | H15: =$A15*Dominance!B8+(1-$A15)*Dominance!C8 -> 6.55 | I15: =$A15*Dominance!B9+(1-$A15)*Dominance!C9 -> 4.05 | J15: =INDEX(Dominance!$A$2:$A$9,MATCH(MAX(B15:I15),B15:I15,0)) -> F
A16: 0.7 | B16: =$A16*Dominance!B2+(1-$A16)*Dominance!C2 -> 4.1 | C16: =$A16*Dominance!B3+(1-$A16)*Dominance!C3 -> 5.2 | D16: =$A16*Dominance!B4+(1-$A16)*Dominance!C4 -> 5 | E16: =$A16*Dominance!B5+(1-$A16)*Dominance!C5 -> 6.15 | F16: =$A16*Dominance!B6+(1-$A16)*Dominance!C6 -> 6.1 | G16: =$A16*Dominance!B7+(1-$A16)*Dominance!C7 -> 7.4 | H16: =$A16*Dominance!B8+(1-$A16)*Dominance!C8 -> 6.9 | I16: =$A16*Dominance!B9+(1-$A16)*Dominance!C9 -> 3.9 | J16: =INDEX(Dominance!$A$2:$A$9,MATCH(MAX(B16:I16),B16:I16,0)) -> F
A17: 0.75 | B17: =$A17*Dominance!B2+(1-$A17)*Dominance!C2 -> 3.75 | C17: =$A17*Dominance!B3+(1-$A17)*Dominance!C3 -> 5 | D17: =$A17*Dominance!B4+(1-$A17)*Dominance!C4 -> 5 | E17: =$A17*Dominance!B5+(1-$A17)*Dominance!C5 -> 6.125 | F17: =$A17*Dominance!B6+(1-$A17)*Dominance!C6 -> 6.25 | G17: =$A17*Dominance!B7+(1-$A17)*Dominance!C7 -> 7.5 | H17: =$A17*Dominance!B8+(1-$A17)*Dominance!C8 -> 7.25 | I17: =$A17*Dominance!B9+(1-$A17)*Dominance!C9 -> 3.75 | J17: =INDEX(Dominance!$A$2:$A$9,MATCH(MAX(B17:I17),B17:I17,0)) -> F
A18: 0.8 | B18: =$A18*Dominance!B2+(1-$A18)*Dominance!C2 -> 3.4 | C18: =$A18*Dominance!B3+(1-$A18)*Dominance!C3 -> 4.8 | D18: =$A18*Dominance!B4+(1-$A18)*Dominance!C4 -> 5 | E18: =$A18*Dominance!B5+(1-$A18)*Dominance!C5 -> 6.1 | F18: =$A18*Dominance!B6+(1-$A18)*Dominance!C6 -> 6.4 | G18: =$A18*Dominance!B7+(1-$A18)*Dominance!C7 -> 7.6 | H18: =$A18*Dominance!B8+(1-$A18)*Dominance!C8 -> 7.6 | I18: =$A18*Dominance!B9+(1-$A18)*Dominance!C9 -> 3.6 | J18: =INDEX(Dominance!$A$2:$A$9,MATCH(MAX(B18:I18),B18:I18,0)) -> F
A19: 0.85 | B19: =$A19*Dominance!B2+(1-$A19)*Dominance!C2 -> 3.05 | C19: =$A19*Dominance!B3+(1-$A19)*Dominance!C3 -> 4.6 | D19: =$A19*Dominance!B4+(1-$A19)*Dominance!C4 -> 5 | E19: =$A19*Dominance!B5+(1-$A19)*Dominance!C5 -> 6.075 | F19: =$A19*Dominance!B6+(1-$A19)*Dominance!C6 -> 6.55 | G19: =$A19*Dominance!B7+(1-$A19)*Dominance!C7 -> 7.7 | H19: =$A19*Dominance!B8+(1-$A19)*Dominance!C8 -> 7.95 | I19: =$A19*Dominance!B9+(1-$A19)*Dominance!C9 -> 3.45 | J19: =INDEX(Dominance!$A$2:$A$9,MATCH(MAX(B19:I19),B19:I19,0)) -> G
A20: 0.9 | B20: =$A20*Dominance!B2+(1-$A20)*Dominance!C2 -> 2.7 | C20: =$A20*Dominance!B3+(1-$A20)*Dominance!C3 -> 4.4 | D20: =$A20*Dominance!B4+(1-$A20)*Dominance!C4 -> 5 | E20: =$A20*Dominance!B5+(1-$A20)*Dominance!C5 -> 6.05 | F20: =$A20*Dominance!B6+(1-$A20)*Dominance!C6 -> 6.7 | G20: =$A20*Dominance!B7+(1-$A20)*Dominance!C7 -> 7.8 | H20: =$A20*Dominance!B8+(1-$A20)*Dominance!C8 -> 8.3 | I20: =$A20*Dominance!B9+(1-$A20)*Dominance!C9 -> 3.3 | J20: =INDEX(Dominance!$A$2:$A$9,MATCH(MAX(B20:I20),B20:I20,0)) -> G
A21: 0.95 | B21: =$A21*Dominance!B2+(1-$A21)*Dominance!C2 -> 2.35 | C21: =$A21*Dominance!B3+(1-$A21)*Dominance!C3 -> 4.2 | D21: =$A21*Dominance!B4+(1-$A21)*Dominance!C4 -> 5 | E21: =$A21*Dominance!B5+(1-$A21)*Dominance!C5 -> 6.025 | F21: =$A21*Dominance!B6+(1-$A21)*Dominance!C6 -> 6.85 | G21: =$A21*Dominance!B7+(1-$A21)*Dominance!C7 -> 7.9 | H21: =$A21*Dominance!B8+(1-$A21)*Dominance!C8 -> 8.65 | I21: =$A21*Dominance!B9+(1-$A21)*Dominance!C9 -> 3.15 | J21: =INDEX(Dominance!$A$2:$A$9,MATCH(MAX(B21:I21),B21:I21,0)) -> G
A22: 1 | B22: =$A22*Dominance!B2+(1-$A22)*Dominance!C2 -> 2 | C22: =$A22*Dominance!B3+(1-$A22)*Dominance!C3 -> 4 | D22: =$A22*Dominance!B4+(1-$A22)*Dominance!C4 -> 5 | E22: =$A22*Dominance!B5+(1-$A22)*Dominance!C5 -> 6 | F22: =$A22*Dominance!B6+(1-$A22)*Dominance!C6 -> 7 | G22: =$A22*Dominance!B7+(1-$A22)*Dominance!C7 -> 8 | H22: =$A22*Dominance!B8+(1-$A22)*Dominance!C8 -> 9 | I22: =$A22*Dominance!B9+(1-$A22)*Dominance!C9 -> 3 | J22: =INDEX(Dominance!$A$2:$A$9,MATCH(MAX(B22:I22),B22:I22,0)) -> G

Sheet Frontier
A1: w | B1: x* = MIN(1, w/(2(1-w))) | C1: f1 | D1: f2 = 1-x^2 | E1: slope = -2x
A2: 0.1 | B2: =MIN(1,A2/(2*(1-A2))) -> 0.055555556 | C2: =B2 -> 0.055555556 | D2: =1-B2^2 -> 0.99691358 | E2: =-2*B2 -> -0.11111111 | F2: x*(0.5) | G2: =B6 -> 0.5
A3: 0.2 | B3: =MIN(1,A3/(2*(1-A3))) -> 0.125 | C3: =B3 -> 0.125 | D3: =1-B3^2 -> 0.984375 | E3: =-2*B3 -> -0.25 | F3: f1(0.5) | G3: =C6 -> 0.5
A4: 0.3 | B4: =MIN(1,A4/(2*(1-A4))) -> 0.21428571 | C4: =B4 -> 0.21428571 | D4: =1-B4^2 -> 0.95408163 | E4: =-2*B4 -> -0.42857143 | F4: f2(0.5) | G4: =D6 -> 0.75
A5: 0.4 | B5: =MIN(1,A5/(2*(1-A5))) -> 0.33333333 | C5: =B5 -> 0.33333333 | D5: =1-B5^2 -> 0.88888889 | E5: =-2*B5 -> -0.66666667 | F5: slope at w=0.5 | G5: =E6 -> -1
A6: 0.5 | B6: =MIN(1,A6/(2*(1-A6))) -> 0.5 | C6: =B6 -> 0.5 | D6: =1-B6^2 -> 0.75 | E6: =-2*B6 -> -1 | F6: w_corner = first w with x*=1 | G6: =INDEX(A2:A10,MATCH(1,B2:B10,0)) -> 0.7
A7: 0.6 | B7: =MIN(1,A7/(2*(1-A7))) -> 0.75 | C7: =B7 -> 0.75 | D7: =1-B7^2 -> 0.4375 | E7: =-2*B7 -> -1.5
A8: 0.7 | B8: =MIN(1,A8/(2*(1-A8))) -> 1 | C8: =B8 -> 1 | D8: =1-B8^2 -> 0 | E8: =-2*B8 -> -2
A9: 0.8 | B9: =MIN(1,A9/(2*(1-A9))) -> 1 | C9: =B9 -> 1 | D9: =1-B9^2 -> 0 | E9: =-2*B9 -> -2
A10: 0.9 | B10: =MIN(1,A10/(2*(1-A10))) -> 1 | C10: =B10 -> 1 | D10: =1-B10^2 -> 0 | E10: =-2*B10 -> -2

Sheet Reference_Values
A1: Checkpoint | B1: Engine value | C1: Meaning
A2: n_candidates | B2: 8 | C2: Eight policies on the table
A3: n_pareto | B3: 5 | C3: Five efficient
A4: n_dominated | B4: 3 | C4: Three fall to logic alone
A5: D_is_pareto | B5: 1 | C5: The dent-dweller is efficient
A6: ws_selects_D | B6: 0 | C6: Zero of 21 weights ever pick D
A7: cheb_D | B7: 3.75 | C7: D's compromise distance
A8: cheb_F | B8: 4.5 | C8: F loses under resilience-weighted ideal
A9: cheb_winner_is_D | B9: 1 | C9: The compromise reaches the dent
A10: x_star_w05 | B10: 0.5 | C10: Equal weights' tangency
A11: f1_w05 | B11: 0.5 | C11: Growth at the tangency
A12: f2_w05 | B12: 0.75 | C12: Resilience at the tangency
A13: tradeoff_w05 | B13: -1 | C13: Frontier slope = -w/(1-w)
A14: w_corner | B14: 0.7 | C14: Preference strong enough to exhaust the frontier

Sheet Checks
A1: Checkpoint | B1: Workbook formula value | C1: Engine value | D1: |diff| | E1: Status
A2: n_candidates | B2: =Dominance!G2 -> 8 | C2: =Reference_Values!B2 -> 8 | D2: =ABS(B2-C2) -> 0 | E2: =IF(D2<0.0005,"PASS","FAIL") -> PASS
A3: n_pareto | B3: =Dominance!G4 -> 5 | C3: =Reference_Values!B3 -> 5 | D3: =ABS(B3-C3) -> 0 | E3: =IF(D3<0.0005,"PASS","FAIL") -> PASS
A4: n_dominated | B4: =Dominance!G3 -> 3 | C4: =Reference_Values!B4 -> 3 | D4: =ABS(B4-C4) -> 0 | E4: =IF(D4<0.0005,"PASS","FAIL") -> PASS
A5: D_is_pareto | B5: =Dominance!G5 -> 1 | C5: =Reference_Values!B5 -> 1 | D5: =ABS(B5-C5) -> 0 | E5: =IF(D5<0.0005,"PASS","FAIL") -> PASS
A6: ws_selects_D | B6: =Scalarization!M3 -> 0 | C6: =Reference_Values!B6 -> 0 | D6: =ABS(B6-C6) -> 0 | E6: =IF(D6<0.0005,"PASS","FAIL") -> PASS
A7: cheb_D | B7: =Scalarization!M8 -> 3.75 | C7: =Reference_Values!B7 -> 3.75 | D7: =ABS(B7-C7) -> 0 | E7: =IF(D7<0.0005,"PASS","FAIL") -> PASS
A8: cheb_F | B8: =Scalarization!M9 -> 4.5 | C8: =Reference_Values!B8 -> 4.5 | D8: =ABS(B8-C8) -> 0 | E8: =IF(D8<0.0005,"PASS","FAIL") -> PASS
A9: cheb_winner_is_D | B9: =Scalarization!M12 -> 1 | C9: =Reference_Values!B9 -> 1 | D9: =ABS(B9-C9) -> 0 | E9: =IF(D9<0.0005,"PASS","FAIL") -> PASS
A10: x_star_w05 | B10: =Frontier!G2 -> 0.5 | C10: =Reference_Values!B10 -> 0.5 | D10: =ABS(B10-C10) -> 0 | E10: =IF(D10<0.0005,"PASS","FAIL") -> PASS
A11: f1_w05 | B11: =Frontier!G3 -> 0.5 | C11: =Reference_Values!B11 -> 0.5 | D11: =ABS(B11-C11) -> 0 | E11: =IF(D11<0.0005,"PASS","FAIL") -> PASS
A12: f2_w05 | B12: =Frontier!G4 -> 0.75 | C12: =Reference_Values!B12 -> 0.75 | D12: =ABS(B12-C12) -> 0 | E12: =IF(D12<0.0005,"PASS","FAIL") -> PASS
A13: tradeoff_w05 | B13: =Frontier!G5 -> -1 | C13: =Reference_Values!B13 -> -1 | D13: =ABS(B13-C13) -> 0 | E13: =IF(D13<0.0005,"PASS","FAIL") -> PASS
A14: w_corner | B14: =Frontier!G6 -> 0.7 | C14: =Reference_Values!B14 -> 0.7 | D14: =ABS(B14-C14) -> 0 | E14: =IF(D14<0.0005,"PASS","FAIL") -> PASS
A16: All rows must read PASS.
