Workbook

Sheet README
B1: DCT Laboratory — Vol II, Ch 14: Artificial Intelligence for Enterprise Optimization
B2: Seed 26214 · Companion to DCT_V2_Ch14_Lab.ipynb and AXIOM-14 (Vol. II).
B4: Q-learning as a 200-sweep synchronous table (each row one update of all four Q's) with the
B5: policy-correct and value-converged sweeps found by MATCH; the knowledge-augmented assignment
B6: with ontology flags per permutation. LEGEND — pale-gold cells are the editable inputs.

Sheet QLearning
J1: alpha | K1: 0.5
J2: beta | K2: 0.9
A3: sweep | B3: Q(G,gentle) | C3: Q(G,hard) | D3: Q(B,repair) | E3: Q(B,rundown) | F3: max|Q-Q*| | G3: pol ok | H3: err<.01
A4: 0 | B4: 0 | C4: 0 | D4: 0 | E4: 0 | F4: =MAX(ABS(B4-70),ABS(C4-63.1),ABS(D4-59),ABS(E4-55.1)) -> 70 | G4: =IF(AND(B4>C4,D4>E4),1,0) -> 0 | H4: =IF(F4<0.01,1,0) -> 0 | J4: Q*(G,gentle) = 7+0.9*70 | K4: =7/(1-K2) -> 70
A5: 1 | B5: =B4+$K$1*(7+$K$2*MAX(B4,C4)-B4) -> 3.5 | C5: =C4+$K$1*(10+$K$2*MAX(D4,E4)-C4) -> 5 | D5: =D4+$K$1*(-4+$K$2*MAX(B4,C4)-D4) -> -2 | E5: =E4+$K$1*(2+$K$2*MAX(D4,E4)-E4) -> 1 | F5: =MAX(ABS(B5-70),ABS(C5-63.1),ABS(D5-59),ABS(E5-55.1)) -> 66.5 | G5: =IF(AND(B5>C5,D5>E5),1,0) -> 0 | H5: =IF(F5<0.01,1,0) -> 0 | J5: Q*(G,hard) = 10+0.9*59 | K5: =10+K2*59 -> 63.1
A6: 2 | B6: =B5+$K$1*(7+$K$2*MAX(B5,C5)-B5) -> 7.5 | C6: =C5+$K$1*(10+$K$2*MAX(D5,E5)-C5) -> 7.95 | D6: =D5+$K$1*(-4+$K$2*MAX(B5,C5)-D5) -> -0.75 | E6: =E5+$K$1*(2+$K$2*MAX(D5,E5)-E5) -> 1.95 | F6: =MAX(ABS(B6-70),ABS(C6-63.1),ABS(D6-59),ABS(E6-55.1)) -> 62.5 | G6: =IF(AND(B6>C6,D6>E6),1,0) -> 0 | H6: =IF(F6<0.01,1,0) -> 0 | J6: Q*(B,repair) = -4+0.9*70 | K6: =-4+K2*70 -> 59
A7: 3 | B7: =B6+$K$1*(7+$K$2*MAX(B6,C6)-B6) -> 10.8275 | C7: =C6+$K$1*(10+$K$2*MAX(D6,E6)-C6) -> 9.8525 | D7: =D6+$K$1*(-4+$K$2*MAX(B6,C6)-D6) -> 1.2025 | E7: =E6+$K$1*(2+$K$2*MAX(D6,E6)-E6) -> 2.8525 | F7: =MAX(ABS(B7-70),ABS(C7-63.1),ABS(D7-59),ABS(E7-55.1)) -> 59.1725 | G7: =IF(AND(B7>C7,D7>E7),1,0) -> 0 | H7: =IF(F7<0.01,1,0) -> 0 | J7: Q*(B,rundown) = 2+0.9*59 | K7: =2+K2*59 -> 55.1
A8: 4 | B8: =B7+$K$1*(7+$K$2*MAX(B7,C7)-B7) -> 13.786125 | C8: =C7+$K$1*(10+$K$2*MAX(D7,E7)-C7) -> 11.209875 | D8: =D7+$K$1*(-4+$K$2*MAX(B7,C7)-D7) -> 3.473625 | E8: =E7+$K$1*(2+$K$2*MAX(D7,E7)-E7) -> 3.709875 | F8: =MAX(ABS(B8-70),ABS(C8-63.1),ABS(D8-59),ABS(E8-55.1)) -> 56.213875 | G8: =IF(AND(B8>C8,D8>E8),1,0) -> 0 | H8: =IF(F8<0.01,1,0) -> 0 | J8: Q(G,gentle) at sweep 60 | K8: =B64 -> 66.820452
A9: 5 | B9: =B8+$K$1*(7+$K$2*MAX(B8,C8)-B8) -> 16.596819 | C9: =C8+$K$1*(10+$K$2*MAX(D8,E8)-C8) -> 12.274381 | D9: =D8+$K$1*(-4+$K$2*MAX(B8,C8)-D8) -> 5.9405687 | E9: =E8+$K$1*(2+$K$2*MAX(D8,E8)-E8) -> 4.5243813 | F9: =MAX(ABS(B9-70),ABS(C9-63.1),ABS(D9-59),ABS(E9-55.1)) -> 53.403181 | G9: =IF(AND(B9>C9,D9>E9),1,0) -> 1 | H9: =IF(F9<0.01,1,0) -> 0 | J9: max error at sweep 60 | K9: =F64 -> 3.1795482
A10: 6 | B10: =B9+$K$1*(7+$K$2*MAX(B9,C9)-B9) -> 19.266978 | C10: =C9+$K$1*(10+$K$2*MAX(D9,E9)-C9) -> 13.810447 | D10: =D9+$K$1*(-4+$K$2*MAX(B9,C9)-D9) -> 8.4388528 | E10: =E9+$K$1*(2+$K$2*MAX(D9,E9)-E9) -> 5.9354466 | F10: =MAX(ABS(B10-70),ABS(C10-63.1),ABS(D10-59),ABS(E10-55.1)) -> 50.733022 | G10: =IF(AND(B10>C10,D10>E10),1,0) -> 1 | H10: =IF(F10<0.01,1,0) -> 0 | J10: sweep policy first correct | K10: =INDEX(A5:A204,MATCH(1,G5:G204,0)) -> 5
A11: 7 | B11: =B10+$K$1*(7+$K$2*MAX(B10,C10)-B10) -> 21.803629 | C11: =C10+$K$1*(10+$K$2*MAX(D10,E10)-C10) -> 15.702707 | D11: =D10+$K$1*(-4+$K$2*MAX(B10,C10)-D10) -> 10.889566 | E11: =E10+$K$1*(2+$K$2*MAX(D10,E10)-E10) -> 7.765207 | F11: =MAX(ABS(B11-70),ABS(C11-63.1),ABS(D11-59),ABS(E11-55.1)) -> 48.196371 | G11: =IF(AND(B11>C11,D11>E11),1,0) -> 1 | H11: =IF(F11<0.01,1,0) -> 0 | J11: sweeps to err<0.01 | K11: =INDEX(A5:A204,MATCH(1,H5:H204,0)) -> 173
A12: 8 | B12: =B11+$K$1*(7+$K$2*MAX(B11,C11)-B11) -> 24.213447 | C12: =C11+$K$1*(10+$K$2*MAX(D11,E11)-C11) -> 17.751658 | D12: =D11+$K$1*(-4+$K$2*MAX(B11,C11)-D11) -> 13.256416 | E12: =E11+$K$1*(2+$K$2*MAX(D11,E11)-E11) -> 9.7829084 | F12: =MAX(ABS(B12-70),ABS(C12-63.1),ABS(D12-59),ABS(E12-55.1)) -> 45.786553 | G12: =IF(AND(B12>C12,D12>E12),1,0) -> 1 | H12: =IF(F12<0.01,1,0) -> 0 | J12: greedy = (gentle,repair)? | K12: =G204 -> 1
A13: 9 | B13: =B12+$K$1*(7+$K$2*MAX(B12,C12)-B12) -> 26.502775 | C13: =C12+$K$1*(10+$K$2*MAX(D12,E12)-C12) -> 19.841217 | D13: =D12+$K$1*(-4+$K$2*MAX(B12,C12)-D12) -> 15.524259 | E13: =E12+$K$1*(2+$K$2*MAX(D12,E12)-E12) -> 11.856842 | F13: =MAX(ABS(B13-70),ABS(C13-63.1),ABS(D13-59),ABS(E13-55.1)) -> 43.497225 | G13: =IF(AND(B13>C13,D13>E13),1,0) -> 1 | H13: =IF(F13<0.01,1,0) -> 0
A14: 10 | B14: =B13+$K$1*(7+$K$2*MAX(B13,C13)-B13) -> 28.677636 | C14: =C13+$K$1*(10+$K$2*MAX(D13,E13)-C13) -> 21.906525 | D14: =D13+$K$1*(-4+$K$2*MAX(B13,C13)-D13) -> 17.688379 | E14: =E13+$K$1*(2+$K$2*MAX(D13,E13)-E13) -> 13.914338 | F14: =MAX(ABS(B14-70),ABS(C14-63.1),ABS(D14-59),ABS(E14-55.1)) -> 41.322364 | G14: =IF(AND(B14>C14,D14>E14),1,0) -> 1 | H14: =IF(F14<0.01,1,0) -> 0
A15: 11 | B15: =B14+$K$1*(7+$K$2*MAX(B14,C14)-B14) -> 30.743755 | C15: =C14+$K$1*(10+$K$2*MAX(D14,E14)-C14) -> 23.913033 | D15: =D14+$K$1*(-4+$K$2*MAX(B14,C14)-D14) -> 19.749126 | E15: =E14+$K$1*(2+$K$2*MAX(D14,E14)-E14) -> 15.916939 | F15: =MAX(ABS(B15-70),ABS(C15-63.1),ABS(D15-59),ABS(E15-55.1)) -> 39.256245 | G15: =IF(AND(B15>C15,D15>E15),1,0) -> 1 | H15: =IF(F15<0.01,1,0) -> 0
A16: 12 | B16: =B15+$K$1*(7+$K$2*MAX(B15,C15)-B15) -> 32.706567 | C16: =C15+$K$1*(10+$K$2*MAX(D15,E15)-C15) -> 25.843623 | D16: =D15+$K$1*(-4+$K$2*MAX(B15,C15)-D15) -> 21.709252 | E16: =E15+$K$1*(2+$K$2*MAX(D15,E15)-E15) -> 17.845576 | F16: =MAX(ABS(B16-70),ABS(C16-63.1),ABS(D16-59),ABS(E16-55.1)) -> 37.293433 | G16: =IF(AND(B16>C16,D16>E16),1,0) -> 1 | H16: =IF(F16<0.01,1,0) -> 0
A17: 13 | B17: =B16+$K$1*(7+$K$2*MAX(B16,C16)-B16) -> 34.571238 | C17: =C16+$K$1*(10+$K$2*MAX(D16,E16)-C16) -> 27.690975 | D17: =D16+$K$1*(-4+$K$2*MAX(B16,C16)-D16) -> 23.572581 | E17: =E16+$K$1*(2+$K$2*MAX(D16,E16)-E16) -> 19.691952 | F17: =MAX(ABS(B17-70),ABS(C17-63.1),ABS(D17-59),ABS(E17-55.1)) -> 35.428762 | G17: =IF(AND(B17>C17,D17>E17),1,0) -> 1 | H17: =IF(F17<0.01,1,0) -> 0
A18: 14 | B18: =B17+$K$1*(7+$K$2*MAX(B17,C17)-B17) -> 36.342677 | C18: =C17+$K$1*(10+$K$2*MAX(D17,E17)-C17) -> 29.453149 | D18: =D17+$K$1*(-4+$K$2*MAX(B17,C17)-D17) -> 25.343348 | E18: =E17+$K$1*(2+$K$2*MAX(D17,E17)-E17) -> 21.453637 | F18: =MAX(ABS(B18-70),ABS(C18-63.1),ABS(D18-59),ABS(E18-55.1)) -> 33.657323 | G18: =IF(AND(B18>C18,D18>E18),1,0) -> 1 | H18: =IF(F18<0.01,1,0) -> 0
A19: 15 | B19: =B18+$K$1*(7+$K$2*MAX(B18,C18)-B18) -> 38.025543 | C19: =C18+$K$1*(10+$K$2*MAX(D18,E18)-C18) -> 31.131081 | D19: =D18+$K$1*(-4+$K$2*MAX(B18,C18)-D18) -> 27.025878 | E19: =E18+$K$1*(2+$K$2*MAX(D18,E18)-E18) -> 23.131325 | F19: =MAX(ABS(B19-70),ABS(C19-63.1),ABS(D19-59),ABS(E19-55.1)) -> 31.974457 | G19: =IF(AND(B19>C19,D19>E19),1,0) -> 1 | H19: =IF(F19<0.01,1,0) -> 0
A20: 16 | B20: =B19+$K$1*(7+$K$2*MAX(B19,C19)-B19) -> 39.624266 | C20: =C19+$K$1*(10+$K$2*MAX(D19,E19)-C19) -> 32.727186 | D20: =D19+$K$1*(-4+$K$2*MAX(B19,C19)-D19) -> 28.624433 | E20: =E19+$K$1*(2+$K$2*MAX(D19,E19)-E19) -> 24.727308 | F20: =MAX(ABS(B20-70),ABS(C20-63.1),ABS(D20-59),ABS(E20-55.1)) -> 30.375734 | G20: =IF(AND(B20>C20,D20>E20),1,0) -> 1 | H20: =IF(F20<0.01,1,0) -> 0
A21: 17 | B21: =B20+$K$1*(7+$K$2*MAX(B20,C20)-B20) -> 41.143052 | C21: =C20+$K$1*(10+$K$2*MAX(D20,E20)-C20) -> 34.244588 | D21: =D20+$K$1*(-4+$K$2*MAX(B20,C20)-D20) -> 30.143136 | E21: =E20+$K$1*(2+$K$2*MAX(D20,E20)-E20) -> 26.244649 | F21: =MAX(ABS(B21-70),ABS(C21-63.1),ABS(D21-59),ABS(E21-55.1)) -> 28.856948 | G21: =IF(AND(B21>C21,D21>E21),1,0) -> 1 | H21: =IF(F21<0.01,1,0) -> 0
A22: 18 | B22: =B21+$K$1*(7+$K$2*MAX(B21,C21)-B21) -> 42.5859 | C22: =C21+$K$1*(10+$K$2*MAX(D21,E21)-C21) -> 35.686705 | D22: =D21+$K$1*(-4+$K$2*MAX(B21,C21)-D21) -> 31.585942 | E22: =E21+$K$1*(2+$K$2*MAX(D21,E21)-E21) -> 27.686736 | F22: =MAX(ABS(B22-70),ABS(C22-63.1),ABS(D22-59),ABS(E22-55.1)) -> 27.4141 | G22: =IF(AND(B22>C22,D22>E22),1,0) -> 1 | H22: =IF(F22<0.01,1,0) -> 0
A23: 19 | B23: =B22+$K$1*(7+$K$2*MAX(B22,C22)-B22) -> 43.956605 | C23: =C22+$K$1*(10+$K$2*MAX(D22,E22)-C22) -> 37.057026 | D23: =D22+$K$1*(-4+$K$2*MAX(B22,C22)-D22) -> 32.956626 | E23: =E22+$K$1*(2+$K$2*MAX(D22,E22)-E22) -> 29.057042 | F23: =MAX(ABS(B23-70),ABS(C23-63.1),ABS(D23-59),ABS(E23-55.1)) -> 26.043395 | G23: =IF(AND(B23>C23,D23>E23),1,0) -> 1 | H23: =IF(F23<0.01,1,0) -> 0
A24: 20 | B24: =B23+$K$1*(7+$K$2*MAX(B23,C23)-B23) -> 45.258774 | C24: =C23+$K$1*(10+$K$2*MAX(D23,E23)-C23) -> 38.358995 | D24: =D23+$K$1*(-4+$K$2*MAX(B23,C23)-D23) -> 34.258785 | E24: =E23+$K$1*(2+$K$2*MAX(D23,E23)-E23) -> 30.359002 | F24: =MAX(ABS(B24-70),ABS(C24-63.1),ABS(D24-59),ABS(E24-55.1)) -> 24.741226 | G24: =IF(AND(B24>C24,D24>E24),1,0) -> 1 | H24: =IF(F24<0.01,1,0) -> 0
... A204: 200 | B204: =B203+$K$1*(7+$K$2*MAX(B203,C203)-B203) -> 69.997581 | C204: =C203+$K$1*(10+$K$2*MAX(D203,E203)-C203) -> 63.097581 | D204: =D203+$K$1*(-4+$K$2*MAX(B203,C203)-D203) -> 58.997581 | E204: =E203+$K$1*(2+$K$2*MAX(D203,E203)-E203) -> 55.097581 | F204: =MAX(ABS(B204-70),ABS(C204-63.1),ABS(D204-59),ABS(E204-55.1)) -> 0.002419191 | G204: =IF(AND(B204>C204,D204>E204),1,0) -> 1 | H204: =IF(F204<0.01,1,0) -> 1

Sheet KnowledgeAugmented
A1: Value matrix V (vendor rows x product cols)
B2: p1 | C2: p2 | D2: p3
A3: vendor 1 | B3: 8 | C3: 6 | D3: 4
A4: vendor 2 | B4: 5 | C4: 9 | D4: 7
A5: vendor 3 | B5: 6 | C5: 5 | D5: 9
A7: Ontology rules: vendor1 cannot p1; vendor3 cannot p3
A8: assignment v1,v2,v3 | B8: value | C8: uses v1-p1? | D8: uses v3-p3? | E8: feasible | F8: feasible value
A9: p1,p2,p3 | B9: =INDEX($B$3:$D$5,1,1)+INDEX($B$3:$D$5,2,2)+INDEX($B$3:$D$5,3,3) -> 26 | C9: 1 | D9: 1 | E9: =IF(C9+D9=0,1,0) -> 0 | F9: =IF(E9=1,B9,-999) -> -999 | H9: n permutations | I9: =COUNTA(A9:A14) -> 6
A10: p1,p3,p2 | B10: =INDEX($B$3:$D$5,1,1)+INDEX($B$3:$D$5,2,3)+INDEX($B$3:$D$5,3,2) -> 20 | C10: 1 | D10: 0 | E10: =IF(C10+D10=0,1,0) -> 0 | F10: =IF(E10=1,B10,-999) -> -999 | H10: n feasible | I10: =SUM(E9:E14) -> 3
A11: p2,p1,p3 | B11: =INDEX($B$3:$D$5,1,2)+INDEX($B$3:$D$5,2,1)+INDEX($B$3:$D$5,3,3) -> 20 | C11: 0 | D11: 1 | E11: =IF(C11+D11=0,1,0) -> 0 | F11: =IF(E11=1,B11,-999) -> -999 | H11: best unconstrained | I11: =MAX(B9:B14) -> 26
A12: p2,p3,p1 | B12: =INDEX($B$3:$D$5,1,2)+INDEX($B$3:$D$5,2,3)+INDEX($B$3:$D$5,3,1) -> 19 | C12: 0 | D12: 0 | E12: =IF(C12+D12=0,1,0) -> 1 | F12: =IF(E12=1,B12,-999) -> 19 | H12: best hybrid (feasible) | I12: =MAX(F9:F14) -> 19
A13: p3,p1,p2 | B13: =INDEX($B$3:$D$5,1,3)+INDEX($B$3:$D$5,2,1)+INDEX($B$3:$D$5,3,2) -> 14 | C13: 0 | D13: 0 | E13: =IF(C13+D13=0,1,0) -> 1 | F13: =IF(E13=1,B13,-999) -> 14 | H13: greedy picks: v1->p1, v2->p2, v3->p3 | I13: =IF(AND(MATCH(MAX(B3:D3),B3:D3,0)=1,MATCH(MAX(B5:D5),B5:D5,0)=3),1,0) -> 1
A14: p3,p2,p1 | B14: =INDEX($B$3:$D$5,1,3)+INDEX($B$3:$D$5,2,2)+INDEX($B$3:$D$5,3,1) -> 19 | C14: 0 | D14: 0 | E14: =IF(C14+D14=0,1,0) -> 1 | F14: =IF(E14=1,B14,-999) -> 19 | H14: greedy violates ontology | I14: =I13 -> 1

Sheet Reference_Values
A1: Checkpoint | B1: Engine value | C1: Meaning
A2: Q_gg_star | B2: 70 | C2: Chapter 7's 70, relearned
A3: Q_gh_star | B3: 63.1 | C3: 10+0.9*59
A4: Q_br_star | B4: 59 | C4: Chapter 7's 59
A5: Q_bd_star | B5: 55.1 | C5: 2+0.9*59
A6: Q_gg_60 | B6: 66.8205 | C6: Still climbing at sweep 60
A7: q_err_60 | B7: 3.1795 | C7: Values far from done
A8: sweep_policy_correct | B8: 5 | C8: Behaviorally right at 5
A9: sweeps_to_q_tol | B9: 173 | C9: Values right at 173 — a 35x gap
A10: greedy_matches_ch7 | B10: 1 | C10: Model-free = model-based
A11: n_perms | B11: 6 | C11: Six assignments
A12: n_feasible | B12: 3 | C12: The ontology's pruning
A13: best_unconstrained | B13: 26 | C13: The diagonal, 26
... A15: greedy_violates | B15: 1 | C15: Naive AI trips the first rule

Sheet Checks
A1: Checkpoint | B1: Workbook formula value | C1: Engine value | D1: |diff| | E1: Status
A2: Q_gg_star | B2: =QLearning!K4 -> 70 | C2: =Reference_Values!B2 -> 70 | D2: =ABS(B2-C2) -> 0 | E2: =IF(D2<0.0005,"PASS","FAIL") -> PASS
A3: Q_gh_star | B3: =QLearning!K5 -> 63.1 | C3: =Reference_Values!B3 -> 63.1 | D3: =ABS(B3-C3) -> 0 | E3: =IF(D3<0.0005,"PASS","FAIL") -> PASS
A4: Q_br_star | B4: =QLearning!K6 -> 59 | C4: =Reference_Values!B4 -> 59 | D4: =ABS(B4-C4) -> 0 | E4: =IF(D4<0.0005,"PASS","FAIL") -> PASS
A5: Q_bd_star | B5: =QLearning!K7 -> 55.1 | C5: =Reference_Values!B5 -> 55.1 | D5: =ABS(B5-C5) -> 0 | E5: =IF(D5<0.0005,"PASS","FAIL") -> PASS
A6: Q_gg_60 | B6: =QLearning!K8 -> 66.820452 | C6: =Reference_Values!B6 -> 66.8205 | D6: =ABS(B6-C6) -> 4.8249664e-05 | E6: =IF(D6<0.0005,"PASS","FAIL") -> PASS
A7: q_err_60 | B7: =QLearning!K9 -> 3.1795482 | C7: =Reference_Values!B7 -> 3.1795 | D7: =ABS(B7-C7) -> 4.8249664e-05 | E7: =IF(D7<0.0005,"PASS","FAIL") -> PASS
A8: sweep_policy_correct | B8: =QLearning!K10 -> 5 | C8: =Reference_Values!B8 -> 5 | D8: =ABS(B8-C8) -> 0 | E8: =IF(D8<0.0005,"PASS","FAIL") -> PASS
A9: sweeps_to_q_tol | B9: =QLearning!K11 -> 173 | C9: =Reference_Values!B9 -> 173 | D9: =ABS(B9-C9) -> 0 | E9: =IF(D9<0.0005,"PASS","FAIL") -> PASS
A10: greedy_matches_ch7 | B10: =QLearning!K12 -> 1 | C10: =Reference_Values!B10 -> 1 | D10: =ABS(B10-C10) -> 0 | E10: =IF(D10<0.0005,"PASS","FAIL") -> PASS
A11: n_perms | B11: =KnowledgeAugmented!I9 -> 6 | C11: =Reference_Values!B11 -> 6 | D11: =ABS(B11-C11) -> 0 | E11: =IF(D11<0.0005,"PASS","FAIL") -> PASS
A12: n_feasible | B12: =KnowledgeAugmented!I10 -> 3 | C12: =Reference_Values!B12 -> 3 | D12: =ABS(B12-C12) -> 0 | E12: =IF(D12<0.0005,"PASS","FAIL") -> PASS
A13: best_unconstrained | B13: =KnowledgeAugmented!I11 -> 26 | C13: =Reference_Values!B13 -> 26 | D13: =ABS(B13-C13) -> 0 | E13: =IF(D13<0.0005,"PASS","FAIL") -> PASS
A14: best_hybrid | B14: =KnowledgeAugmented!I12 -> 19 | C14: =Reference_Values!B14 -> 19 | D14: =ABS(B14-C14) -> 0 | E14: =IF(D14<0.0005,"PASS","FAIL") -> PASS
A15: greedy_violates | B15: =KnowledgeAugmented!I14 -> 1 | C15: =Reference_Values!B15 -> 1 | D15: =ABS(B15-C15) -> 0 | E15: =IF(D15<0.0005,"PASS","FAIL") -> PASS
A17: All rows must read PASS.
